BEGIN:VCALENDAR
VERSION:2.0
PRODID:-//wp-events-plugin.com//7.2.3.1//EN
TZID:Europe/London
X-WR-TIMEZONE:Europe/London
BEGIN:VEVENT
UID:2847@larevistadelapalma.com
DTSTART:20240914T193000Z
DTEND:20240914T210000Z
DTSTAMP:20240430T115814Z
URL:https://www.larevistadelapalma.com/events/nueva-fecha-tomatelo-con-hum
 or-con-dario-lopez-los-llanos-de-aridane/
SUMMARY:NUEVA FECHA: ‘Tómatelo con Humor’ con Darío López\, Los Llan
 os de Aridane
DESCRIPTION:Regresa después de varios años ‘Tómatelo con Humor’\, qu
 e traerá a La Palma algunos de los mejores cómicos de las islas\, como D
 arío López\, Omayra Cazorla\, Petite Lorena y Kike Pérez.\n\nEl espect
 áculo estaba programado para el 8 de marzo y fue aplazado.\n\nEl Ayuntami
 ento de Los Llanos de Aridane recupera Tómatelo con Humor\, un ciclo de 
 monólogos que traerá a artistas de la talla de Darío López\, Omaira Ca
 zorla\, Petite Lorena y Kike Pérez.\n\nEste ciclo de monólogos no se cel
 ebraba desde la pandemia. “Tómatelo con Humor es una apuesta por el ta
 lento canario\, por la cultura y por dinamizar el municipio.\nComprar entr
 adas&gt\;&gt\;\nEl último espectáculo confirmado en esta primera mitad d
 el año es el del conejero Kike Pérez. El 17 de mayo estará en Los Llano
 s de Aridane uno de los  humoristas canarios más influyentes.
ATTACH;FMTTYPE=image/jpeg:https://www.larevistadelapalma.com/wp-content/up
 loads/2024/02/dario-lopez.jpg
CATEGORIES:Espectáculos
LOCATION:Parque Conrado Hernández\, Los Llanos de Aridane\, Avenida Eusebi
 o Barreto\, Los Llanos de Aridane\, 38760\, España
GEO:28.657763;-17.90271
X-APPLE-STRUCTURED-LOCATION;VALUE=URI;X-ADDRESS=Avenida Eusebio Barreto\, L
 os Llanos de Aridane\, 38760\, España;X-APPLE-RADIUS=100;X-TITLE=Parque C
 onrado Hernández\, Los Llanos de Aridane:geo:28.657763,-17.90271
END:VEVENT
END:VCALENDARBEGIN:VCALENDAR
VERSION:2.0
PRODID:-//wp-events-plugin.com//7.2.3.1//EN
TZID:Europe/London
X-WR-TIMEZONE:Europe/London
BEGIN:VEVENT
UID:2847@larevistadelapalma.com
DTSTART:20240914T193000Z
DTEND:20240914T210000Z
DTSTAMP:20240430T115814Z
URL:https://www.larevistadelapalma.com/events/nueva-fecha-tomatelo-con-hum
 or-con-dario-lopez-los-llanos-de-aridane/
SUMMARY:NUEVA FECHA: ‘Tómatelo con Humor’ con Darío López\, Los Llan
 os de Aridane
DESCRIPTION:Regresa después de varios años ‘Tómatelo con Humor’\, qu
 e traerá a La Palma algunos de los mejores cómicos de las islas\, como D
 arío López\, Omayra Cazorla\, Petite Lorena y Kike Pérez.\n\nEl espect
 áculo estaba programado para el 8 de marzo y fue aplazado.\n\nEl Ayuntami
 ento de Los Llanos de Aridane recupera Tómatelo con Humor\, un ciclo de 
 monólogos que traerá a artistas de la talla de Darío López\, Omaira Ca
 zorla\, Petite Lorena y Kike Pérez.\n\nEste ciclo de monólogos no se cel
 ebraba desde la pandemia. “Tómatelo con Humor es una apuesta por el ta
 lento canario\, por la cultura y por dinamizar el municipio.\nComprar entr
 adas&gt\;&gt\;\nEl último espectáculo confirmado en esta primera mitad d
 el año es el del conejero Kike Pérez. El 17 de mayo estará en Los Llano
 s de Aridane uno de los  humoristas canarios más influyentes.
ATTACH;FMTTYPE=image/jpeg:https://www.larevistadelapalma.com/wp-content/up
 loads/2024/02/dario-lopez.jpg
CATEGORIES:Espectáculos
LOCATION:Parque Conrado Hernández\, Los Llanos de Aridane\, Avenida Eusebi
 o Barreto\, Los Llanos de Aridane\, 38760\, España
GEO:28.657763;-17.90271
X-APPLE-STRUCTURED-LOCATION;VALUE=URI;X-ADDRESS=Avenida Eusebio Barreto\, L
 os Llanos de Aridane\, 38760\, España;X-APPLE-RADIUS=100;X-TITLE=Parque C
 onrado Hernández\, Los Llanos de Aridane:geo:28.657763,-17.90271
END:VEVENT
END:VCALENDAR