BEGIN:VCALENDAR
VERSION:2.0
PRODID:-//wp-events-plugin.com//7.2.3.1//EN
TZID:Europe/London
X-WR-TIMEZONE:Europe/London
BEGIN:VEVENT
UID:3090@larevistadelapalma.com
DTSTART:20240706T190000Z
DTEND:20240706T203000Z
DTSTAMP:20240701T145001Z
URL:https://www.larevistadelapalma.com/events/nueva-sesion-del-ciclo-de-na
 rracion-la-solera-cuenta-con-maria-jesus-batista/
SUMMARY:Nueva sesión del ciclo de narración La Solera Cuenta con Maria Je
 sús Batista
DESCRIPTION:\nUna nueva cita con el Ciclo "La Solera cuenta"\, con la narra
 dora palmera María Jesús Batista\, el sábado 6 de julio\, a las 20:00ho
 ras\, con una sesión para adultos en el Museo Casa Roja.\n\n\n\nEntrada l
 ibre hasta completar aforo (Con reserva\, en el teléfono  628014138).\n\
 n
ATTACH;FMTTYPE=image/jpeg:https://www.larevistadelapalma.com/wp-content/up
 loads/2024/07/La-solera-con-Maria-J.-Batista.jpg
CATEGORIES:Cine y Literatura,Literatura
LOCATION:Museo Casa Roja\, C. Maximiliano Pérez Díaz\, 23\, Villa de Mazo
 \, 38730\, España
GEO:28.607435;-17.77894
X-APPLE-STRUCTURED-LOCATION;VALUE=URI;X-ADDRESS=C. Maximiliano Pérez Díaz
 \, 23\, Villa de Mazo\, 38730\, España;X-APPLE-RADIUS=100;X-TITLE=Museo C
 asa Roja:geo:28.607435,-17.77894
END:VEVENT
END:VCALENDARBEGIN:VCALENDAR
VERSION:2.0
PRODID:-//wp-events-plugin.com//7.2.3.1//EN
TZID:Europe/London
X-WR-TIMEZONE:Europe/London
BEGIN:VEVENT
UID:3090@larevistadelapalma.com
DTSTART:20240706T190000Z
DTEND:20240706T203000Z
DTSTAMP:20240701T145001Z
URL:https://www.larevistadelapalma.com/events/nueva-sesion-del-ciclo-de-na
 rracion-la-solera-cuenta-con-maria-jesus-batista/
SUMMARY:Nueva sesión del ciclo de narración La Solera Cuenta con Maria Je
 sús Batista
DESCRIPTION:\nUna nueva cita con el Ciclo "La Solera cuenta"\, con la narra
 dora palmera María Jesús Batista\, el sábado 6 de julio\, a las 20:00ho
 ras\, con una sesión para adultos en el Museo Casa Roja.\n\n\n\nEntrada l
 ibre hasta completar aforo (Con reserva\, en el teléfono  628014138).\n\
 n
ATTACH;FMTTYPE=image/jpeg:https://www.larevistadelapalma.com/wp-content/up
 loads/2024/07/La-solera-con-Maria-J.-Batista.jpg
CATEGORIES:Cine y Literatura,Literatura
LOCATION:Museo Casa Roja\, C. Maximiliano Pérez Díaz\, 23\, Villa de Mazo
 \, 38730\, España
GEO:28.607435;-17.77894
X-APPLE-STRUCTURED-LOCATION;VALUE=URI;X-ADDRESS=C. Maximiliano Pérez Díaz
 \, 23\, Villa de Mazo\, 38730\, España;X-APPLE-RADIUS=100;X-TITLE=Museo C
 asa Roja:geo:28.607435,-17.77894
END:VEVENT
END:VCALENDAR