BEGIN:VCALENDAR
VERSION:2.0
PRODID:-//wp-events-plugin.com//7.2.3.1//EN
TZID:Europe/London
X-WR-TIMEZONE:Europe/London
BEGIN:VEVENT
UID:3998@larevistadelapalma.com
DTSTART:20251011T200000Z
DTEND:20251011T213000Z
DTSTAMP:20251007T183423Z
URL:https://www.larevistadelapalma.com/events/nuit-en-danse-de-ballets-de-
 tenerife/
SUMMARY:"Nuit en danse"\, de Ballets de Tenerife
DESCRIPTION:Ballets de Tenerife en un espectáculo que entrelaza danza clá
 sica\, neoclásica y contemporánea en tres piezas llenas de belleza\, res
 iliencia y emoción bajo el título 'Nuit en Danse'.\n\nEl viaje comienza 
 con un homenaje a Chopin con piano en vivo\, sigue con una obra que rinde 
 tributo a La Palma tras la erupción del Tajogaite y culmina con una refle
 xión coreográfica sobre el paso del tiempo y las estaciones.
ATTACH;FMTTYPE=image/jpeg:https://www.larevistadelapalma.com/wp-content/up
 loads/2025/10/Nuit-en-danse-Ballets-de-Tenerife.jpg
CATEGORIES:Danza,Espectáculos
LOCATION:Casa Masieu\, Tazacorte\, s/n\, C. Miguel de Unamuno\, Tazacorte\,
  38770\, España
GEO:28.641866;-17.936446
X-APPLE-STRUCTURED-LOCATION;VALUE=URI;X-ADDRESS=s/n\, C. Miguel de Unamuno\
 , Tazacorte\, 38770\, España;X-APPLE-RADIUS=100;X-TITLE=Casa Masieu\, Taz
 acorte:geo:28.641866,-17.936446
END:VEVENT
END:VCALENDARBEGIN:VCALENDAR
VERSION:2.0
PRODID:-//wp-events-plugin.com//7.2.3.1//EN
TZID:Europe/London
X-WR-TIMEZONE:Europe/London
BEGIN:VEVENT
UID:3998@larevistadelapalma.com
DTSTART:20251011T200000Z
DTEND:20251011T213000Z
DTSTAMP:20251007T183423Z
URL:https://www.larevistadelapalma.com/events/nuit-en-danse-de-ballets-de-
 tenerife/
SUMMARY:"Nuit en danse"\, de Ballets de Tenerife
DESCRIPTION:Ballets de Tenerife en un espectáculo que entrelaza danza clá
 sica\, neoclásica y contemporánea en tres piezas llenas de belleza\, res
 iliencia y emoción bajo el título 'Nuit en Danse'.\n\nEl viaje comienza 
 con un homenaje a Chopin con piano en vivo\, sigue con una obra que rinde 
 tributo a La Palma tras la erupción del Tajogaite y culmina con una refle
 xión coreográfica sobre el paso del tiempo y las estaciones.
ATTACH;FMTTYPE=image/jpeg:https://www.larevistadelapalma.com/wp-content/up
 loads/2025/10/Nuit-en-danse-Ballets-de-Tenerife.jpg
CATEGORIES:Danza,Espectáculos
LOCATION:Casa Masieu\, Tazacorte\, s/n\, C. Miguel de Unamuno\, Tazacorte\,
  38770\, España
GEO:28.641866;-17.936446
X-APPLE-STRUCTURED-LOCATION;VALUE=URI;X-ADDRESS=s/n\, C. Miguel de Unamuno\
 , Tazacorte\, 38770\, España;X-APPLE-RADIUS=100;X-TITLE=Casa Masieu\, Taz
 acorte:geo:28.641866,-17.936446
END:VEVENT
END:VCALENDAR