BEGIN:VCALENDAR
VERSION:2.0
PRODID:-//wp-events-plugin.com//7.2.3.1//EN
TZID:Europe/London
X-WR-TIMEZONE:Europe/London
BEGIN:VEVENT
UID:3923@larevistadelapalma.com
DTSTART:20250822T180000Z
DTEND:20250822T224500Z
DTSTAMP:20250819T203853Z
URL:https://www.larevistadelapalma.com/events/ocean-drive-22-agosto/
SUMMARY:Juana La Cubana\, Grajasound y Elvira\, en el Ocean Drive
DESCRIPTION:El viernes 22\, en el kiosco Ocean Drive con la música del dj 
 Juana La Cubana\, que nos visitará desde Tenerife\, Grajasound y Elvira. 
 \n\nPuesta de Sol\, mojitos y la mejor música.
ATTACH;FMTTYPE=image/jpeg:https://www.larevistadelapalma.com/wp-content/up
 loads/2025/08/Ocean-Drive-Viernes-22-agosto.jpg
CATEGORIES:Festivales/Fiestas,Música
LOCATION:Playa de Puerto Naos\, Puerto Naos\, Los Llanos de Aridane \, 3876
 9\, España
GEO:28.587524;-17.910531
X-APPLE-STRUCTURED-LOCATION;VALUE=URI;X-ADDRESS=Puerto Naos\, Los Llanos de
  Aridane \, 38769\, España;X-APPLE-RADIUS=100;X-TITLE=Playa de Puerto Nao
 s:geo:28.587524,-17.910531
END:VEVENT
END:VCALENDARBEGIN:VCALENDAR
VERSION:2.0
PRODID:-//wp-events-plugin.com//7.2.3.1//EN
TZID:Europe/London
X-WR-TIMEZONE:Europe/London
BEGIN:VEVENT
UID:3923@larevistadelapalma.com
DTSTART:20250822T180000Z
DTEND:20250822T224500Z
DTSTAMP:20250819T203853Z
URL:https://www.larevistadelapalma.com/events/ocean-drive-22-agosto/
SUMMARY:Juana La Cubana\, Grajasound y Elvira\, en el Ocean Drive
DESCRIPTION:El viernes 22\, en el kiosco Ocean Drive con la música del dj 
 Juana La Cubana\, que nos visitará desde Tenerife\, Grajasound y Elvira. 
 \n\nPuesta de Sol\, mojitos y la mejor música.
ATTACH;FMTTYPE=image/jpeg:https://www.larevistadelapalma.com/wp-content/up
 loads/2025/08/Ocean-Drive-Viernes-22-agosto.jpg
CATEGORIES:Festivales/Fiestas,Música
LOCATION:Playa de Puerto Naos\, Puerto Naos\, Los Llanos de Aridane \, 3876
 9\, España
GEO:28.587524;-17.910531
X-APPLE-STRUCTURED-LOCATION;VALUE=URI;X-ADDRESS=Puerto Naos\, Los Llanos de
  Aridane \, 38769\, España;X-APPLE-RADIUS=100;X-TITLE=Playa de Puerto Nao
 s:geo:28.587524,-17.910531
END:VEVENT
END:VCALENDAR