BEGIN:VCALENDAR
VERSION:2.0
PRODID:-//wp-events-plugin.com//7.2.3.1//EN
TZID:Europe/London
X-WR-TIMEZONE:Europe/London
BEGIN:VEVENT
UID:87@larevistadelapalma.com
DTSTART:20230804T170000Z
DTEND:20230804T194500Z
DTSTAMP:20230803T145903Z
URL:https://www.larevistadelapalma.com/events/octava-edicion-del-dia-del-c
 orsario-en-santa-cruz-de-la-palma/
SUMMARY:Octava edición del Día del Corsario en Santa Cruz de La Palma
DESCRIPTION:Vuelve la ruta teatralizada que revive el ataque de Pata de Pal
 o a Santa Cruz de La Palma.
ATTACH;FMTTYPE=image/jpeg:https://www.larevistadelapalma.com/wp-content/up
 loads/2023/06/Dia-del-corsario-octava-edicion-23.png
CATEGORIES:Otras propuestas,Varios
LOCATION:Municipio de Santa Cruz de La Palma\, Santa Cruz de La Palma \, Sa
 nta Cruz de La Palma \, 38700\, España
GEO:28.688757;-17.765102
X-APPLE-STRUCTURED-LOCATION;VALUE=URI;X-ADDRESS=Santa Cruz de La Palma \, S
 anta Cruz de La Palma \, 38700\, España;X-APPLE-RADIUS=100;X-TITLE=Munici
 pio de Santa Cruz de La Palma:geo:28.688757,-17.765102
END:VEVENT
END:VCALENDARBEGIN:VCALENDAR
VERSION:2.0
PRODID:-//wp-events-plugin.com//7.2.3.1//EN
TZID:Europe/London
X-WR-TIMEZONE:Europe/London
BEGIN:VEVENT
UID:87@larevistadelapalma.com
DTSTART:20230804T170000Z
DTEND:20230804T194500Z
DTSTAMP:20230803T145903Z
URL:https://www.larevistadelapalma.com/events/octava-edicion-del-dia-del-c
 orsario-en-santa-cruz-de-la-palma/
SUMMARY:Octava edición del Día del Corsario en Santa Cruz de La Palma
DESCRIPTION:Vuelve la ruta teatralizada que revive el ataque de Pata de Pal
 o a Santa Cruz de La Palma.
ATTACH;FMTTYPE=image/jpeg:https://www.larevistadelapalma.com/wp-content/up
 loads/2023/06/Dia-del-corsario-octava-edicion-23.png
CATEGORIES:Otras propuestas,Varios
LOCATION:Municipio de Santa Cruz de La Palma\, Santa Cruz de La Palma \, Sa
 nta Cruz de La Palma \, 38700\, España
GEO:28.688757;-17.765102
X-APPLE-STRUCTURED-LOCATION;VALUE=URI;X-ADDRESS=Santa Cruz de La Palma \, S
 anta Cruz de La Palma \, 38700\, España;X-APPLE-RADIUS=100;X-TITLE=Munici
 pio de Santa Cruz de La Palma:geo:28.688757,-17.765102
END:VEVENT
END:VCALENDAR