BEGIN:VCALENDAR
VERSION:2.0
PRODID:-//wp-events-plugin.com//7.2.3.1//EN
TZID:Europe/London
X-WR-TIMEZONE:Europe/London
BEGIN:VEVENT
UID:4005@larevistadelapalma.com
DTSTART:20251012T090000Z
DTEND:20251012T133000Z
DTSTAMP:20251007T222324Z
URL:https://www.larevistadelapalma.com/events/octouber-fest-2025-barlovent
 o/
SUMMARY:Octouber Fest 2025- Barlovento
DESCRIPTION:\nNueva edición del "Octouber Fest"en el Mercadillo de Barlove
 nto. \n\n 	4° Concurso de Lanzamiento de Birras.\n 	Tributo a Fito &amp\;
  Fitipaldis con el grupo "La Boina de Fito".\n 	Cata guiada de cervezas.\n
  	Venta de cervezas premium de importación y artesanales.\n 	Sorteo de lo
 tes de productos del Mercadillo.\n\n\n\nY\, como siempre los mejores y má
 s frescos productos de la comarca.\n\n
ATTACH;FMTTYPE=image/jpeg:https://www.larevistadelapalma.com/wp-content/up
 loads/2025/10/Octouber-fest-25.jpg
CATEGORIES:Ferias y mercados,Fiestas populares,Otras propuestas,Varios
LOCATION:Mercadillo de Barlovento\, Plaza Ntra. Sra. Rosario\, 1\, Barloven
 to\, 38726\, España
GEO:28.829323;-17.803327
X-APPLE-STRUCTURED-LOCATION;VALUE=URI;X-ADDRESS=Plaza Ntra. Sra. Rosario\, 
 1\, Barlovento\, 38726\, España;X-APPLE-RADIUS=100;X-TITLE=Mercadillo de 
 Barlovento:geo:28.829323,-17.803327
END:VEVENT
END:VCALENDARBEGIN:VCALENDAR
VERSION:2.0
PRODID:-//wp-events-plugin.com//7.2.3.1//EN
TZID:Europe/London
X-WR-TIMEZONE:Europe/London
BEGIN:VEVENT
UID:4005@larevistadelapalma.com
DTSTART:20251012T090000Z
DTEND:20251012T133000Z
DTSTAMP:20251007T222324Z
URL:https://www.larevistadelapalma.com/events/octouber-fest-2025-barlovent
 o/
SUMMARY:Octouber Fest 2025- Barlovento
DESCRIPTION:\nNueva edición del "Octouber Fest"en el Mercadillo de Barlove
 nto. \n\n 	4° Concurso de Lanzamiento de Birras.\n 	Tributo a Fito &amp\;
  Fitipaldis con el grupo "La Boina de Fito".\n 	Cata guiada de cervezas.\n
  	Venta de cervezas premium de importación y artesanales.\n 	Sorteo de lo
 tes de productos del Mercadillo.\n\n\n\nY\, como siempre los mejores y má
 s frescos productos de la comarca.\n\n
ATTACH;FMTTYPE=image/jpeg:https://www.larevistadelapalma.com/wp-content/up
 loads/2025/10/Octouber-fest-25.jpg
CATEGORIES:Ferias y mercados,Fiestas populares,Otras propuestas,Varios
LOCATION:Mercadillo de Barlovento\, Plaza Ntra. Sra. Rosario\, 1\, Barloven
 to\, 38726\, España
GEO:28.829323;-17.803327
X-APPLE-STRUCTURED-LOCATION;VALUE=URI;X-ADDRESS=Plaza Ntra. Sra. Rosario\, 
 1\, Barlovento\, 38726\, España;X-APPLE-RADIUS=100;X-TITLE=Mercadillo de 
 Barlovento:geo:28.829323,-17.803327
END:VEVENT
END:VCALENDAR