BEGIN:VCALENDAR
VERSION:2.0
PRODID:-//wp-events-plugin.com//7.2.3.1//EN
TZID:Europe/London
X-WR-TIMEZONE:Europe/London
BEGIN:VEVENT
UID:4008@larevistadelapalma.com
DTSTART:20251011T140000Z
DTEND:20251011T221500Z
DTSTAMP:20251007T233406Z
URL:https://www.larevistadelapalma.com/events/oktoberfest-en-el-bar-august
 o/
SUMMARY:Oktoberfest en el Bar Augusto
DESCRIPTION:El sábado 11 de octubre regresa una nueva edición del Oktober
 fest del Bar Augusto. Desde las 15:00h la tropa de Germán y Bea te espera
 rán. Para animar la romería les visita desde Tenerife Sistah_Vibes cuyas
  palabras fueron: "Como se lía en el Augusto\, no se lía en toda Canaria
 s". El resto del equipo lo formarán Grajasound y Elvira.
ATTACH;FMTTYPE=image/jpeg:https://www.larevistadelapalma.com/wp-content/up
 loads/2025/10/augusto-october-fest-25.jpg
CATEGORIES:Festivales/Fiestas,Música
LOCATION:Municipio de Los Llanos de Aridane\, Los Llanos de Aridane\, Los L
 lanos de Aridane\, 38760\, España
GEO:28.660236;-17.913187
X-APPLE-STRUCTURED-LOCATION;VALUE=URI;X-ADDRESS=Los Llanos de Aridane\, Los
  Llanos de Aridane\, 38760\, España;X-APPLE-RADIUS=100;X-TITLE=Municipio 
 de Los Llanos de Aridane:geo:28.660236,-17.913187
END:VEVENT
END:VCALENDARBEGIN:VCALENDAR
VERSION:2.0
PRODID:-//wp-events-plugin.com//7.2.3.1//EN
TZID:Europe/London
X-WR-TIMEZONE:Europe/London
BEGIN:VEVENT
UID:4008@larevistadelapalma.com
DTSTART:20251011T140000Z
DTEND:20251011T221500Z
DTSTAMP:20251007T233406Z
URL:https://www.larevistadelapalma.com/events/oktoberfest-en-el-bar-august
 o/
SUMMARY:Oktoberfest en el Bar Augusto
DESCRIPTION:El sábado 11 de octubre regresa una nueva edición del Oktober
 fest del Bar Augusto. Desde las 15:00h la tropa de Germán y Bea te espera
 rán. Para animar la romería les visita desde Tenerife Sistah_Vibes cuyas
  palabras fueron: "Como se lía en el Augusto\, no se lía en toda Canaria
 s". El resto del equipo lo formarán Grajasound y Elvira.
ATTACH;FMTTYPE=image/jpeg:https://www.larevistadelapalma.com/wp-content/up
 loads/2025/10/augusto-october-fest-25.jpg
CATEGORIES:Festivales/Fiestas,Música
LOCATION:Municipio de Los Llanos de Aridane\, Los Llanos de Aridane\, Los L
 lanos de Aridane\, 38760\, España
GEO:28.660236;-17.913187
X-APPLE-STRUCTURED-LOCATION;VALUE=URI;X-ADDRESS=Los Llanos de Aridane\, Los
  Llanos de Aridane\, 38760\, España;X-APPLE-RADIUS=100;X-TITLE=Municipio 
 de Los Llanos de Aridane:geo:28.660236,-17.913187
END:VEVENT
END:VCALENDAR