BEGIN:VCALENDAR
VERSION:2.0
PRODID:-//wp-events-plugin.com//7.2.3.1//EN
TZID:Europe/London
X-WR-TIMEZONE:Europe/London
BEGIN:VEVENT
UID:3538@larevistadelapalma.com
DTSTART:20250111T190000Z
DTEND:20250111T210000Z
DTSTAMP:20250107T194140Z
URL:https://www.larevistadelapalma.com/events/oleandole-lo-mejor-del-flame
 nco-y-el-jazz-en-tazacorte/
SUMMARY:"Oleándole"\, lo mejor del flamenco y el jazz\, en Tazacorte
DESCRIPTION:Este sábado 11 de enero de 2025\, el Centro Cultural de Tazaco
 rte será testigo de un espectáculo único que fusiona lo mejor del flame
 nco y el jazz.\n\nEntradas desde 18€\, disponibles en Entradium.com
ATTACH;FMTTYPE=image/jpeg:https://www.larevistadelapalma.com/wp-content/up
 loads/2025/01/Oleandole.jpg
CATEGORIES:Festivales/Fiestas,Música
LOCATION:Casa de la cultura de Tazacorte\, C. Primero de Mayo\, 7\, Tazacor
 te\, 38770\, España
GEO:28.640111;-17.932736
X-APPLE-STRUCTURED-LOCATION;VALUE=URI;X-ADDRESS=C. Primero de Mayo\, 7\, Ta
 zacorte\, 38770\, España;X-APPLE-RADIUS=100;X-TITLE=Casa de la cultura de
  Tazacorte:geo:28.640111,-17.932736
END:VEVENT
END:VCALENDARBEGIN:VCALENDAR
VERSION:2.0
PRODID:-//wp-events-plugin.com//7.2.3.1//EN
TZID:Europe/London
X-WR-TIMEZONE:Europe/London
BEGIN:VEVENT
UID:3538@larevistadelapalma.com
DTSTART:20250111T190000Z
DTEND:20250111T210000Z
DTSTAMP:20250107T194140Z
URL:https://www.larevistadelapalma.com/events/oleandole-lo-mejor-del-flame
 nco-y-el-jazz-en-tazacorte/
SUMMARY:"Oleándole"\, lo mejor del flamenco y el jazz\, en Tazacorte
DESCRIPTION:Este sábado 11 de enero de 2025\, el Centro Cultural de Tazaco
 rte será testigo de un espectáculo único que fusiona lo mejor del flame
 nco y el jazz.\n\nEntradas desde 18€\, disponibles en Entradium.com
ATTACH;FMTTYPE=image/jpeg:https://www.larevistadelapalma.com/wp-content/up
 loads/2025/01/Oleandole.jpg
CATEGORIES:Festivales/Fiestas,Música
LOCATION:Casa de la cultura de Tazacorte\, C. Primero de Mayo\, 7\, Tazacor
 te\, 38770\, España
GEO:28.640111;-17.932736
X-APPLE-STRUCTURED-LOCATION;VALUE=URI;X-ADDRESS=C. Primero de Mayo\, 7\, Ta
 zacorte\, 38770\, España;X-APPLE-RADIUS=100;X-TITLE=Casa de la cultura de
  Tazacorte:geo:28.640111,-17.932736
END:VEVENT
END:VCALENDAR