BEGIN:VCALENDAR
VERSION:2.0
PRODID:-//wp-events-plugin.com//7.2.3.1//EN
TZID:Europe/London
X-WR-TIMEZONE:Europe/London
BEGIN:VEVENT
UID:3943@larevistadelapalma.com
DTSTART:20250828T200000Z
DTEND:20250828T213000Z
DTSTAMP:20250827T214057Z
URL:https://www.larevistadelapalma.com/events/olga-cerpa-y-mestisay-en-tij
 arafe-con-atlantic-sounds/
SUMMARY:Olga Cerpa y Mestisay en Tijarafe\, con "Atlantic Sounds"
DESCRIPTION:\nUn concierto que nos lleva a un viaje sonoro a través del At
 lántico: desde las raíces canarias y los ecos africanos\, hasta los ritm
 os de América Latina. Atlantic Sounds es un homenaje a la riqueza musical
  que une continentes a través del océano y celebra nuestras raíces con 
 elegancia\, emoción y belleza.\n\n\n\n
ATTACH;FMTTYPE=image/jpeg:https://www.larevistadelapalma.com/wp-content/up
 loads/2025/08/Olga-Cerpa-Tijarafe.jpg
CATEGORIES:Conciertos,Música
LOCATION:Plaza Candelaria en Tijarafe\, Plaza de La Candelaria \, Tijarafe\
 , 38780\, España
GEO:28.711392;-17.955151
X-APPLE-STRUCTURED-LOCATION;VALUE=URI;X-ADDRESS=Plaza de La Candelaria \, T
 ijarafe\, 38780\, España;X-APPLE-RADIUS=100;X-TITLE=Plaza Candelaria en T
 ijarafe:geo:28.711392,-17.955151
END:VEVENT
END:VCALENDARBEGIN:VCALENDAR
VERSION:2.0
PRODID:-//wp-events-plugin.com//7.2.3.1//EN
TZID:Europe/London
X-WR-TIMEZONE:Europe/London
BEGIN:VEVENT
UID:3943@larevistadelapalma.com
DTSTART:20250828T200000Z
DTEND:20250828T213000Z
DTSTAMP:20250827T214057Z
URL:https://www.larevistadelapalma.com/events/olga-cerpa-y-mestisay-en-tij
 arafe-con-atlantic-sounds/
SUMMARY:Olga Cerpa y Mestisay en Tijarafe\, con "Atlantic Sounds"
DESCRIPTION:\nUn concierto que nos lleva a un viaje sonoro a través del At
 lántico: desde las raíces canarias y los ecos africanos\, hasta los ritm
 os de América Latina. Atlantic Sounds es un homenaje a la riqueza musical
  que une continentes a través del océano y celebra nuestras raíces con 
 elegancia\, emoción y belleza.\n\n\n\n
ATTACH;FMTTYPE=image/jpeg:https://www.larevistadelapalma.com/wp-content/up
 loads/2025/08/Olga-Cerpa-Tijarafe.jpg
CATEGORIES:Conciertos,Música
LOCATION:Plaza Candelaria en Tijarafe\, Plaza de La Candelaria \, Tijarafe\
 , 38780\, España
GEO:28.711392;-17.955151
X-APPLE-STRUCTURED-LOCATION;VALUE=URI;X-ADDRESS=Plaza de La Candelaria \, T
 ijarafe\, 38780\, España;X-APPLE-RADIUS=100;X-TITLE=Plaza Candelaria en T
 ijarafe:geo:28.711392,-17.955151
END:VEVENT
END:VCALENDAR