BEGIN:VCALENDAR
VERSION:2.0
PRODID:-//wp-events-plugin.com//7.2.3.1//EN
TZID:Europe/London
X-WR-TIMEZONE:Europe/London
BEGIN:VEVENT
UID:3238@larevistadelapalma.com
DTSTART:20240921T200000Z
DTEND:20240921T213000Z
DTSTAMP:20240918T151919Z
URL:https://www.larevistadelapalma.com/events/olga-cerpa-y-mestisay-presen
 tan-atlantic-sounds-en-garafia/
SUMMARY:Olga Cerpa y Mestisay presentan "Atlantic Sounds"\, en Garafía
DESCRIPTION:El próximo 21 de septiembre Olga Cerpa y Mestisay estarán en 
 Garafía\, dentro de la programación del Festival de La Palabra\, present
 ando su trabajo "Atlantic Sounds".\n\nSe trata de un recopilatorio que com
 prende canciones de su catálogo discográfico de los últimos quince año
 s y que\, en su edición digital\, cuenta con una portada en la que partic
 ipó el artista grancanario Caco Manrique de Lara. Al libreto de su edici
 ón física se le suman dibujos digitales realizados por el pintor isleño
  Jose Antonio García Álvarez\, amigo del grupo desde hace décadas.
ATTACH;FMTTYPE=image/jpeg:https://www.larevistadelapalma.com/wp-content/up
 loads/2024/09/olga-cerpa-y-Mestisay.jpg
CATEGORIES:Conciertos,Música
LOCATION:Casa de La Cultura de Santo Domingo\, Garafía\, Calle Diaz Juarez
 \, 21\,\, Garafía\, 38787\, España
GEO:28.790649;-17.917631
X-APPLE-STRUCTURED-LOCATION;VALUE=URI;X-ADDRESS=Calle Diaz Juarez\, 21\,\, 
 Garafía\, 38787\, España;X-APPLE-RADIUS=100;X-TITLE=Casa de La Cultura d
 e Santo Domingo\, Garafía:geo:28.790649,-17.917631
END:VEVENT
END:VCALENDARBEGIN:VCALENDAR
VERSION:2.0
PRODID:-//wp-events-plugin.com//7.2.3.1//EN
TZID:Europe/London
X-WR-TIMEZONE:Europe/London
BEGIN:VEVENT
UID:3238@larevistadelapalma.com
DTSTART:20240921T200000Z
DTEND:20240921T213000Z
DTSTAMP:20240918T151919Z
URL:https://www.larevistadelapalma.com/events/olga-cerpa-y-mestisay-presen
 tan-atlantic-sounds-en-garafia/
SUMMARY:Olga Cerpa y Mestisay presentan "Atlantic Sounds"\, en Garafía
DESCRIPTION:El próximo 21 de septiembre Olga Cerpa y Mestisay estarán en 
 Garafía\, dentro de la programación del Festival de La Palabra\, present
 ando su trabajo "Atlantic Sounds".\n\nSe trata de un recopilatorio que com
 prende canciones de su catálogo discográfico de los últimos quince año
 s y que\, en su edición digital\, cuenta con una portada en la que partic
 ipó el artista grancanario Caco Manrique de Lara. Al libreto de su edici
 ón física se le suman dibujos digitales realizados por el pintor isleño
  Jose Antonio García Álvarez\, amigo del grupo desde hace décadas.
ATTACH;FMTTYPE=image/jpeg:https://www.larevistadelapalma.com/wp-content/up
 loads/2024/09/olga-cerpa-y-Mestisay.jpg
CATEGORIES:Conciertos,Música
LOCATION:Casa de La Cultura de Santo Domingo\, Garafía\, Calle Diaz Juarez
 \, 21\,\, Garafía\, 38787\, España
GEO:28.790649;-17.917631
X-APPLE-STRUCTURED-LOCATION;VALUE=URI;X-ADDRESS=Calle Diaz Juarez\, 21\,\, 
 Garafía\, 38787\, España;X-APPLE-RADIUS=100;X-TITLE=Casa de La Cultura d
 e Santo Domingo\, Garafía:geo:28.790649,-17.917631
END:VEVENT
END:VCALENDAR