BEGIN:VCALENDAR
VERSION:2.0
PRODID:-//wp-events-plugin.com//7.2.3.1//EN
TZID:Europe/London
X-WR-TIMEZONE:Europe/London
BEGIN:VEVENT
UID:168@larevistadelapalma.com
DTSTART:20230725T210000Z
DTEND:20230725T223000Z
DTSTAMP:20230714T225954Z
URL:https://www.larevistadelapalma.com/events/omayra-cazorla-brena-baja/
SUMMARY:Festival de sátira y humor con Omayra Cazorla
DESCRIPTION:\nBreña Baja celebra su XVIII Festival de sátira y humor\, en
  esta ocasión con Omayra Cazorla.\nOmayra\, canaria\, cómica y monologui
 sta\, se ha abierto camino a través de las redes sociales contándonos su
 s ocurrencias con su peculiar estilo directo y espontáneo.  El próximo 
 25 de julio estará en La Palma\, con su último show que se llama "A la e
 stampía"\nEnmarcado en la programación de las Fiestas de Santiago Apóst
 ol y Santa Ana.\n\n\n\n\n\n\n\n\n\n&nbsp\;\n\n\n\n\n\n\n\n\n\n\nVer esta p
 ublicación en Instagram\n\n\n\n\n\n\n\n\n\n\n\n\n\n\n\n\n\n\n\n\n\n\n&nbs
 p\;\nUna publicación compartida de Omayra Cazorla (@omayracazorla)\n\n\n
ATTACH;FMTTYPE=image/jpeg:https://www.larevistadelapalma.com/wp-content/up
 loads/2023/07/Omayra-Cazorla.jpg
CATEGORIES:Espectáculos
LOCATION:Plaza de las Madres\, San José\, Breña Baja\, 38712\, España
GEO:28.642202;-17.775828
X-APPLE-STRUCTURED-LOCATION;VALUE=URI;X-ADDRESS=San José\, Breña Baja\, 3
 8712\, España;X-APPLE-RADIUS=100;X-TITLE=Plaza de las Madres:geo:28.64220
 2,-17.775828
END:VEVENT
END:VCALENDARBEGIN:VCALENDAR
VERSION:2.0
PRODID:-//wp-events-plugin.com//7.2.3.1//EN
TZID:Europe/London
X-WR-TIMEZONE:Europe/London
BEGIN:VEVENT
UID:168@larevistadelapalma.com
DTSTART:20230725T210000Z
DTEND:20230725T223000Z
DTSTAMP:20230714T225954Z
URL:https://www.larevistadelapalma.com/events/omayra-cazorla-brena-baja/
SUMMARY:Festival de sátira y humor con Omayra Cazorla
DESCRIPTION:\nBreña Baja celebra su XVIII Festival de sátira y humor\, en
  esta ocasión con Omayra Cazorla.\nOmayra\, canaria\, cómica y monologui
 sta\, se ha abierto camino a través de las redes sociales contándonos su
 s ocurrencias con su peculiar estilo directo y espontáneo.  El próximo 
 25 de julio estará en La Palma\, con su último show que se llama "A la e
 stampía"\nEnmarcado en la programación de las Fiestas de Santiago Apóst
 ol y Santa Ana.\n\n\n\n\n\n\n\n\n\n&nbsp\;\n\n\n\n\n\n\n\n\n\n\nVer esta p
 ublicación en Instagram\n\n\n\n\n\n\n\n\n\n\n\n\n\n\n\n\n\n\n\n\n\n\n&nbs
 p\;\nUna publicación compartida de Omayra Cazorla (@omayracazorla)\n\n\n
ATTACH;FMTTYPE=image/jpeg:https://www.larevistadelapalma.com/wp-content/up
 loads/2023/07/Omayra-Cazorla.jpg
CATEGORIES:Espectáculos
LOCATION:Plaza de las Madres\, San José\, Breña Baja\, 38712\, España
GEO:28.642202;-17.775828
X-APPLE-STRUCTURED-LOCATION;VALUE=URI;X-ADDRESS=San José\, Breña Baja\, 3
 8712\, España;X-APPLE-RADIUS=100;X-TITLE=Plaza de las Madres:geo:28.64220
 2,-17.775828
END:VEVENT
END:VCALENDAR