BEGIN:VCALENDAR
VERSION:2.0
PRODID:-//wp-events-plugin.com//7.2.3.1//EN
TZID:Europe/London
X-WR-TIMEZONE:Europe/London
BEGIN:VEVENT
UID:3891@larevistadelapalma.com
DTSTART:20250723T190000Z
DTEND:20250723T220000Z
DTSTAMP:20250723T012957Z
URL:https://www.larevistadelapalma.com/events/oncierto-de-tajadre-y-los-be
 nahoare/
SUMMARY:Concierto de Tajadre y Los Benahoare
DESCRIPTION:\nSanta Cruz de La Palma celebra un concierto incluido en al ag
 enda de las Fiestas Lustrales. La Agrupación Tajadre y Los Benahoare actu
 arán este miércoles\, 23 de julio\, a las 20:00 horas\, en el recinto po
 pular\, con entrada libre. \nParticiparán el cuerpo de Baile Danzar de Lo
 s Alisios\, y  Javier Hernández.\n\n\n"Quizás este sea una de las actua
 ciones que más ilusión nos hace.Por muchas razones: por compartir escena
 rio con la Agrupacion Tajadre\, todo un referente de la música en La Pal
 ma\, por volver a ver bailar a los amigos de Danzar de Los Alisios\, que 
 lo hacen con tanta calidad\, por ponerle música a la voz de Javier Hern
 ández\, nuestro Javi\, siempre un placer..."\nLos Benahoare.\n
ATTACH;FMTTYPE=image/jpeg:https://www.larevistadelapalma.com/wp-content/up
 loads/2025/07/tajadre-benahoare.jpg
CATEGORIES:Conciertos,Música
LOCATION:Municipio de Santa Cruz de La Palma\, Santa Cruz de La Palma \, Sa
 nta Cruz de La Palma \, 38700\, España
GEO:28.688757;-17.765102
X-APPLE-STRUCTURED-LOCATION;VALUE=URI;X-ADDRESS=Santa Cruz de La Palma \, S
 anta Cruz de La Palma \, 38700\, España;X-APPLE-RADIUS=100;X-TITLE=Munici
 pio de Santa Cruz de La Palma:geo:28.688757,-17.765102
END:VEVENT
END:VCALENDARBEGIN:VCALENDAR
VERSION:2.0
PRODID:-//wp-events-plugin.com//7.2.3.1//EN
TZID:Europe/London
X-WR-TIMEZONE:Europe/London
BEGIN:VEVENT
UID:3891@larevistadelapalma.com
DTSTART:20250723T190000Z
DTEND:20250723T220000Z
DTSTAMP:20250723T012957Z
URL:https://www.larevistadelapalma.com/events/oncierto-de-tajadre-y-los-be
 nahoare/
SUMMARY:Concierto de Tajadre y Los Benahoare
DESCRIPTION:\nSanta Cruz de La Palma celebra un concierto incluido en al ag
 enda de las Fiestas Lustrales. La Agrupación Tajadre y Los Benahoare actu
 arán este miércoles\, 23 de julio\, a las 20:00 horas\, en el recinto po
 pular\, con entrada libre. \nParticiparán el cuerpo de Baile Danzar de Lo
 s Alisios\, y  Javier Hernández.\n\n\n"Quizás este sea una de las actua
 ciones que más ilusión nos hace.Por muchas razones: por compartir escena
 rio con la Agrupacion Tajadre\, todo un referente de la música en La Pal
 ma\, por volver a ver bailar a los amigos de Danzar de Los Alisios\, que 
 lo hacen con tanta calidad\, por ponerle música a la voz de Javier Hern
 ández\, nuestro Javi\, siempre un placer..."\nLos Benahoare.\n
ATTACH;FMTTYPE=image/jpeg:https://www.larevistadelapalma.com/wp-content/up
 loads/2025/07/tajadre-benahoare.jpg
CATEGORIES:Conciertos,Música
LOCATION:Municipio de Santa Cruz de La Palma\, Santa Cruz de La Palma \, Sa
 nta Cruz de La Palma \, 38700\, España
GEO:28.688757;-17.765102
X-APPLE-STRUCTURED-LOCATION;VALUE=URI;X-ADDRESS=Santa Cruz de La Palma \, S
 anta Cruz de La Palma \, 38700\, España;X-APPLE-RADIUS=100;X-TITLE=Munici
 pio de Santa Cruz de La Palma:geo:28.688757,-17.765102
END:VEVENT
END:VCALENDAR