BEGIN:VCALENDAR
VERSION:2.0
PRODID:-//wp-events-plugin.com//7.2.3.1//EN
TZID:Europe/London
X-WR-TIMEZONE:Europe/London
BEGIN:VEVENT
UID:3825@larevistadelapalma.com
DTSTART:20250628T160000Z
DTEND:20250628T224500Z
DTSTAMP:20250619T132735Z
URL:https://www.larevistadelapalma.com/events/orgullo-tazacorte-25/
SUMMARY:VI edición de la Marcha del Orgullo\, Tazacorte
DESCRIPTION:\nEl Día del Orgullo\, tendrá lugar el próximo 28 de junio e
 n el municipio de Tazacorte.\n\n\nEste año\, con el lema ‘Ser LGTBI+ m
 ás allá de las grandes ciudades’\, se recuerda los retos a los que se 
 enfrentan las personas de este colectivo en entornos más rurales.\n\n\n\n
 \n&nbsp\;\n\n\n\n\n\n\n\n\n\n\nVer esta publicación en Instagram\n\n\n\n\
 n\n\n\n\n\n\n\n\n\n\n\n\n\n\n\n\n\n\n&nbsp\;\nUna publicación compartida 
 de Colectivo Violetas LGBTI+ (@violetaslapalma)\n\n\n\nSerá una marcha or
 ganizada por el Colectivo Violetas\, que el próximo sábado 28 de junio p
 artirá desde el atrio del ayuntamiento de Tazacorte\, continuando hacia l
 a Avenida de la Villa por las calles del centro de la localidad.\nAl final
 izar música y celebración con actuación de Melody en la Avenida La Cons
 titución.\nEste año el cartel parte de una imagen histórica: la fotogra
 fía de la manifestación del 1 de mayo de 1936 en Tazacorte\, una de las 
 más importantes en la historia social y política de la isla. Sobre esa i
 magen se ha realizado una intervención simbólica: las banderas originale
 s\, comunistas y republicanas\, han sido sustituidas por la bandera LGTBIQ
 +. No es un simple cambio estético\, sino un homenaje y una forma de tend
 er un puente entre luchas que\, aunque distintas en el tiempo\, comparten 
 un mismo pulso: la defensa de la dignidad\, la justicia y los derechos de 
 todas las personas.\n\n\n\nUna marcha que será el colofón de la semana s
 ocial del Isla Bonita Love Festival.\n\n\nLa programación de la semana co
 ntará con distintas charlas\, mesas redondas con la igualdad de género y
  la inclusión como temáticas principales y un gran fin de fiesta el sáb
 ado 28 en Tazacorte con la Manifestación del Orgullo.\n\n\nLa semana soci
 al del Love\, organizada por la empresa Sodepal\, es una iniciativa que pr
 etende promover la libertad sexual\, la igualdad y la tolerancia a través
  de diferentes encuentros y actividades. Podrás acudir presencialmente a 
 las ponencias\, charlas y encuentros\, o seguir el contenido en YouTube a 
 través del canal Isla Bonita Love Festival\, el Facebook de Sodepal y med
 iante el podcast de Spotify Love Podcast\n\n\nLa Semana comienza el martes
  24\, en el Palacio Salazar de S/C de La Palma\, con un homenaje a las ví
 ctimas de la Ley de Peligrosidad Social que fueron encarceladas en la isla
  de La Palma. Contarán con Juana María Ortega\, una de las mujeres trans
  que estuvieron encarceladas en La Palma a finales de los sesenta\, y le a
 compañará el investigador Víctor Ramírez\, autor del libro ‘Peligros
 as y Revolucionarias’.\nEl miércoles 25\, en la Casa de La Cultura de L
 os Llanos\, tendrá lugar la proyección del documental 'Zero\, la revista
  que sacó del armario a un país' y una charla con su director\, Miguel 
 Ángel López.\nEl jueves 26\, también en la Casa de La Cultura de Los Ll
 anos\, se celebra la VII Convención Los veinte años de matrimonios igua
 litarios. Participan Miquel A. Fernández\, Conchi Zerolo\; Toni Poveda. 
 También participará Carla Antonelli\, senadora y activista trans.\nEl vi
 ernes 27\, en la Casa de La Cultura de Los Llanos\, el debate "Desafíos d
 el futuro" abordará el tema de las realidades no binarias\, el espectro a
 sexual\, la discriminación que sufren las mujeres trans. \nA partir de l
 as 19:00 horas\, estreno del monólogo 'Hablar no sirve de nada'\, de Bob 
 Pop\, que además de participar en la agenda de la Semana Social\, formar
 á también parte de la Marcha del Orgullo 2025 que se celebrará el sába
 do 28 de junio en Tazacorte y que también podrá seguirse en directo.\n\n
 \n\n\n\n\n\n\n&nbsp\;\n\n\n
ATTACH;FMTTYPE=image/jpeg:https://www.larevistadelapalma.com/wp-content/up
 loads/2025/06/Orgullo-Tazacorte-25.jpg
CATEGORIES:Otras propuestas,Varios
LOCATION:Municipio de Tazacorte\, Villa y Puerto de Tazacorte\, Tazacorte\,
  38770\, España
GEO:28.642917;-17.936888
X-APPLE-STRUCTURED-LOCATION;VALUE=URI;X-ADDRESS=Villa y Puerto de Tazacorte
 \, Tazacorte\, 38770\, España;X-APPLE-RADIUS=100;X-TITLE=Municipio de Taz
 acorte:geo:28.642917,-17.936888
END:VEVENT
END:VCALENDARBEGIN:VCALENDAR
VERSION:2.0
PRODID:-//wp-events-plugin.com//7.2.3.1//EN
TZID:Europe/London
X-WR-TIMEZONE:Europe/London
BEGIN:VEVENT
UID:3825@larevistadelapalma.com
DTSTART:20250628T160000Z
DTEND:20250628T224500Z
DTSTAMP:20250619T132735Z
URL:https://www.larevistadelapalma.com/events/orgullo-tazacorte-25/
SUMMARY:VI edición de la Marcha del Orgullo\, Tazacorte
DESCRIPTION:\nEl Día del Orgullo\, tendrá lugar el próximo 28 de junio e
 n el municipio de Tazacorte.\n\n\nEste año\, con el lema ‘Ser LGTBI+ m
 ás allá de las grandes ciudades’\, se recuerda los retos a los que se 
 enfrentan las personas de este colectivo en entornos más rurales.\n\n\n\n
 \n&nbsp\;\n\n\n\n\n\n\n\n\n\n\nVer esta publicación en Instagram\n\n\n\n\
 n\n\n\n\n\n\n\n\n\n\n\n\n\n\n\n\n\n\n&nbsp\;\nUna publicación compartida 
 de Colectivo Violetas LGBTI+ (@violetaslapalma)\n\n\n\nSerá una marcha or
 ganizada por el Colectivo Violetas\, que el próximo sábado 28 de junio p
 artirá desde el atrio del ayuntamiento de Tazacorte\, continuando hacia l
 a Avenida de la Villa por las calles del centro de la localidad.\nAl final
 izar música y celebración con actuación de Melody en la Avenida La Cons
 titución.\nEste año el cartel parte de una imagen histórica: la fotogra
 fía de la manifestación del 1 de mayo de 1936 en Tazacorte\, una de las 
 más importantes en la historia social y política de la isla. Sobre esa i
 magen se ha realizado una intervención simbólica: las banderas originale
 s\, comunistas y republicanas\, han sido sustituidas por la bandera LGTBIQ
 +. No es un simple cambio estético\, sino un homenaje y una forma de tend
 er un puente entre luchas que\, aunque distintas en el tiempo\, comparten 
 un mismo pulso: la defensa de la dignidad\, la justicia y los derechos de 
 todas las personas.\n\n\n\nUna marcha que será el colofón de la semana s
 ocial del Isla Bonita Love Festival.\n\n\nLa programación de la semana co
 ntará con distintas charlas\, mesas redondas con la igualdad de género y
  la inclusión como temáticas principales y un gran fin de fiesta el sáb
 ado 28 en Tazacorte con la Manifestación del Orgullo.\n\n\nLa semana soci
 al del Love\, organizada por la empresa Sodepal\, es una iniciativa que pr
 etende promover la libertad sexual\, la igualdad y la tolerancia a través
  de diferentes encuentros y actividades. Podrás acudir presencialmente a 
 las ponencias\, charlas y encuentros\, o seguir el contenido en YouTube a 
 través del canal Isla Bonita Love Festival\, el Facebook de Sodepal y med
 iante el podcast de Spotify Love Podcast\n\n\nLa Semana comienza el martes
  24\, en el Palacio Salazar de S/C de La Palma\, con un homenaje a las ví
 ctimas de la Ley de Peligrosidad Social que fueron encarceladas en la isla
  de La Palma. Contarán con Juana María Ortega\, una de las mujeres trans
  que estuvieron encarceladas en La Palma a finales de los sesenta\, y le a
 compañará el investigador Víctor Ramírez\, autor del libro ‘Peligros
 as y Revolucionarias’.\nEl miércoles 25\, en la Casa de La Cultura de L
 os Llanos\, tendrá lugar la proyección del documental 'Zero\, la revista
  que sacó del armario a un país' y una charla con su director\, Miguel 
 Ángel López.\nEl jueves 26\, también en la Casa de La Cultura de Los Ll
 anos\, se celebra la VII Convención Los veinte años de matrimonios igua
 litarios. Participan Miquel A. Fernández\, Conchi Zerolo\; Toni Poveda. 
 También participará Carla Antonelli\, senadora y activista trans.\nEl vi
 ernes 27\, en la Casa de La Cultura de Los Llanos\, el debate "Desafíos d
 el futuro" abordará el tema de las realidades no binarias\, el espectro a
 sexual\, la discriminación que sufren las mujeres trans. \nA partir de l
 as 19:00 horas\, estreno del monólogo 'Hablar no sirve de nada'\, de Bob 
 Pop\, que además de participar en la agenda de la Semana Social\, formar
 á también parte de la Marcha del Orgullo 2025 que se celebrará el sába
 do 28 de junio en Tazacorte y que también podrá seguirse en directo.\n\n
 \n\n\n\n\n\n\n&nbsp\;\n\n\n
ATTACH;FMTTYPE=image/jpeg:https://www.larevistadelapalma.com/wp-content/up
 loads/2025/06/Orgullo-Tazacorte-25.jpg
CATEGORIES:Otras propuestas,Varios
LOCATION:Municipio de Tazacorte\, Villa y Puerto de Tazacorte\, Tazacorte\,
  38770\, España
GEO:28.642917;-17.936888
X-APPLE-STRUCTURED-LOCATION;VALUE=URI;X-ADDRESS=Villa y Puerto de Tazacorte
 \, Tazacorte\, 38770\, España;X-APPLE-RADIUS=100;X-TITLE=Municipio de Taz
 acorte:geo:28.642917,-17.936888
END:VEVENT
END:VCALENDAR