BEGIN:VCALENDAR
VERSION:2.0
PRODID:-//wp-events-plugin.com//7.2.3.1//EN
TZID:Europe/London
X-WR-TIMEZONE:Europe/London
BEGIN:VEVENT
UID:3264@larevistadelapalma.com
DTSTART:20241010T193000Z
DTEND:20241010T210000Z
DTSTAMP:20240925T171904Z
URL:https://www.larevistadelapalma.com/events/panza-de-burro-de-andrea-abr
 eu-por-delirium-teatro/
SUMMARY:"Panza de Burro"\, de Andrea Abreu\, por Delirium Teatro
DESCRIPTION:Panza de Burro desgrana de una manera descarnada y graciosa\, e
 l mundo de dos amigas de 10 años\, en un barrio del norte de Tenerife\, e
 n la ladera del volcán. \n"Panza de burro"\, es la representación de la
  compañía Delirium Teatro\, de la aclamada novela del mismo nombre de An
 drea Abreu.\nDe entre todas las cosas que me ha podido dar esta novela\, p
 uede que la que más me sorprendió y me sigue sorprendiendo es el hecho d
 e que alguien quiera llevarla al teatro. Cuando Delirium Teatro me dijo qu
 e quería ponerla en escena\, mi primer sentimiento fue de susto. ¿Cómo 
 diablos lo van a hacer? Se les fue el baifo. La segunda\, de ilusión aneg
 ante\, de absoluta entrega: conozco el trabajo de esta compañía\, la sig
 o desde hace mucho tiempo. Conozco a las personas que la integran\, admiro
  sus ideas\, su total pacto con la literatura\, el arte\, la conversación
 . Respeto su trabajo y creo en su compromiso con la cuestión canaria. Por
  supuesto tengo miedo\, todavía no he salido de la tienda\, pero tengo al
 egría y convicción porque creo en las personas que creen en lo que hacen
 \, y Delirium cree en Panza y yo creo en Delirium. Nunca pensé en una obr
 a de teatro sobre este libro -tampoco pensé en una traducción al neerlan
 dés o en la compra de los derechos para el cine-\, pero si hubiese tenido
  que pensarla por mi propia cuenta\, hubiese sido exactamente como está s
 iendo: con esta gente\, con esta sensación de imprudencia. Por experienci
 a sé\, ya me lo enseñó esta novela\, que de los disparates nacen grande
 s cosas. Y yo quiero ver este disparate\, tengo que verlo.\nComprar entrad
 as &gt\;&gt\;\nLas dos niñas Shit e Isora\, viven en familias desestructu
 radas bajo la tutela de un mundo femenino de abuelas.\n\nShit\, cuyos padr
 es ausentes trabajan en la construcción y en los hoteles del Sur\, idolat
 ra y sigue a ciegas a Isora que es huérfana y padece trastorno alimentari
 o.\n\nAmbas pasan el verano entre el aburrimiento\, buscando alguien que l
 as lleve a la playa y tratando de saciar y comprender el naciente deseo se
 xual que las sacude y arremete constantemente\, tierra adentro\, confinada
 s bajo la magua de un melancólico manto de nubes.\n\n\n\n&nbsp\;
ATTACH;FMTTYPE=image/jpeg:https://www.larevistadelapalma.com/wp-content/up
 loads/2024/09/PANZAdeBURROJPG-scaled-1.jpg
CATEGORIES:Espectáculos,Teatro
LOCATION:Teatro Circo de Marte\, Calle Virgen de La Luz\, 5\, Santa Cruz de
  La Palma\, 38700\, España
GEO:28.682989;-17.765755
X-APPLE-STRUCTURED-LOCATION;VALUE=URI;X-ADDRESS=Calle Virgen de La Luz\, 5\
 , Santa Cruz de La Palma\, 38700\, España;X-APPLE-RADIUS=100;X-TITLE=Teat
 ro Circo de Marte:geo:28.682989,-17.765755
END:VEVENT
END:VCALENDARBEGIN:VCALENDAR
VERSION:2.0
PRODID:-//wp-events-plugin.com//7.2.3.1//EN
TZID:Europe/London
X-WR-TIMEZONE:Europe/London
BEGIN:VEVENT
UID:3264@larevistadelapalma.com
DTSTART:20241010T193000Z
DTEND:20241010T210000Z
DTSTAMP:20240925T171904Z
URL:https://www.larevistadelapalma.com/events/panza-de-burro-de-andrea-abr
 eu-por-delirium-teatro/
SUMMARY:"Panza de Burro"\, de Andrea Abreu\, por Delirium Teatro
DESCRIPTION:Panza de Burro desgrana de una manera descarnada y graciosa\, e
 l mundo de dos amigas de 10 años\, en un barrio del norte de Tenerife\, e
 n la ladera del volcán. \n"Panza de burro"\, es la representación de la
  compañía Delirium Teatro\, de la aclamada novela del mismo nombre de An
 drea Abreu.\nDe entre todas las cosas que me ha podido dar esta novela\, p
 uede que la que más me sorprendió y me sigue sorprendiendo es el hecho d
 e que alguien quiera llevarla al teatro. Cuando Delirium Teatro me dijo qu
 e quería ponerla en escena\, mi primer sentimiento fue de susto. ¿Cómo 
 diablos lo van a hacer? Se les fue el baifo. La segunda\, de ilusión aneg
 ante\, de absoluta entrega: conozco el trabajo de esta compañía\, la sig
 o desde hace mucho tiempo. Conozco a las personas que la integran\, admiro
  sus ideas\, su total pacto con la literatura\, el arte\, la conversación
 . Respeto su trabajo y creo en su compromiso con la cuestión canaria. Por
  supuesto tengo miedo\, todavía no he salido de la tienda\, pero tengo al
 egría y convicción porque creo en las personas que creen en lo que hacen
 \, y Delirium cree en Panza y yo creo en Delirium. Nunca pensé en una obr
 a de teatro sobre este libro -tampoco pensé en una traducción al neerlan
 dés o en la compra de los derechos para el cine-\, pero si hubiese tenido
  que pensarla por mi propia cuenta\, hubiese sido exactamente como está s
 iendo: con esta gente\, con esta sensación de imprudencia. Por experienci
 a sé\, ya me lo enseñó esta novela\, que de los disparates nacen grande
 s cosas. Y yo quiero ver este disparate\, tengo que verlo.\nComprar entrad
 as &gt\;&gt\;\nLas dos niñas Shit e Isora\, viven en familias desestructu
 radas bajo la tutela de un mundo femenino de abuelas.\n\nShit\, cuyos padr
 es ausentes trabajan en la construcción y en los hoteles del Sur\, idolat
 ra y sigue a ciegas a Isora que es huérfana y padece trastorno alimentari
 o.\n\nAmbas pasan el verano entre el aburrimiento\, buscando alguien que l
 as lleve a la playa y tratando de saciar y comprender el naciente deseo se
 xual que las sacude y arremete constantemente\, tierra adentro\, confinada
 s bajo la magua de un melancólico manto de nubes.\n\n\n\n&nbsp\;
ATTACH;FMTTYPE=image/jpeg:https://www.larevistadelapalma.com/wp-content/up
 loads/2024/09/PANZAdeBURROJPG-scaled-1.jpg
CATEGORIES:Espectáculos,Teatro
LOCATION:Teatro Circo de Marte\, Calle Virgen de La Luz\, 5\, Santa Cruz de
  La Palma\, 38700\, España
GEO:28.682989;-17.765755
X-APPLE-STRUCTURED-LOCATION;VALUE=URI;X-ADDRESS=Calle Virgen de La Luz\, 5\
 , Santa Cruz de La Palma\, 38700\, España;X-APPLE-RADIUS=100;X-TITLE=Teat
 ro Circo de Marte:geo:28.682989,-17.765755
END:VEVENT
END:VCALENDAR