BEGIN:VCALENDAR
VERSION:2.0
PRODID:-//wp-events-plugin.com//7.2.3.1//EN
TZID:Europe/London
X-WR-TIMEZONE:Europe/London
BEGIN:VEVENT
UID:2723@larevistadelapalma.com
DTSTART:20240127T203000Z
DTEND:20240127T220000Z
DTSTAMP:20240112T125839Z
URL:https://www.larevistadelapalma.com/events/parranda-la-palma-6o-guatequ
 e-de-invierno/
SUMMARY:Parranda La Palma- 6º Guateque de Invierno
DESCRIPTION:Parranda La Palma nos invita a su 6º Guateque de Invierno. Un 
 "bailable" "Ayer\, hoy y Siempre" con temas de Fórmula V\, Los Diablos\, 
 Pecos\, Georgie Dann\, Rafaela Carrá\, Billo's Caracas\, Orquesta Maracai
 bo... y muchos más.\n\n\n
ATTACH;FMTTYPE=image/jpeg:https://www.larevistadelapalma.com/wp-content/up
 loads/2024/01/Parranda-La-Palma.jpg
CATEGORIES:Conciertos,Música
LOCATION:Plaza de Santo Domingo en Santa Cruz de La Palma\, Plaza Santo Dom
 ingo\, Santa Cruz de La Palma\, 38700\, España
GEO:28.682691;-17.766334
X-APPLE-STRUCTURED-LOCATION;VALUE=URI;X-ADDRESS=Plaza Santo Domingo\, Santa
  Cruz de La Palma\, 38700\, España;X-APPLE-RADIUS=100;X-TITLE=Plaza de Sa
 nto Domingo en Santa Cruz de La Palma:geo:28.682691,-17.766334
END:VEVENT
END:VCALENDARBEGIN:VCALENDAR
VERSION:2.0
PRODID:-//wp-events-plugin.com//7.2.3.1//EN
TZID:Europe/London
X-WR-TIMEZONE:Europe/London
BEGIN:VEVENT
UID:2723@larevistadelapalma.com
DTSTART:20240127T203000Z
DTEND:20240127T220000Z
DTSTAMP:20240112T125839Z
URL:https://www.larevistadelapalma.com/events/parranda-la-palma-6o-guatequ
 e-de-invierno/
SUMMARY:Parranda La Palma- 6º Guateque de Invierno
DESCRIPTION:Parranda La Palma nos invita a su 6º Guateque de Invierno. Un 
 "bailable" "Ayer\, hoy y Siempre" con temas de Fórmula V\, Los Diablos\, 
 Pecos\, Georgie Dann\, Rafaela Carrá\, Billo's Caracas\, Orquesta Maracai
 bo... y muchos más.\n\n\n
ATTACH;FMTTYPE=image/jpeg:https://www.larevistadelapalma.com/wp-content/up
 loads/2024/01/Parranda-La-Palma.jpg
CATEGORIES:Conciertos,Música
LOCATION:Plaza de Santo Domingo en Santa Cruz de La Palma\, Plaza Santo Dom
 ingo\, Santa Cruz de La Palma\, 38700\, España
GEO:28.682691;-17.766334
X-APPLE-STRUCTURED-LOCATION;VALUE=URI;X-ADDRESS=Plaza Santo Domingo\, Santa
  Cruz de La Palma\, 38700\, España;X-APPLE-RADIUS=100;X-TITLE=Plaza de Sa
 nto Domingo en Santa Cruz de La Palma:geo:28.682691,-17.766334
END:VEVENT
END:VCALENDAR