BEGIN:VCALENDAR
VERSION:2.0
PRODID:-//wp-events-plugin.com//7.2.3.1//EN
TZID:Europe/London
X-WR-TIMEZONE:Europe/London
BEGIN:VEVENT
UID:4438@larevistadelapalma.com
DTSTART:20251226T180000Z
DTEND:20251226T220000Z
DTSTAMP:20251223T205346Z
URL:https://www.larevistadelapalma.com/events/parranda-la-palma-los-pincha
 discos-del-pantano/
SUMMARY:Parranda La Palma & Los Pinchadiscos del Pantano
DESCRIPTION:Tarde de guateque navideño\, que incluye el recorrido por la m
 úsica de los 60\, 70 y 80 de Parranda La Palma y la sesión con Los Pinc
 hadiscos del Pantano.
ATTACH;FMTTYPE=image/jpeg:https://www.larevistadelapalma.com/wp-content/up
 loads/2025/12/parranda-la-palma.jpg
CATEGORIES:Festivales/Fiestas,Música
LOCATION:Recinto Municipal de San José\, Cta. de San José\, 174C\, Breña
  Baja\, 38712\, España
GEO:28.645651;-17.774931
X-APPLE-STRUCTURED-LOCATION;VALUE=URI;X-ADDRESS=Cta. de San José\, 174C\, 
 Breña Baja\, 38712\, España;X-APPLE-RADIUS=100;X-TITLE=Recinto Municipal
  de San José:geo:28.645651,-17.774931
END:VEVENT
END:VCALENDARBEGIN:VCALENDAR
VERSION:2.0
PRODID:-//wp-events-plugin.com//7.2.3.1//EN
TZID:Europe/London
X-WR-TIMEZONE:Europe/London
BEGIN:VEVENT
UID:4438@larevistadelapalma.com
DTSTART:20251226T180000Z
DTEND:20251226T220000Z
DTSTAMP:20251223T205346Z
URL:https://www.larevistadelapalma.com/events/parranda-la-palma-los-pincha
 discos-del-pantano/
SUMMARY:Parranda La Palma & Los Pinchadiscos del Pantano
DESCRIPTION:Tarde de guateque navideño\, que incluye el recorrido por la m
 úsica de los 60\, 70 y 80 de Parranda La Palma y la sesión con Los Pinc
 hadiscos del Pantano.
ATTACH;FMTTYPE=image/jpeg:https://www.larevistadelapalma.com/wp-content/up
 loads/2025/12/parranda-la-palma.jpg
CATEGORIES:Festivales/Fiestas,Música
LOCATION:Recinto Municipal de San José\, Cta. de San José\, 174C\, Breña
  Baja\, 38712\, España
GEO:28.645651;-17.774931
X-APPLE-STRUCTURED-LOCATION;VALUE=URI;X-ADDRESS=Cta. de San José\, 174C\, 
 Breña Baja\, 38712\, España;X-APPLE-RADIUS=100;X-TITLE=Recinto Municipal
  de San José:geo:28.645651,-17.774931
END:VEVENT
END:VCALENDAR