BEGIN:VCALENDAR
VERSION:2.0
PRODID:-//wp-events-plugin.com//7.2.3.1//EN
TZID:Europe/London
X-WR-TIMEZONE:Europe/London
BEGIN:VEVENT
UID:703@larevistadelapalma.com
DTSTART:20231108T190000Z
DTEND:20231109T210000Z
DTSTAMP:20241105T212912Z
URL:https://www.larevistadelapalma.com/events/pasaje-del-terror-en-brena-b
 aja/
SUMMARY:Pasaje del terror en Breña Baja - CAMBIO DE FECHA
DESCRIPTION:La atracción más terrorífica de La Palma.\nEstaba programado
  para el 27 y 28 de octubre y se canceló por el luto oficial por la DANA.
 \nNo recomendado para menores de 12 años o personas sensibles.\nMas info 
 en esverloeventslapalma
ATTACH;FMTTYPE=image/jpeg:https://www.larevistadelapalma.com/wp-content/up
 loads/2023/10/Pasaje-del-terror.jpg
CATEGORIES:Fiestas populares,Otras propuestas
LOCATION:Sociedad Juventud Española\, Breña Baja\, C. Cta. de San José\,
  128\, Breña Baja\, 38712\, España
GEO:28.647229;-17.768574
X-APPLE-STRUCTURED-LOCATION;VALUE=URI;X-ADDRESS=C. Cta. de San José\, 128\
 , Breña Baja\, 38712\, España;X-APPLE-RADIUS=100;X-TITLE=Sociedad Juvent
 ud Española\, Breña Baja:geo:28.647229,-17.768574
END:VEVENT
END:VCALENDARBEGIN:VCALENDAR
VERSION:2.0
PRODID:-//wp-events-plugin.com//7.2.3.1//EN
TZID:Europe/London
X-WR-TIMEZONE:Europe/London
BEGIN:VEVENT
UID:703@larevistadelapalma.com
DTSTART:20231108T190000Z
DTEND:20231109T210000Z
DTSTAMP:20241105T212912Z
URL:https://www.larevistadelapalma.com/events/pasaje-del-terror-en-brena-b
 aja/
SUMMARY:Pasaje del terror en Breña Baja - CAMBIO DE FECHA
DESCRIPTION:La atracción más terrorífica de La Palma.\nEstaba programado
  para el 27 y 28 de octubre y se canceló por el luto oficial por la DANA.
 \nNo recomendado para menores de 12 años o personas sensibles.\nMas info 
 en esverloeventslapalma
ATTACH;FMTTYPE=image/jpeg:https://www.larevistadelapalma.com/wp-content/up
 loads/2023/10/Pasaje-del-terror.jpg
CATEGORIES:Fiestas populares,Otras propuestas
LOCATION:Sociedad Juventud Española\, Breña Baja\, C. Cta. de San José\,
  128\, Breña Baja\, 38712\, España
GEO:28.647229;-17.768574
X-APPLE-STRUCTURED-LOCATION;VALUE=URI;X-ADDRESS=C. Cta. de San José\, 128\
 , Breña Baja\, 38712\, España;X-APPLE-RADIUS=100;X-TITLE=Sociedad Juvent
 ud Española\, Breña Baja:geo:28.647229,-17.768574
END:VEVENT
END:VCALENDAR