BEGIN:VCALENDAR
VERSION:2.0
PRODID:-//wp-events-plugin.com//7.2.3.1//EN
TZID:Europe/London
X-WR-TIMEZONE:Europe/London
BEGIN:VEVENT
UID:4032@larevistadelapalma.com
DTSTART;VALUE=DATE:20251030
DTEND;VALUE=DATE:20251102
DTSTAMP:20251020T105928Z
URL:https://www.larevistadelapalma.com/events/pasaje-del-terror-y-pasacall
 es-en-brena-baja/
SUMMARY:Pasaje del terror y pasacalles en Breña Baja
DESCRIPTION:El municipio de Breña Baja se prepara para un Halloween\, repl
 eto de música\, baile y emociones fuertes. El Breña Baja Halloween Summe
 r Fest y el Pasaje del Terror se perfilan como los grandes protagonistas d
 e la programación.\n\nPasacalles Terrorífico y Gala Revolution Dance \n
 \nEl jueves\, 30 de octubre  tendrá lugar el Pasacalles Terrorífico de 
 Halloween\, que dará comienzo a las 18:30 horas desde el Estadio Municipa
 l y recorrerá las principales calles hasta la Plaza de las Madres.\n\nEl 
 desfile contará con la participación de personajes terroríficos\, la Ba
 nda Municipal de Música y numerosos colectivos juveniles\, en un recorrid
 o lleno de color\, ritmo y participación. Como colofón\, a las 19:00 hor
 as\, se celebrará en la Plaza de las Madres la Gala Revolution Dance en l
 a que el grupo de baile ofrecerá su tradicional espectáculo con coreogra
 fías inspiradas en el universo Halloween\, cargado de energía y creativi
 dad.\n\nEl Pasaje del Terror pondrá el broche final a la programación y 
 se ha convertido ya en una de las citas más atractivas y esperadas de Hal
 loween en La Palma. Tendrá lugar los días viernes 31 de octubre y sábad
 o 1 de noviembre en la Sociedad Juventud Española de San Antonio\, con ap
 ertura de taquilla de 19:00 a 22:00 horas y pases a partir de las 20:00 ho
 ras.\n\nEl recorrido contará con nuevas escenografías\, efectos y ambien
 taciones que garantizarán una experiencia intensa y sorprendente para el 
 público asistente. El precio de la entrada será de 5 euros\, y se recomi
 enda acudir con antelación debido a la alta afluencia de público que sue
 le registrar esta actividad.
ATTACH;FMTTYPE=image/jpeg:https://www.larevistadelapalma.com/wp-content/up
 loads/2025/10/PAsaje_del_Terror-B-Baja.jpeg
CATEGORIES:Otras propuestas,Varios
LOCATION:Municipio de Breña Baja\, Breña Baja\, Breña Baja\, 38712\, Esp
 aña
GEO:28.641297;-17.772467
X-APPLE-STRUCTURED-LOCATION;VALUE=URI;X-ADDRESS=Breña Baja\, Breña Baja\,
  38712\, España;X-APPLE-RADIUS=100;X-TITLE=Municipio de Breña Baja:geo:2
 8.641297,-17.772467
END:VEVENT
END:VCALENDARBEGIN:VCALENDAR
VERSION:2.0
PRODID:-//wp-events-plugin.com//7.2.3.1//EN
TZID:Europe/London
X-WR-TIMEZONE:Europe/London
BEGIN:VEVENT
UID:4032@larevistadelapalma.com
DTSTART;VALUE=DATE:20251030
DTEND;VALUE=DATE:20251102
DTSTAMP:20251020T105928Z
URL:https://www.larevistadelapalma.com/events/pasaje-del-terror-y-pasacall
 es-en-brena-baja/
SUMMARY:Pasaje del terror y pasacalles en Breña Baja
DESCRIPTION:El municipio de Breña Baja se prepara para un Halloween\, repl
 eto de música\, baile y emociones fuertes. El Breña Baja Halloween Summe
 r Fest y el Pasaje del Terror se perfilan como los grandes protagonistas d
 e la programación.\n\nPasacalles Terrorífico y Gala Revolution Dance \n
 \nEl jueves\, 30 de octubre  tendrá lugar el Pasacalles Terrorífico de 
 Halloween\, que dará comienzo a las 18:30 horas desde el Estadio Municipa
 l y recorrerá las principales calles hasta la Plaza de las Madres.\n\nEl 
 desfile contará con la participación de personajes terroríficos\, la Ba
 nda Municipal de Música y numerosos colectivos juveniles\, en un recorrid
 o lleno de color\, ritmo y participación. Como colofón\, a las 19:00 hor
 as\, se celebrará en la Plaza de las Madres la Gala Revolution Dance en l
 a que el grupo de baile ofrecerá su tradicional espectáculo con coreogra
 fías inspiradas en el universo Halloween\, cargado de energía y creativi
 dad.\n\nEl Pasaje del Terror pondrá el broche final a la programación y 
 se ha convertido ya en una de las citas más atractivas y esperadas de Hal
 loween en La Palma. Tendrá lugar los días viernes 31 de octubre y sábad
 o 1 de noviembre en la Sociedad Juventud Española de San Antonio\, con ap
 ertura de taquilla de 19:00 a 22:00 horas y pases a partir de las 20:00 ho
 ras.\n\nEl recorrido contará con nuevas escenografías\, efectos y ambien
 taciones que garantizarán una experiencia intensa y sorprendente para el 
 público asistente. El precio de la entrada será de 5 euros\, y se recomi
 enda acudir con antelación debido a la alta afluencia de público que sue
 le registrar esta actividad.
ATTACH;FMTTYPE=image/jpeg:https://www.larevistadelapalma.com/wp-content/up
 loads/2025/10/PAsaje_del_Terror-B-Baja.jpeg
CATEGORIES:Otras propuestas,Varios
LOCATION:Municipio de Breña Baja\, Breña Baja\, Breña Baja\, 38712\, Esp
 aña
GEO:28.641297;-17.772467
X-APPLE-STRUCTURED-LOCATION;VALUE=URI;X-ADDRESS=Breña Baja\, Breña Baja\,
  38712\, España;X-APPLE-RADIUS=100;X-TITLE=Municipio de Breña Baja:geo:2
 8.641297,-17.772467
END:VEVENT
END:VCALENDAR