BEGIN:VCALENDAR
VERSION:2.0
PRODID:-//wp-events-plugin.com//7.2.3.1//EN
TZID:Europe/London
X-WR-TIMEZONE:Europe/London
BEGIN:VEVENT
UID:3495@larevistadelapalma.com
DTSTART:20241213T193000Z
DTEND:20241213T210000Z
DTSTAMP:20241212T151650Z
URL:https://www.larevistadelapalma.com/events/pasarela-de-moda-en-tazacort
 e/
SUMMARY:Pasarela de moda en Tazacorte
DESCRIPTION:
ATTACH;FMTTYPE=image/jpeg:https://www.larevistadelapalma.com/wp-content/up
 loads/2024/12/Pasarela-moda-tazacorte.jpg
CATEGORIES:Otras propuestas,Varios
LOCATION:Plaza de España de Tazacorte\, plaza de España\, Tazacorte\, 387
 70\, España
GEO:28.644047;-17.933657
X-APPLE-STRUCTURED-LOCATION;VALUE=URI;X-ADDRESS=plaza de España\, Tazacort
 e\, 38770\, España;X-APPLE-RADIUS=100;X-TITLE=Plaza de España de Tazacor
 te:geo:28.644047,-17.933657
END:VEVENT
END:VCALENDARBEGIN:VCALENDAR
VERSION:2.0
PRODID:-//wp-events-plugin.com//7.2.3.1//EN
TZID:Europe/London
X-WR-TIMEZONE:Europe/London
BEGIN:VEVENT
UID:3495@larevistadelapalma.com
DTSTART:20241213T193000Z
DTEND:20241213T210000Z
DTSTAMP:20241212T151650Z
URL:https://www.larevistadelapalma.com/events/pasarela-de-moda-en-tazacort
 e/
SUMMARY:Pasarela de moda en Tazacorte
DESCRIPTION:
ATTACH;FMTTYPE=image/jpeg:https://www.larevistadelapalma.com/wp-content/up
 loads/2024/12/Pasarela-moda-tazacorte.jpg
CATEGORIES:Otras propuestas,Varios
LOCATION:Plaza de España de Tazacorte\, plaza de España\, Tazacorte\, 387
 70\, España
GEO:28.644047;-17.933657
X-APPLE-STRUCTURED-LOCATION;VALUE=URI;X-ADDRESS=plaza de España\, Tazacort
 e\, 38770\, España;X-APPLE-RADIUS=100;X-TITLE=Plaza de España de Tazacor
 te:geo:28.644047,-17.933657
END:VEVENT
END:VCALENDAR