BEGIN:VCALENDAR
VERSION:2.0
PRODID:-//wp-events-plugin.com//7.2.3.1//EN
TZID:Europe/London
X-WR-TIMEZONE:Europe/London
BEGIN:VEVENT
UID:741@larevistadelapalma.com
DTSTART:20231007T190000Z
DTEND:20231007T204500Z
DTSTAMP:20231005T233337Z
URL:https://www.larevistadelapalma.com/events/paseando-por-brooklyn-ciclo-
 de-camara-bibliotecas/
SUMMARY:Paseando por Brooklyn. Ciclo de Cámara Música en bibliotecas
DESCRIPTION:\nII CICLO DE CÁMARA MÚSICA EN BIBLIOTECAS\n\nMara Jaubert (p
 iano) y Javier Llopis (clarinete) ofrecerán \, en la Real Sociedad Cosmol
 ógica\, un homenaje a la música más popular norteamericana. Autores com
 o G. Gershwin\, Templeton\, Hermann\, Gualdi-Correnti\, J. Williams\, Nava
 rro\, Gualdi-mangani\, Kóvacs y otros.\n\n\nJavier Llopis es un clarineti
 sta que compagina su actividad como profesor en el Conservatorio de Músic
 a de Tenerife con la de concertista\, músico de cámara y colaborador de 
 la Orquesta Sinfónica de Tenerife. Destaca su recital con el clarinete pi
 ccolo en Los Ángeles (California)\, invitado por la International Clarine
 t Association\, dentro del congreso mundial de clarinetistas\, en el cual 
 obtuvo el reconocimiento de la crítica.\n\nMara Jaubert es una pianista t
 inerfeña que ha ofrecido recitales y una master class en las ciudades jap
 onesas de Sapporo\, Kawasaki y Tokio junto con las cantantes Cristina Calv
 o y Ryou Abe. Ha actuado en la Universidad de México DF y ha participado 
 como pianista correpetidora en el estreno mundial de la versión inglesa d
 e la ópera “Henry Clifford” de Isaac Albéniz dentro del Festival de 
 Música de Canarias\;\n\n\n\nEntrada gratuita hasta completar aforo.\nhttp
 s://www.youtube.com/watch?v=EjBuhU4a7h8\n\n
ATTACH;FMTTYPE=image/jpeg:https://www.larevistadelapalma.com/wp-content/up
 loads/2023/10/Paseando-por-brooklyn.jpg
CATEGORIES:Conciertos,Música
LOCATION:Real Sociedad Cosmológica\, C. Van de Walle\, 6\, Santa Cruz de l
 a Palma\, Santa Cruz de Tenerife\, 38700\, España
GEO:28.683437;-17.765238
X-APPLE-STRUCTURED-LOCATION;VALUE=URI;X-ADDRESS=C. Van de Walle\, 6\, Santa
  Cruz de la Palma\, Santa Cruz de Tenerife\, 38700\, España;X-APPLE-RADIU
 S=100;X-TITLE=Real Sociedad Cosmológica:geo:28.683437,-17.765238
END:VEVENT
END:VCALENDARBEGIN:VCALENDAR
VERSION:2.0
PRODID:-//wp-events-plugin.com//7.2.3.1//EN
TZID:Europe/London
X-WR-TIMEZONE:Europe/London
BEGIN:VEVENT
UID:741@larevistadelapalma.com
DTSTART:20231007T190000Z
DTEND:20231007T204500Z
DTSTAMP:20231005T233337Z
URL:https://www.larevistadelapalma.com/events/paseando-por-brooklyn-ciclo-
 de-camara-bibliotecas/
SUMMARY:Paseando por Brooklyn. Ciclo de Cámara Música en bibliotecas
DESCRIPTION:\nII CICLO DE CÁMARA MÚSICA EN BIBLIOTECAS\n\nMara Jaubert (p
 iano) y Javier Llopis (clarinete) ofrecerán \, en la Real Sociedad Cosmol
 ógica\, un homenaje a la música más popular norteamericana. Autores com
 o G. Gershwin\, Templeton\, Hermann\, Gualdi-Correnti\, J. Williams\, Nava
 rro\, Gualdi-mangani\, Kóvacs y otros.\n\n\nJavier Llopis es un clarineti
 sta que compagina su actividad como profesor en el Conservatorio de Músic
 a de Tenerife con la de concertista\, músico de cámara y colaborador de 
 la Orquesta Sinfónica de Tenerife. Destaca su recital con el clarinete pi
 ccolo en Los Ángeles (California)\, invitado por la International Clarine
 t Association\, dentro del congreso mundial de clarinetistas\, en el cual 
 obtuvo el reconocimiento de la crítica.\n\nMara Jaubert es una pianista t
 inerfeña que ha ofrecido recitales y una master class en las ciudades jap
 onesas de Sapporo\, Kawasaki y Tokio junto con las cantantes Cristina Calv
 o y Ryou Abe. Ha actuado en la Universidad de México DF y ha participado 
 como pianista correpetidora en el estreno mundial de la versión inglesa d
 e la ópera “Henry Clifford” de Isaac Albéniz dentro del Festival de 
 Música de Canarias\;\n\n\n\nEntrada gratuita hasta completar aforo.\nhttp
 s://www.youtube.com/watch?v=EjBuhU4a7h8\n\n
ATTACH;FMTTYPE=image/jpeg:https://www.larevistadelapalma.com/wp-content/up
 loads/2023/10/Paseando-por-brooklyn.jpg
CATEGORIES:Conciertos,Música
LOCATION:Real Sociedad Cosmológica\, C. Van de Walle\, 6\, Santa Cruz de l
 a Palma\, Santa Cruz de Tenerife\, 38700\, España
GEO:28.683437;-17.765238
X-APPLE-STRUCTURED-LOCATION;VALUE=URI;X-ADDRESS=C. Van de Walle\, 6\, Santa
  Cruz de la Palma\, Santa Cruz de Tenerife\, 38700\, España;X-APPLE-RADIU
 S=100;X-TITLE=Real Sociedad Cosmológica:geo:28.683437,-17.765238
END:VEVENT
END:VCALENDAR