BEGIN:VCALENDAR
VERSION:2.0
PRODID:-//wp-events-plugin.com//7.2.3.1//EN
TZID:Europe/London
X-WR-TIMEZONE:Europe/London
BEGIN:VEVENT
UID:4101@larevistadelapalma.com
DTSTART:20251226T193000Z
DTEND:20251226T210000Z
DTSTAMP:20251210T224425Z
URL:https://www.larevistadelapalma.com/events/pasion-almodovar-la-palma/
SUMMARY:Pasión Vega trae a La Palma: "Pasión Almodóvar"
DESCRIPTION:Pasión Vega estará por primera vez en la Isla de La Palma par
 a presentar su espectáculo "Pasión Almodóvar".\nPASIÓN ALMODÓVAR\, un
 a recopilación de las canciones más emblemáticas de las películas de 
 Pedro Almodóvar\, donde Pasión Vega compartirá escenario con uno de l
 os pianistas de jazz más reconocidos del panorama musical actual\, Mois
 és Sánchez\, quien además ha estado a cargo de los arreglos musicales.
  Moisés estará acompañado por un trío de músicos excepcionales.\nCom
 prar entradas &gt\;&gt\;\nPASIÓN ALMODÓVAR\, espectáculo dirigido por 
 Joan Antón Rechi\, se creó en julio de 2024 para presentarse en los pr
 estigiosos Festivales CLÀSSICAND (Andorra) y Festival de Peralada (Cat
 aluña)… obteniendo un éxito arrollador en ambos festivales.\n&nbsp\;
ATTACH;FMTTYPE=image/jpeg:https://www.larevistadelapalma.com/wp-content/up
 loads/2025/12/Pasion-almodovar.webp
CATEGORIES:Conciertos,Música
LOCATION:Teatro Circo de Marte\, Calle Virgen de La Luz\, 5\, Santa Cruz de
  La Palma\, 38700\, España
GEO:28.682989;-17.765755
X-APPLE-STRUCTURED-LOCATION;VALUE=URI;X-ADDRESS=Calle Virgen de La Luz\, 5\
 , Santa Cruz de La Palma\, 38700\, España;X-APPLE-RADIUS=100;X-TITLE=Teat
 ro Circo de Marte:geo:28.682989,-17.765755
END:VEVENT
END:VCALENDARBEGIN:VCALENDAR
VERSION:2.0
PRODID:-//wp-events-plugin.com//7.2.3.1//EN
TZID:Europe/London
X-WR-TIMEZONE:Europe/London
BEGIN:VEVENT
UID:4101@larevistadelapalma.com
DTSTART:20251226T193000Z
DTEND:20251226T210000Z
DTSTAMP:20251210T224425Z
URL:https://www.larevistadelapalma.com/events/pasion-almodovar-la-palma/
SUMMARY:Pasión Vega trae a La Palma: "Pasión Almodóvar"
DESCRIPTION:Pasión Vega estará por primera vez en la Isla de La Palma par
 a presentar su espectáculo "Pasión Almodóvar".\nPASIÓN ALMODÓVAR\, un
 a recopilación de las canciones más emblemáticas de las películas de 
 Pedro Almodóvar\, donde Pasión Vega compartirá escenario con uno de l
 os pianistas de jazz más reconocidos del panorama musical actual\, Mois
 és Sánchez\, quien además ha estado a cargo de los arreglos musicales.
  Moisés estará acompañado por un trío de músicos excepcionales.\nCom
 prar entradas &gt\;&gt\;\nPASIÓN ALMODÓVAR\, espectáculo dirigido por 
 Joan Antón Rechi\, se creó en julio de 2024 para presentarse en los pr
 estigiosos Festivales CLÀSSICAND (Andorra) y Festival de Peralada (Cat
 aluña)… obteniendo un éxito arrollador en ambos festivales.\n&nbsp\;
ATTACH;FMTTYPE=image/jpeg:https://www.larevistadelapalma.com/wp-content/up
 loads/2025/12/Pasion-almodovar.webp
CATEGORIES:Conciertos,Música
LOCATION:Teatro Circo de Marte\, Calle Virgen de La Luz\, 5\, Santa Cruz de
  La Palma\, 38700\, España
GEO:28.682989;-17.765755
X-APPLE-STRUCTURED-LOCATION;VALUE=URI;X-ADDRESS=Calle Virgen de La Luz\, 5\
 , Santa Cruz de La Palma\, 38700\, España;X-APPLE-RADIUS=100;X-TITLE=Teat
 ro Circo de Marte:geo:28.682989,-17.765755
END:VEVENT
END:VCALENDAR