BEGIN:VCALENDAR
VERSION:2.0
PRODID:-//wp-events-plugin.com//7.2.3.1//EN
TZID:Europe/London
X-WR-TIMEZONE:Europe/London
BEGIN:VEVENT
UID:4035@larevistadelapalma.com
DTSTART:20251029T180000Z
DTEND:20251029T193000Z
DTSTAMP:20251027T204508Z
URL:https://www.larevistadelapalma.com/events/patricia-figuero-charla-la-p
 alma/
SUMMARY:Charla con Patricia Figuero\, en el ciclo ‘Letras LGTBIQ+ en Cana
 rias’
DESCRIPTION:La poeta Patricia Figuero\, una de las voces queer más destaca
 das\, dará una charla en La Palma\, con entrada libre.\nLa poeta\, dramat
 urga y gestora cultural de proyectos literarios con perspectiva feminista
 \, Patricia Figuero\, ofrecerá una charla el 29 de octubre en La Palma\,
  organizada por el área de Cultura del Gobierno\, en el marco del ciclo 
 ‘Letras LGTBIQ+ en Canarias’. Tendrá lugar el miércoles 29\, a las 
 19.00 horas\, en la Biblioteca Pública Municipal de El Paso\, con entrad
 a libre para el público. La iniciativa forma parte de un programa que tra
 baja en favor de una cultura inclusiva y una sociedad cada vez más emp
 ática\, respetuosa y representativa con este colectivo\nPatricia Figuero\
 , una de las voces queer más destacadas de Canarias\, con obras como ‘
 La fisura entra por las manos’\, es una de las protagonistas elegidas pa
 ra este ciclo que se desarrolla en todas las islas\, organizado por la uni
 dad de Diversidad\, Igualdad y Cultura del Instituto Canario de Desarrollo
  Cultural (ICDC)\,\nEn este caso\, la charla ha sido organizada con el apo
 yo del Colectivo Violetas LGBTI La Palma.  Su objetivo es utilizar la lit
 eratura\, un medio poderoso de expresión y reflexión para fomentar el pe
 nsamiento crítico\, como herramienta para llegar a sectores cada vez más
  amplios de la sociedad\, especialmente en áreas periféricas del archipi
 élago.\nEste proyecto itinerante se centra fundamentalmente en temática 
 QUEER y LGTBIQ y está pensado para contribuir a reconocer\, visibilizar y
  valorar la diversidad afectivo sexual presente en nuestras sociedades.\n\
 n\nEsta iniciativa pretende sensibilizar a la ciudadanía frente a discrim
 inaciones de personas de estos colectivos\, reflexionar sobre el derecho d
 e las personas\, a su identidad de género y la garantía de no discrimina
 ción\, por este motivo o por su orientación sexual.\n\nOrganizada por el
  área de Cultura del Gobierno en el marco del ciclo ‘Letras LGTBIQ+ en 
 Canarias.\nMás información y detalles sobre la programación en www.icd
 cultural.org (apartado Diversidad\, Igualdad y Cultura).
ATTACH;FMTTYPE=image/jpeg:https://www.larevistadelapalma.com/wp-content/up
 loads/2025/10/Patricia-Figuero.jpg
CATEGORIES:Otras propuestas,Varios
LOCATION:Casa de La Cultura de Los Llanos de Aridane\, : C. Real\, 8\, Los 
 Llanos de Aridane \, 38760\, España
GEO:28.658651;-17.913512
X-APPLE-STRUCTURED-LOCATION;VALUE=URI;X-ADDRESS=: C. Real\, 8\, Los Llanos 
 de Aridane \, 38760\, España;X-APPLE-RADIUS=100;X-TITLE=Casa de La Cultur
 a de Los Llanos de Aridane:geo:28.658651,-17.913512
END:VEVENT
END:VCALENDARBEGIN:VCALENDAR
VERSION:2.0
PRODID:-//wp-events-plugin.com//7.2.3.1//EN
TZID:Europe/London
X-WR-TIMEZONE:Europe/London
BEGIN:VEVENT
UID:4035@larevistadelapalma.com
DTSTART:20251029T180000Z
DTEND:20251029T193000Z
DTSTAMP:20251027T204508Z
URL:https://www.larevistadelapalma.com/events/patricia-figuero-charla-la-p
 alma/
SUMMARY:Charla con Patricia Figuero\, en el ciclo ‘Letras LGTBIQ+ en Cana
 rias’
DESCRIPTION:La poeta Patricia Figuero\, una de las voces queer más destaca
 das\, dará una charla en La Palma\, con entrada libre.\nLa poeta\, dramat
 urga y gestora cultural de proyectos literarios con perspectiva feminista
 \, Patricia Figuero\, ofrecerá una charla el 29 de octubre en La Palma\,
  organizada por el área de Cultura del Gobierno\, en el marco del ciclo 
 ‘Letras LGTBIQ+ en Canarias’. Tendrá lugar el miércoles 29\, a las 
 19.00 horas\, en la Biblioteca Pública Municipal de El Paso\, con entrad
 a libre para el público. La iniciativa forma parte de un programa que tra
 baja en favor de una cultura inclusiva y una sociedad cada vez más emp
 ática\, respetuosa y representativa con este colectivo\nPatricia Figuero\
 , una de las voces queer más destacadas de Canarias\, con obras como ‘
 La fisura entra por las manos’\, es una de las protagonistas elegidas pa
 ra este ciclo que se desarrolla en todas las islas\, organizado por la uni
 dad de Diversidad\, Igualdad y Cultura del Instituto Canario de Desarrollo
  Cultural (ICDC)\,\nEn este caso\, la charla ha sido organizada con el apo
 yo del Colectivo Violetas LGBTI La Palma.  Su objetivo es utilizar la lit
 eratura\, un medio poderoso de expresión y reflexión para fomentar el pe
 nsamiento crítico\, como herramienta para llegar a sectores cada vez más
  amplios de la sociedad\, especialmente en áreas periféricas del archipi
 élago.\nEste proyecto itinerante se centra fundamentalmente en temática 
 QUEER y LGTBIQ y está pensado para contribuir a reconocer\, visibilizar y
  valorar la diversidad afectivo sexual presente en nuestras sociedades.\n\
 n\nEsta iniciativa pretende sensibilizar a la ciudadanía frente a discrim
 inaciones de personas de estos colectivos\, reflexionar sobre el derecho d
 e las personas\, a su identidad de género y la garantía de no discrimina
 ción\, por este motivo o por su orientación sexual.\n\nOrganizada por el
  área de Cultura del Gobierno en el marco del ciclo ‘Letras LGTBIQ+ en 
 Canarias.\nMás información y detalles sobre la programación en www.icd
 cultural.org (apartado Diversidad\, Igualdad y Cultura).
ATTACH;FMTTYPE=image/jpeg:https://www.larevistadelapalma.com/wp-content/up
 loads/2025/10/Patricia-Figuero.jpg
CATEGORIES:Otras propuestas,Varios
LOCATION:Casa de La Cultura de Los Llanos de Aridane\, : C. Real\, 8\, Los 
 Llanos de Aridane \, 38760\, España
GEO:28.658651;-17.913512
X-APPLE-STRUCTURED-LOCATION;VALUE=URI;X-ADDRESS=: C. Real\, 8\, Los Llanos 
 de Aridane \, 38760\, España;X-APPLE-RADIUS=100;X-TITLE=Casa de La Cultur
 a de Los Llanos de Aridane:geo:28.658651,-17.913512
END:VEVENT
END:VCALENDAR