BEGIN:VCALENDAR
VERSION:2.0
PRODID:-//wp-events-plugin.com//7.2.3.1//EN
TZID:Europe/London
X-WR-TIMEZONE:Europe/London
BEGIN:VEVENT
UID:2849@larevistadelapalma.com
DTSTART:20240412T193000Z
DTEND:20240412T210000Z
DTSTAMP:20240322T150740Z
URL:https://www.larevistadelapalma.com/events/petite-lorena-estrena-espect
 aculo-tremenda/
SUMMARY:Petite Lorena estrena espectáculo: "Tremenda"
DESCRIPTION:Cada vez que Petite Lorena se mueve sobre un escenario\, recorr
 e con soltura el precipicio que separa lo políticamente correcto de lo in
 correcto\, por cierto ahora más resbaladizo que nunca.\n\nTREMENDA es un 
 espectáculo que está muy por encima de las engañifas posmodernas ya que
  nace de la cultura de la oralidad de nuestras abuelas\, algo que no se pu
 ede reducir a un like.\n\nAcompañen a esta palmera en un viaje a través 
 de su peculiar manera de observar el mundo\, una mujer sola frente al púb
 lico.\n\nPasen y vean\, disfruten y rían hasta quedar desmorecidos\, pero
  abróchense también los cinturones y olvídense hasta de la salida de em
 ergencias mientras Petite Lorena esté sobre el escenario\, porque ya no e
 xiste paracaídas que les salve de morir de risa.\nComprar entradas &gt\;&
 gt\;\nDiseño: @eduard.pdf
ATTACH;FMTTYPE=image/jpeg:https://www.larevistadelapalma.com/wp-content/up
 loads/2024/03/Petite-Lorena-Tremenda.jpg
CATEGORIES:Espectáculos
LOCATION:Teatro Circo de Marte\, Calle Virgen de La Luz\, 5\, Santa Cruz de
  La Palma\, 38700\, España
GEO:28.682989;-17.765755
X-APPLE-STRUCTURED-LOCATION;VALUE=URI;X-ADDRESS=Calle Virgen de La Luz\, 5\
 , Santa Cruz de La Palma\, 38700\, España;X-APPLE-RADIUS=100;X-TITLE=Teat
 ro Circo de Marte:geo:28.682989,-17.765755
END:VEVENT
END:VCALENDARBEGIN:VCALENDAR
VERSION:2.0
PRODID:-//wp-events-plugin.com//7.2.3.1//EN
TZID:Europe/London
X-WR-TIMEZONE:Europe/London
BEGIN:VEVENT
UID:2849@larevistadelapalma.com
DTSTART:20240412T193000Z
DTEND:20240412T210000Z
DTSTAMP:20240322T150740Z
URL:https://www.larevistadelapalma.com/events/petite-lorena-estrena-espect
 aculo-tremenda/
SUMMARY:Petite Lorena estrena espectáculo: "Tremenda"
DESCRIPTION:Cada vez que Petite Lorena se mueve sobre un escenario\, recorr
 e con soltura el precipicio que separa lo políticamente correcto de lo in
 correcto\, por cierto ahora más resbaladizo que nunca.\n\nTREMENDA es un 
 espectáculo que está muy por encima de las engañifas posmodernas ya que
  nace de la cultura de la oralidad de nuestras abuelas\, algo que no se pu
 ede reducir a un like.\n\nAcompañen a esta palmera en un viaje a través 
 de su peculiar manera de observar el mundo\, una mujer sola frente al púb
 lico.\n\nPasen y vean\, disfruten y rían hasta quedar desmorecidos\, pero
  abróchense también los cinturones y olvídense hasta de la salida de em
 ergencias mientras Petite Lorena esté sobre el escenario\, porque ya no e
 xiste paracaídas que les salve de morir de risa.\nComprar entradas &gt\;&
 gt\;\nDiseño: @eduard.pdf
ATTACH;FMTTYPE=image/jpeg:https://www.larevistadelapalma.com/wp-content/up
 loads/2024/03/Petite-Lorena-Tremenda.jpg
CATEGORIES:Espectáculos
LOCATION:Teatro Circo de Marte\, Calle Virgen de La Luz\, 5\, Santa Cruz de
  La Palma\, 38700\, España
GEO:28.682989;-17.765755
X-APPLE-STRUCTURED-LOCATION;VALUE=URI;X-ADDRESS=Calle Virgen de La Luz\, 5\
 , Santa Cruz de La Palma\, 38700\, España;X-APPLE-RADIUS=100;X-TITLE=Teat
 ro Circo de Marte:geo:28.682989,-17.765755
END:VEVENT
END:VCALENDAR