BEGIN:VCALENDAR
VERSION:2.0
PRODID:-//wp-events-plugin.com//7.2.3.1//EN
TZID:Europe/London
X-WR-TIMEZONE:Europe/London
BEGIN:VEVENT
UID:3304@larevistadelapalma.com
DTSTART:20241018T193000Z
DTEND:20241018T210000Z
DTSTAMP:20240928T221454Z
URL:https://www.larevistadelapalma.com/events/petite-lorena-tremenda-el-pa
 so/
SUMMARY:Petite Lorena en El Paso
DESCRIPTION:Petite Lorena\,  con su nuevo espectáculo TREMENDA\, donde re
 fleja de manera satírica la sociedad contemporánea y las vivencias de to
 da una generación de mujeres palmeras.\n\nPetite Lorena ha sabido llegar 
 a la audiencia canaria a través de sus monólogos frescos\, auténticos y
  cargados de humor\, que conectan con la realidad de la sociedad canaria. 
 Su unión con la idiosincrasia palmera y su habilidad para abordar temas c
 ontemporáneos de manera ingeniosa le han conseguido el reconocimiento y a
 dmiración del público
ATTACH;FMTTYPE=image/jpeg:https://www.larevistadelapalma.com/wp-content/up
 loads/2024/03/Petite-Lorena-Tremenda.jpg
CATEGORIES:Espectáculos
LOCATION:Casa de la Cultura Braulio Martín Hernández de El Paso\, Av. Isl
 as Canarias\, 9\,\, El Paso\, 38750\, España
GEO:28.652923;-17.880463
X-APPLE-STRUCTURED-LOCATION;VALUE=URI;X-ADDRESS=Av. Islas Canarias\, 9\,\, 
 El Paso\, 38750\, España;X-APPLE-RADIUS=100;X-TITLE=Casa de la Cultura Br
 aulio Martín Hernández de El Paso:geo:28.652923,-17.880463
END:VEVENT
END:VCALENDARBEGIN:VCALENDAR
VERSION:2.0
PRODID:-//wp-events-plugin.com//7.2.3.1//EN
TZID:Europe/London
X-WR-TIMEZONE:Europe/London
BEGIN:VEVENT
UID:3304@larevistadelapalma.com
DTSTART:20241018T193000Z
DTEND:20241018T210000Z
DTSTAMP:20240928T221454Z
URL:https://www.larevistadelapalma.com/events/petite-lorena-tremenda-el-pa
 so/
SUMMARY:Petite Lorena en El Paso
DESCRIPTION:Petite Lorena\,  con su nuevo espectáculo TREMENDA\, donde re
 fleja de manera satírica la sociedad contemporánea y las vivencias de to
 da una generación de mujeres palmeras.\n\nPetite Lorena ha sabido llegar 
 a la audiencia canaria a través de sus monólogos frescos\, auténticos y
  cargados de humor\, que conectan con la realidad de la sociedad canaria. 
 Su unión con la idiosincrasia palmera y su habilidad para abordar temas c
 ontemporáneos de manera ingeniosa le han conseguido el reconocimiento y a
 dmiración del público
ATTACH;FMTTYPE=image/jpeg:https://www.larevistadelapalma.com/wp-content/up
 loads/2024/03/Petite-Lorena-Tremenda.jpg
CATEGORIES:Espectáculos
LOCATION:Casa de la Cultura Braulio Martín Hernández de El Paso\, Av. Isl
 as Canarias\, 9\,\, El Paso\, 38750\, España
GEO:28.652923;-17.880463
X-APPLE-STRUCTURED-LOCATION;VALUE=URI;X-ADDRESS=Av. Islas Canarias\, 9\,\, 
 El Paso\, 38750\, España;X-APPLE-RADIUS=100;X-TITLE=Casa de la Cultura Br
 aulio Martín Hernández de El Paso:geo:28.652923,-17.880463
END:VEVENT
END:VCALENDAR