BEGIN:VCALENDAR
VERSION:2.0
PRODID:-//wp-events-plugin.com//7.2.3.1//EN
TZID:Europe/London
X-WR-TIMEZONE:Europe/London
BEGIN:VEVENT
UID:4644@larevistadelapalma.com
DTSTART:20260423T190000Z
DTEND:20260423T203000Z
DTSTAMP:20260422T231729Z
URL:https://www.larevistadelapalma.com/events/pielago-concierto-de-felix-m
 orales/
SUMMARY:"Piélago": Concierto de Félix Morales
DESCRIPTION:\nConcierto del musicólogo Félix Morales\, que presentará su
  proyecto Piélago. Descubre la sonoridad de instrumentos exóticos e hist
 óricos\, y da un paseo musical por la inmensidad del globo con Canarias y
  sus sonidos en el centro.\nFélix Morales\, con su proyecto Piélago\, se
  sirve de instrumentos exóticos e históricos para dar un paseo musical p
 or la inmensidad del globo\, situando a Canarias y sus sonidos en el centr
 o de este. Recuperando el afán retrospectivo de los primeros académicos 
 del siglo\, Piélago se sumerge en la historia para buscar en ella posib
 les elementos en común con nuestro patrimonio etnográfico\; para así\, 
 quizás algún día\, contribuir a la creación de un mapa sonoro que nos 
 ubique en la enormidad del mundo.\n\nEl oúd árabe\, el sitar hindú\, la
  cítola medieval\, la zanfona o el charango andino son solo algunas de la
 s piezas organológicas que podremos ver y escuchar en este programa\, que
  hibrida lenguajes de todo el planeta y los reconcilia en un discurso esta
 ble con acento canario. Podremos maravillarnos con un tanganillo tañido c
 on saz turco y timple\, a mitad del cual se erige una sección coral arreg
 lada mediante técnicas polifónicas del Ars Nova\, para concluir con una 
 vorágine multiétnica que pone de manifiesto la razón de ser de este ál
 bum y el paradigma creativo que lo origina: la unión de geografías y cro
 nologías en un producto artístico unificado y cuidado.\n\n 	 Entrada li
 bre hasta completar aforo. \n\n
ATTACH;FMTTYPE=image/jpeg:https://www.larevistadelapalma.com/wp-content/up
 loads/2026/04/4-23-Felix-Morales.jpg
CATEGORIES:Conciertos,Música
LOCATION:Espacio Cultural CajaCanarias La Palma\, Plaza de España\, 3\, Sa
 nta Cruz De La Palma\, Santa Cruz de Tenerife\, 38700\, España
GEO:28.683481;-17.764831
X-APPLE-STRUCTURED-LOCATION;VALUE=URI;X-ADDRESS=Plaza de España\, 3\, Sant
 a Cruz De La Palma\, Santa Cruz de Tenerife\, 38700\, España;X-APPLE-RADI
 US=100;X-TITLE=Espacio Cultural CajaCanarias La Palma:geo:28.683481,-17.76
 4831
END:VEVENT
END:VCALENDARBEGIN:VCALENDAR
VERSION:2.0
PRODID:-//wp-events-plugin.com//7.2.3.1//EN
TZID:Europe/London
X-WR-TIMEZONE:Europe/London
BEGIN:VEVENT
UID:4644@larevistadelapalma.com
DTSTART:20260423T190000Z
DTEND:20260423T203000Z
DTSTAMP:20260422T231729Z
URL:https://www.larevistadelapalma.com/events/pielago-concierto-de-felix-m
 orales/
SUMMARY:"Piélago": Concierto de Félix Morales
DESCRIPTION:\nConcierto del musicólogo Félix Morales\, que presentará su
  proyecto Piélago. Descubre la sonoridad de instrumentos exóticos e hist
 óricos\, y da un paseo musical por la inmensidad del globo con Canarias y
  sus sonidos en el centro.\nFélix Morales\, con su proyecto Piélago\, se
  sirve de instrumentos exóticos e históricos para dar un paseo musical p
 or la inmensidad del globo\, situando a Canarias y sus sonidos en el centr
 o de este. Recuperando el afán retrospectivo de los primeros académicos 
 del siglo\, Piélago se sumerge en la historia para buscar en ella posib
 les elementos en común con nuestro patrimonio etnográfico\; para así\, 
 quizás algún día\, contribuir a la creación de un mapa sonoro que nos 
 ubique en la enormidad del mundo.\n\nEl oúd árabe\, el sitar hindú\, la
  cítola medieval\, la zanfona o el charango andino son solo algunas de la
 s piezas organológicas que podremos ver y escuchar en este programa\, que
  hibrida lenguajes de todo el planeta y los reconcilia en un discurso esta
 ble con acento canario. Podremos maravillarnos con un tanganillo tañido c
 on saz turco y timple\, a mitad del cual se erige una sección coral arreg
 lada mediante técnicas polifónicas del Ars Nova\, para concluir con una 
 vorágine multiétnica que pone de manifiesto la razón de ser de este ál
 bum y el paradigma creativo que lo origina: la unión de geografías y cro
 nologías en un producto artístico unificado y cuidado.\n\n 	 Entrada li
 bre hasta completar aforo. \n\n
ATTACH;FMTTYPE=image/jpeg:https://www.larevistadelapalma.com/wp-content/up
 loads/2026/04/4-23-Felix-Morales.jpg
CATEGORIES:Conciertos,Música
LOCATION:Espacio Cultural CajaCanarias La Palma\, Plaza de España\, 3\, Sa
 nta Cruz De La Palma\, Santa Cruz de Tenerife\, 38700\, España
GEO:28.683481;-17.764831
X-APPLE-STRUCTURED-LOCATION;VALUE=URI;X-ADDRESS=Plaza de España\, 3\, Sant
 a Cruz De La Palma\, Santa Cruz de Tenerife\, 38700\, España;X-APPLE-RADI
 US=100;X-TITLE=Espacio Cultural CajaCanarias La Palma:geo:28.683481,-17.76
 4831
END:VEVENT
END:VCALENDAR