BEGIN:VCALENDAR
VERSION:2.0
PRODID:-//wp-events-plugin.com//7.2.3.1//EN
TZID:Europe/London
X-WR-TIMEZONE:Europe/London
BEGIN:VEVENT
UID:3351@larevistadelapalma.com
DTSTART:20241031T190000Z
DTEND:20241031T203000Z
DTSTAMP:20241031T113833Z
URL:https://www.larevistadelapalma.com/events/pinceles-y-flores-de-comedia
 ntes-de-la-cacharra-verde-puntagorda/
SUMMARY:APLAZADO - "Pinceles y flores" de Comediantes de la Cacharra Verde\
 , Puntagorda
DESCRIPTION:\n\nComediantes de la Cacharra Verde\, una compañía canaria d
 e música y teatro educativo\, presenta el espectáculo Pinceles y Flores\
 , inspirado en la vida y obra de la artista mexicana Frida Kahlo.\n\n\n\n\
 n\n\n\nLa obra nos acerca al personaje de Frida Kahlo\, a través de un te
 xto que narra los acontecimientos más destacados del personaje\, acompañ
 ado como es habitual en los montajes de la compañía\, de música\, baile
 s y juegos participativos. Elementos fundamentales para trasladar al públ
 ico chico\, una entretenida trama en torno a la figura de nuestra protagon
 ista\, en la que se habla del arte en general y la capacidad de superació
 n ante las circunstancias que nos enfrentamos en la vida.\n\nOrganiza Conc
 ejalía de Cultura del Ayuntamiento de Puntagorda en colaboración con el 
 programa Mares\, impulsado por el ICDC- Gobierno de Canarias. Una producci
 ón de Folk Canarias Eventos. \n\n\n\n\n\n
ATTACH;FMTTYPE=image/jpeg:https://www.larevistadelapalma.com/wp-content/up
 loads/2024/10/Comediantes-de-la-Chatarra-Frida.jpg
CATEGORIES:Espectáculos,Teatro
LOCATION:Casa de La Cultura\, Puntagorda\, C. Cuatro Caminos\, 5\, Puntagor
 da\, 38789\, España
GEO:28.774328;-17.976112
X-APPLE-STRUCTURED-LOCATION;VALUE=URI;X-ADDRESS=C. Cuatro Caminos\, 5\, Pun
 tagorda\, 38789\, España;X-APPLE-RADIUS=100;X-TITLE=Casa de La Cultura\, 
 Puntagorda:geo:28.774328,-17.976112
END:VEVENT
END:VCALENDARBEGIN:VCALENDAR
VERSION:2.0
PRODID:-//wp-events-plugin.com//7.2.3.1//EN
TZID:Europe/London
X-WR-TIMEZONE:Europe/London
BEGIN:VEVENT
UID:3351@larevistadelapalma.com
DTSTART:20241031T190000Z
DTEND:20241031T203000Z
DTSTAMP:20241031T113833Z
URL:https://www.larevistadelapalma.com/events/pinceles-y-flores-de-comedia
 ntes-de-la-cacharra-verde-puntagorda/
SUMMARY:APLAZADO - "Pinceles y flores" de Comediantes de la Cacharra Verde\
 , Puntagorda
DESCRIPTION:\n\nComediantes de la Cacharra Verde\, una compañía canaria d
 e música y teatro educativo\, presenta el espectáculo Pinceles y Flores\
 , inspirado en la vida y obra de la artista mexicana Frida Kahlo.\n\n\n\n\
 n\n\n\nLa obra nos acerca al personaje de Frida Kahlo\, a través de un te
 xto que narra los acontecimientos más destacados del personaje\, acompañ
 ado como es habitual en los montajes de la compañía\, de música\, baile
 s y juegos participativos. Elementos fundamentales para trasladar al públ
 ico chico\, una entretenida trama en torno a la figura de nuestra protagon
 ista\, en la que se habla del arte en general y la capacidad de superació
 n ante las circunstancias que nos enfrentamos en la vida.\n\nOrganiza Conc
 ejalía de Cultura del Ayuntamiento de Puntagorda en colaboración con el 
 programa Mares\, impulsado por el ICDC- Gobierno de Canarias. Una producci
 ón de Folk Canarias Eventos. \n\n\n\n\n\n
ATTACH;FMTTYPE=image/jpeg:https://www.larevistadelapalma.com/wp-content/up
 loads/2024/10/Comediantes-de-la-Chatarra-Frida.jpg
CATEGORIES:Espectáculos,Teatro
LOCATION:Casa de La Cultura\, Puntagorda\, C. Cuatro Caminos\, 5\, Puntagor
 da\, 38789\, España
GEO:28.774328;-17.976112
X-APPLE-STRUCTURED-LOCATION;VALUE=URI;X-ADDRESS=C. Cuatro Caminos\, 5\, Pun
 tagorda\, 38789\, España;X-APPLE-RADIUS=100;X-TITLE=Casa de La Cultura\, 
 Puntagorda:geo:28.774328,-17.976112
END:VEVENT
END:VCALENDAR