BEGIN:VCALENDAR
VERSION:2.0
PRODID:-//wp-events-plugin.com//7.2.3.1//EN
TZID:Europe/London
X-WR-TIMEZONE:Europe/London
BEGIN:VEVENT
UID:3397@larevistadelapalma.com
DTSTART;VALUE=DATE:20241121
DTEND;VALUE=DATE:20250101
DTSTAMP:20241113T175757Z
URL:https://www.larevistadelapalma.com/events/pinturas-de-ana-leon/
SUMMARY:Exposición de pinturas de Ana León
DESCRIPTION:La palmera Ana León presenta esta exposición titulada "La ene
 rgía de la tierra".\nEs Licenciada en Filología española\, aunque lleva
  29 años trabajando como guía del Parque Nacional de la Caldera de Tabur
 iente.\n\nSu afición a la pintura comenzó con el grupo Amigos Pintores d
 e Las Breñas\, y más tarde comenzó a participar en el Concurso de Pintu
 ra Rápida Francisco Concepción. Ana se siente cómoda con la pintura al 
 óleo y con los temas relacionados con la naturaleza y el paisaje.\n\nHora
 rio: \n\nDe martes a domingo\, de 13:00 a 18:00 horas.\nLeer más &gt\;&g
 t\;
ATTACH;FMTTYPE=image/jpeg:https://www.larevistadelapalma.com/wp-content/up
 loads/2024/11/Ana-Leon.jpg
CATEGORIES:Exposiciones
LOCATION:Casa del Conde\, Los Llanos de Aridane\, C/San Antonio\, 35 - Llan
 o de Argual\, Los Llanos de Aridane\, 38760\, España
GEO:28.655333;-17.926641
X-APPLE-STRUCTURED-LOCATION;VALUE=URI;X-ADDRESS=C/San Antonio\, 35 - Llano 
 de Argual\, Los Llanos de Aridane\, 38760\, España;X-APPLE-RADIUS=100;X-T
 ITLE=Casa del Conde\, Los Llanos de Aridane:geo:28.655333,-17.926641
END:VEVENT
END:VCALENDARBEGIN:VCALENDAR
VERSION:2.0
PRODID:-//wp-events-plugin.com//7.2.3.1//EN
TZID:Europe/London
X-WR-TIMEZONE:Europe/London
BEGIN:VEVENT
UID:3397@larevistadelapalma.com
DTSTART;VALUE=DATE:20241121
DTEND;VALUE=DATE:20250101
DTSTAMP:20241113T175757Z
URL:https://www.larevistadelapalma.com/events/pinturas-de-ana-leon/
SUMMARY:Exposición de pinturas de Ana León
DESCRIPTION:La palmera Ana León presenta esta exposición titulada "La ene
 rgía de la tierra".\nEs Licenciada en Filología española\, aunque lleva
  29 años trabajando como guía del Parque Nacional de la Caldera de Tabur
 iente.\n\nSu afición a la pintura comenzó con el grupo Amigos Pintores d
 e Las Breñas\, y más tarde comenzó a participar en el Concurso de Pintu
 ra Rápida Francisco Concepción. Ana se siente cómoda con la pintura al 
 óleo y con los temas relacionados con la naturaleza y el paisaje.\n\nHora
 rio: \n\nDe martes a domingo\, de 13:00 a 18:00 horas.\nLeer más &gt\;&g
 t\;
ATTACH;FMTTYPE=image/jpeg:https://www.larevistadelapalma.com/wp-content/up
 loads/2024/11/Ana-Leon.jpg
CATEGORIES:Exposiciones
LOCATION:Casa del Conde\, Los Llanos de Aridane\, C/San Antonio\, 35 - Llan
 o de Argual\, Los Llanos de Aridane\, 38760\, España
GEO:28.655333;-17.926641
X-APPLE-STRUCTURED-LOCATION;VALUE=URI;X-ADDRESS=C/San Antonio\, 35 - Llano 
 de Argual\, Los Llanos de Aridane\, 38760\, España;X-APPLE-RADIUS=100;X-T
 ITLE=Casa del Conde\, Los Llanos de Aridane:geo:28.655333,-17.926641
END:VEVENT
END:VCALENDAR