BEGIN:VCALENDAR
VERSION:2.0
PRODID:-//wp-events-plugin.com//7.2.3.1//EN
TZID:Europe/London
X-WR-TIMEZONE:Europe/London
BEGIN:VEVENT
UID:977@larevistadelapalma.com
DTSTART;VALUE=DATE:20240103
DTEND;VALUE=DATE:20240106
DTSTAMP:20240103T224428Z
URL:https://www.larevistadelapalma.com/events/pista-de-patinaje-sobre-hiel
 o-artificial-en-tijarafe/
SUMMARY:Pista de patinaje sobre hielo artificial en Tijarafe
DESCRIPTION:\nLos días 3\, 4\, 5 y 7 de enero la pista de patinaje estará
  instalada en la Plaza de Nuestra Señora de Candelaria\, con horarios par
 a adultos y para niños (en el cartel).\n\n\nInscripciones hasta el 6 de e
 nero aquí.\n
ATTACH;FMTTYPE=image/jpeg:https://www.larevistadelapalma.com/wp-content/up
 loads/2024/01/Patinaje-Tijarafe.jpg
CATEGORIES:Otras propuestas,Varios
LOCATION:Plaza Candelaria en Tijarafe\, Plaza de La Candelaria \, Tijarafe\
 , 38780\, España
GEO:28.711392;-17.955151
X-APPLE-STRUCTURED-LOCATION;VALUE=URI;X-ADDRESS=Plaza de La Candelaria \, T
 ijarafe\, 38780\, España;X-APPLE-RADIUS=100;X-TITLE=Plaza Candelaria en T
 ijarafe:geo:28.711392,-17.955151
END:VEVENT
END:VCALENDARBEGIN:VCALENDAR
VERSION:2.0
PRODID:-//wp-events-plugin.com//7.2.3.1//EN
TZID:Europe/London
X-WR-TIMEZONE:Europe/London
BEGIN:VEVENT
UID:977@larevistadelapalma.com
DTSTART;VALUE=DATE:20240103
DTEND;VALUE=DATE:20240106
DTSTAMP:20240103T224428Z
URL:https://www.larevistadelapalma.com/events/pista-de-patinaje-sobre-hiel
 o-artificial-en-tijarafe/
SUMMARY:Pista de patinaje sobre hielo artificial en Tijarafe
DESCRIPTION:\nLos días 3\, 4\, 5 y 7 de enero la pista de patinaje estará
  instalada en la Plaza de Nuestra Señora de Candelaria\, con horarios par
 a adultos y para niños (en el cartel).\n\n\nInscripciones hasta el 6 de e
 nero aquí.\n
ATTACH;FMTTYPE=image/jpeg:https://www.larevistadelapalma.com/wp-content/up
 loads/2024/01/Patinaje-Tijarafe.jpg
CATEGORIES:Otras propuestas,Varios
LOCATION:Plaza Candelaria en Tijarafe\, Plaza de La Candelaria \, Tijarafe\
 , 38780\, España
GEO:28.711392;-17.955151
X-APPLE-STRUCTURED-LOCATION;VALUE=URI;X-ADDRESS=Plaza de La Candelaria \, T
 ijarafe\, 38780\, España;X-APPLE-RADIUS=100;X-TITLE=Plaza Candelaria en T
 ijarafe:geo:28.711392,-17.955151
END:VEVENT
END:VCALENDAR