BEGIN:VCALENDAR
VERSION:2.0
PRODID:-//wp-events-plugin.com//7.2.3.1//EN
TZID:Europe/London
X-WR-TIMEZONE:Europe/London
BEGIN:VEVENT
UID:3616@larevistadelapalma.com
DTSTART;VALUE=DATE:20250301
DTEND;VALUE=DATE:20250302
DTSTAMP:20250226T204956Z
URL:https://www.larevistadelapalma.com/events/polvacera-los-llanos/
SUMMARY:La Gran Polvacera: Carnaval de Los Llanos
DESCRIPTION:El sábado 1 de marzo llegará uno de los momentos más esperad
 os del carnaval de Los Llanos de Aridane.\n\nEl recorrido dará inicio en 
 la Calle Real a las 12:30 horas y finalizará en la Plaza de España mient
 ras Tres de Caña\, Pepe Benavente y Sergio Aranda\, de Ráfaga\, amenizan
  la espera.\n\nLa fiesta continuará en el recinto central del Carnaval\, 
 ubicado en la plaza Juan Pablo II\, con una gran verbena a cargo de la Orq
 uesta Libertad\, Grupo Saoco\, Grupo A4\, Tropicana’s\, Grupo Bomba y El
  Combo Dominicano\, mientras que Renzo El Selector y los DJ’s Yardy y Te
 nax pondrán el ritmo a la noche.\n\nComo parte de su compromiso con la so
 stenibilidad\, el Ayuntamiento entregará pinzas para vasos para promover 
 un Carnaval más limpio.\n\nAdemás\, se instalará un Punto Violeta para 
 sensibilizar contra la violencia sexual y la LGTBfobia\, así como para pr
 evenir agresiones y garantizar un ambiente seguro. Este espacio estará ub
 icado en el Centro de Día\, en la calle Dr. Fleming nº 2\, y funcionará
  de 22:00 a 5:00 horas en coordinación con la Policía Local y el Servici
 o Sanitario. Se colocarán carteles informativos en puntos estratégicos p
 ara facilitar su localización.\n\nTras la Gran Polvacera\, el Carnaval de
  Los Llanos de Aridane continuará con la celebración de la primera Gala 
 Drag\, que se llevará a cabo el domingo\, 2 de marzo.\n\n&nbsp\;\n
ATTACH;FMTTYPE=image/jpeg:https://www.larevistadelapalma.com/wp-content/up
 loads/2025/02/Polvacera2024.jpeg
CATEGORIES:Fiestas populares,Otras propuestas
LOCATION:Municipio de Los Llanos de Aridane\, Los Llanos de Aridane\, Los L
 lanos de Aridane\, 38760\, España
GEO:28.660236;-17.913187
X-APPLE-STRUCTURED-LOCATION;VALUE=URI;X-ADDRESS=Los Llanos de Aridane\, Los
  Llanos de Aridane\, 38760\, España;X-APPLE-RADIUS=100;X-TITLE=Municipio 
 de Los Llanos de Aridane:geo:28.660236,-17.913187
END:VEVENT
END:VCALENDARBEGIN:VCALENDAR
VERSION:2.0
PRODID:-//wp-events-plugin.com//7.2.3.1//EN
TZID:Europe/London
X-WR-TIMEZONE:Europe/London
BEGIN:VEVENT
UID:3616@larevistadelapalma.com
DTSTART;VALUE=DATE:20250301
DTEND;VALUE=DATE:20250302
DTSTAMP:20250226T204956Z
URL:https://www.larevistadelapalma.com/events/polvacera-los-llanos/
SUMMARY:La Gran Polvacera: Carnaval de Los Llanos
DESCRIPTION:El sábado 1 de marzo llegará uno de los momentos más esperad
 os del carnaval de Los Llanos de Aridane.\n\nEl recorrido dará inicio en 
 la Calle Real a las 12:30 horas y finalizará en la Plaza de España mient
 ras Tres de Caña\, Pepe Benavente y Sergio Aranda\, de Ráfaga\, amenizan
  la espera.\n\nLa fiesta continuará en el recinto central del Carnaval\, 
 ubicado en la plaza Juan Pablo II\, con una gran verbena a cargo de la Orq
 uesta Libertad\, Grupo Saoco\, Grupo A4\, Tropicana’s\, Grupo Bomba y El
  Combo Dominicano\, mientras que Renzo El Selector y los DJ’s Yardy y Te
 nax pondrán el ritmo a la noche.\n\nComo parte de su compromiso con la so
 stenibilidad\, el Ayuntamiento entregará pinzas para vasos para promover 
 un Carnaval más limpio.\n\nAdemás\, se instalará un Punto Violeta para 
 sensibilizar contra la violencia sexual y la LGTBfobia\, así como para pr
 evenir agresiones y garantizar un ambiente seguro. Este espacio estará ub
 icado en el Centro de Día\, en la calle Dr. Fleming nº 2\, y funcionará
  de 22:00 a 5:00 horas en coordinación con la Policía Local y el Servici
 o Sanitario. Se colocarán carteles informativos en puntos estratégicos p
 ara facilitar su localización.\n\nTras la Gran Polvacera\, el Carnaval de
  Los Llanos de Aridane continuará con la celebración de la primera Gala 
 Drag\, que se llevará a cabo el domingo\, 2 de marzo.\n\n&nbsp\;\n
ATTACH;FMTTYPE=image/jpeg:https://www.larevistadelapalma.com/wp-content/up
 loads/2025/02/Polvacera2024.jpeg
CATEGORIES:Fiestas populares,Otras propuestas
LOCATION:Municipio de Los Llanos de Aridane\, Los Llanos de Aridane\, Los L
 lanos de Aridane\, 38760\, España
GEO:28.660236;-17.913187
X-APPLE-STRUCTURED-LOCATION;VALUE=URI;X-ADDRESS=Los Llanos de Aridane\, Los
  Llanos de Aridane\, 38760\, España;X-APPLE-RADIUS=100;X-TITLE=Municipio 
 de Los Llanos de Aridane:geo:28.660236,-17.913187
END:VEVENT
END:VCALENDAR