BEGIN:VCALENDAR
VERSION:2.0
PRODID:-//wp-events-plugin.com//7.2.3.1//EN
TZID:Europe/London
X-WR-TIMEZONE:Europe/London
BEGIN:VEVENT
UID:175@larevistadelapalma.com
DTSTART:20230727T193000Z
DTEND:20230727T210000Z
DTSTAMP:20230717T201415Z
URL:https://www.larevistadelapalma.com/events/por-la-noche-ellas-bailanlo-
 que-se-oculta-detras-de-la-danza-del-vientre-en-el-documental-del-mes-2/
SUMMARY:‘Por la noche\, ellas bailan’\,lo que se oculta detrás de la d
 anza del vientre\, en el Documental del Mes
DESCRIPTION:La historia de un clan de mujeres del Cairo que sobrevive de la
  danza del vientre. En Los Llanos de Aridane.
ATTACH;FMTTYPE=image/jpeg:https://www.larevistadelapalma.com/wp-content/up
 loads/2023/07/lanuitellesdansen-Por-la-noche-ellas-bailan.jpg
CATEGORIES:Cine,Cine y Literatura
LOCATION:Multicines Millennium\, Ramon Poll\, 11\, Los Llanos de Aridane\, 
 38760\, España
GEO:28.660236;-17.913187
X-APPLE-STRUCTURED-LOCATION;VALUE=URI;X-ADDRESS=Ramon Poll\, 11\, Los Llano
 s de Aridane\, 38760\, España;X-APPLE-RADIUS=100;X-TITLE=Multicines Mille
 nnium:geo:28.660236,-17.913187
END:VEVENT
END:VCALENDARBEGIN:VCALENDAR
VERSION:2.0
PRODID:-//wp-events-plugin.com//7.2.3.1//EN
TZID:Europe/London
X-WR-TIMEZONE:Europe/London
BEGIN:VEVENT
UID:175@larevistadelapalma.com
DTSTART:20230727T193000Z
DTEND:20230727T210000Z
DTSTAMP:20230717T201415Z
URL:https://www.larevistadelapalma.com/events/por-la-noche-ellas-bailanlo-
 que-se-oculta-detras-de-la-danza-del-vientre-en-el-documental-del-mes-2/
SUMMARY:‘Por la noche\, ellas bailan’\,lo que se oculta detrás de la d
 anza del vientre\, en el Documental del Mes
DESCRIPTION:La historia de un clan de mujeres del Cairo que sobrevive de la
  danza del vientre. En Los Llanos de Aridane.
ATTACH;FMTTYPE=image/jpeg:https://www.larevistadelapalma.com/wp-content/up
 loads/2023/07/lanuitellesdansen-Por-la-noche-ellas-bailan.jpg
CATEGORIES:Cine,Cine y Literatura
LOCATION:Multicines Millennium\, Ramon Poll\, 11\, Los Llanos de Aridane\, 
 38760\, España
GEO:28.660236;-17.913187
X-APPLE-STRUCTURED-LOCATION;VALUE=URI;X-ADDRESS=Ramon Poll\, 11\, Los Llano
 s de Aridane\, 38760\, España;X-APPLE-RADIUS=100;X-TITLE=Multicines Mille
 nnium:geo:28.660236,-17.913187
END:VEVENT
END:VCALENDAR