BEGIN:VCALENDAR
VERSION:2.0
PRODID:-//wp-events-plugin.com//7.2.3.1//EN
TZID:Europe/London
X-WR-TIMEZONE:Europe/London
BEGIN:VEVENT
UID:174@larevistadelapalma.com
DTSTART:20230731T190000Z
DTEND:20230731T203000Z
DTSTAMP:20230717T201459Z
URL:https://www.larevistadelapalma.com/events/por-la-noche-ellas-bailanlo-
 que-se-oculta-detras-de-la-danza-del-vientre-en-el-documental-del-mes/
SUMMARY:‘Por la noche\, ellas bailan’\,lo que se oculta detrás de la d
 anza del vientre\, en el Documental del Mes
DESCRIPTION:La historia de un clan de mujeres del Cairo que sobrevive de la
  danza del vientre protagoniza. En el Teatro Chico de Santa Cruz de La Pal
 ma
ATTACH;FMTTYPE=image/jpeg:https://www.larevistadelapalma.com/wp-content/up
 loads/2023/07/lanuitellesdansen-Por-la-noche-ellas-bailan.jpg
CATEGORIES:Cine,Cine y Literatura
LOCATION:Teatro Chico\, Calle Díaz Pimienta\, 1\, Santa Cruz De La Palma\,
  Santa Cruz de Tenerife\, 38700\, España
GEO:28.68432;-17.764225
X-APPLE-STRUCTURED-LOCATION;VALUE=URI;X-ADDRESS=Calle Díaz Pimienta\, 1\, 
 Santa Cruz De La Palma\, Santa Cruz de Tenerife\, 38700\, España;X-APPLE-
 RADIUS=100;X-TITLE=Teatro Chico:geo:28.68432,-17.764225
END:VEVENT
END:VCALENDARBEGIN:VCALENDAR
VERSION:2.0
PRODID:-//wp-events-plugin.com//7.2.3.1//EN
TZID:Europe/London
X-WR-TIMEZONE:Europe/London
BEGIN:VEVENT
UID:174@larevistadelapalma.com
DTSTART:20230731T190000Z
DTEND:20230731T203000Z
DTSTAMP:20230717T201459Z
URL:https://www.larevistadelapalma.com/events/por-la-noche-ellas-bailanlo-
 que-se-oculta-detras-de-la-danza-del-vientre-en-el-documental-del-mes/
SUMMARY:‘Por la noche\, ellas bailan’\,lo que se oculta detrás de la d
 anza del vientre\, en el Documental del Mes
DESCRIPTION:La historia de un clan de mujeres del Cairo que sobrevive de la
  danza del vientre protagoniza. En el Teatro Chico de Santa Cruz de La Pal
 ma
ATTACH;FMTTYPE=image/jpeg:https://www.larevistadelapalma.com/wp-content/up
 loads/2023/07/lanuitellesdansen-Por-la-noche-ellas-bailan.jpg
CATEGORIES:Cine,Cine y Literatura
LOCATION:Teatro Chico\, Calle Díaz Pimienta\, 1\, Santa Cruz De La Palma\,
  Santa Cruz de Tenerife\, 38700\, España
GEO:28.68432;-17.764225
X-APPLE-STRUCTURED-LOCATION;VALUE=URI;X-ADDRESS=Calle Díaz Pimienta\, 1\, 
 Santa Cruz De La Palma\, Santa Cruz de Tenerife\, 38700\, España;X-APPLE-
 RADIUS=100;X-TITLE=Teatro Chico:geo:28.68432,-17.764225
END:VEVENT
END:VCALENDAR