BEGIN:VCALENDAR
VERSION:2.0
PRODID:-//wp-events-plugin.com//7.2.3.1//EN
TZID:Europe/London
X-WR-TIMEZONE:Europe/London
BEGIN:VEVENT
UID:957@larevistadelapalma.com
DTSTART:20231230T120000Z
DTEND:20231230T190000Z
DTSTAMP:20231226T230112Z
URL:https://www.larevistadelapalma.com/events/pre-fin-de-ano-australiano-s
 anta-cruz-de-la-palma/
SUMMARY:Pre - Fin de Año Australiano\, Santa Cruz de La Palma
DESCRIPTION:Como calentamiento para la celebración del último día del a
 ño Santa Cruz de La Palma celebra este concierto múltiple con Atlantis\,
  Los Stereos\, Fran Ramos y Nicolás Martín. El sábado\, 30 de diciembre
 \, en el entorno del mercado municipal de La Recova\, música y sorpresas 
 desde las 13:00 horas.
ATTACH;FMTTYPE=image/jpeg:https://www.larevistadelapalma.com/wp-content/up
 loads/2023/12/Pre-fin-de-ano-santa-cruz-de-La-Palma.jpg
CATEGORIES:Festivales/Fiestas,Fiestas populares,Música,Otras propuestas
LOCATION:Municipio de Santa Cruz de La Palma\, Santa Cruz de La Palma \, Sa
 nta Cruz de La Palma \, 38700\, España
GEO:28.688757;-17.765102
X-APPLE-STRUCTURED-LOCATION;VALUE=URI;X-ADDRESS=Santa Cruz de La Palma \, S
 anta Cruz de La Palma \, 38700\, España;X-APPLE-RADIUS=100;X-TITLE=Munici
 pio de Santa Cruz de La Palma:geo:28.688757,-17.765102
END:VEVENT
END:VCALENDARBEGIN:VCALENDAR
VERSION:2.0
PRODID:-//wp-events-plugin.com//7.2.3.1//EN
TZID:Europe/London
X-WR-TIMEZONE:Europe/London
BEGIN:VEVENT
UID:957@larevistadelapalma.com
DTSTART:20231230T120000Z
DTEND:20231230T190000Z
DTSTAMP:20231226T230112Z
URL:https://www.larevistadelapalma.com/events/pre-fin-de-ano-australiano-s
 anta-cruz-de-la-palma/
SUMMARY:Pre - Fin de Año Australiano\, Santa Cruz de La Palma
DESCRIPTION:Como calentamiento para la celebración del último día del a
 ño Santa Cruz de La Palma celebra este concierto múltiple con Atlantis\,
  Los Stereos\, Fran Ramos y Nicolás Martín. El sábado\, 30 de diciembre
 \, en el entorno del mercado municipal de La Recova\, música y sorpresas 
 desde las 13:00 horas.
ATTACH;FMTTYPE=image/jpeg:https://www.larevistadelapalma.com/wp-content/up
 loads/2023/12/Pre-fin-de-ano-santa-cruz-de-La-Palma.jpg
CATEGORIES:Festivales/Fiestas,Fiestas populares,Música,Otras propuestas
LOCATION:Municipio de Santa Cruz de La Palma\, Santa Cruz de La Palma \, Sa
 nta Cruz de La Palma \, 38700\, España
GEO:28.688757;-17.765102
X-APPLE-STRUCTURED-LOCATION;VALUE=URI;X-ADDRESS=Santa Cruz de La Palma \, S
 anta Cruz de La Palma \, 38700\, España;X-APPLE-RADIUS=100;X-TITLE=Munici
 pio de Santa Cruz de La Palma:geo:28.688757,-17.765102
END:VEVENT
END:VCALENDAR