BEGIN:VCALENDAR
VERSION:2.0
PRODID:-//wp-events-plugin.com//7.2.3.1//EN
TZID:Europe/London
X-WR-TIMEZONE:Europe/London
BEGIN:VEVENT
UID:3533@larevistadelapalma.com
DTSTART:20241224T110000Z
DTEND:20241224T190000Z
DTSTAMP:20241223T170815Z
URL:https://www.larevistadelapalma.com/events/pre-nochebuena-en-el-bar-aug
 usto/
SUMMARY:Pre- nochebuena en el Bar Augusto
DESCRIPTION:Un año más el 24 del Bar Augusto\, con un evento que con el p
 aso de los años se ha convertido en una tradición\, un rato para conecta
 r con los viejos amigos y hacer nuevos\, donde disfrutar de un ambiente fe
 stivo único antes de la cena familiar. Allí estarán GrajaSound\, Elvira
  y Fran Ramos
ATTACH;FMTTYPE=image/jpeg:https://www.larevistadelapalma.com/wp-content/up
 loads/2024/12/BARA-AUGUSTO-24.jpg
CATEGORIES:Festivales/Fiestas,Música
LOCATION:Municipio de Los Llanos de Aridane\, Los Llanos de Aridane\, Los L
 lanos de Aridane\, 38760\, España
GEO:28.660236;-17.913187
X-APPLE-STRUCTURED-LOCATION;VALUE=URI;X-ADDRESS=Los Llanos de Aridane\, Los
  Llanos de Aridane\, 38760\, España;X-APPLE-RADIUS=100;X-TITLE=Municipio 
 de Los Llanos de Aridane:geo:28.660236,-17.913187
END:VEVENT
END:VCALENDARBEGIN:VCALENDAR
VERSION:2.0
PRODID:-//wp-events-plugin.com//7.2.3.1//EN
TZID:Europe/London
X-WR-TIMEZONE:Europe/London
BEGIN:VEVENT
UID:3533@larevistadelapalma.com
DTSTART:20241224T110000Z
DTEND:20241224T190000Z
DTSTAMP:20241223T170815Z
URL:https://www.larevistadelapalma.com/events/pre-nochebuena-en-el-bar-aug
 usto/
SUMMARY:Pre- nochebuena en el Bar Augusto
DESCRIPTION:Un año más el 24 del Bar Augusto\, con un evento que con el p
 aso de los años se ha convertido en una tradición\, un rato para conecta
 r con los viejos amigos y hacer nuevos\, donde disfrutar de un ambiente fe
 stivo único antes de la cena familiar. Allí estarán GrajaSound\, Elvira
  y Fran Ramos
ATTACH;FMTTYPE=image/jpeg:https://www.larevistadelapalma.com/wp-content/up
 loads/2024/12/BARA-AUGUSTO-24.jpg
CATEGORIES:Festivales/Fiestas,Música
LOCATION:Municipio de Los Llanos de Aridane\, Los Llanos de Aridane\, Los L
 lanos de Aridane\, 38760\, España
GEO:28.660236;-17.913187
X-APPLE-STRUCTURED-LOCATION;VALUE=URI;X-ADDRESS=Los Llanos de Aridane\, Los
  Llanos de Aridane\, 38760\, España;X-APPLE-RADIUS=100;X-TITLE=Municipio 
 de Los Llanos de Aridane:geo:28.660236,-17.913187
END:VEVENT
END:VCALENDAR