BEGIN:VCALENDAR
VERSION:2.0
PRODID:-//wp-events-plugin.com//7.2.3.1//EN
TZID:Europe/London
X-WR-TIMEZONE:Europe/London
BEGIN:VEVENT
UID:3873@larevistadelapalma.com
DTSTART:20250712T180000Z
DTEND:20250712T193000Z
DTSTAMP:20250711T180917Z
URL:https://www.larevistadelapalma.com/events/presentacion-de-amor-y-muert
 e-en-primavera-los-llanos-de-aridane/
SUMMARY:Presentación de "Amor y muerte en primavera"\; Los Llanos de Arida
 ne
DESCRIPTION:"Amor y muerte en primavera"\, una obra de poesía escrita por 
 DeLirio Toledo\, compuesta por una recopilación de poemas escritos a lo l
 argo de más de una década de observación y reflexión sobre las experie
 ncias vitales a través de sentimientos como el amor apasionado y los fuer
 tes lazos familiares en contraposición a la profundidad de la tristeza po
 r la pérdida y la muerte de las personas que amamos.\n\nDeLirio Toledo es
  Manuel Ángel González Toledo\, poeta de Canarias nacido en 1975 en la i
 sla de La Palma y actualmente residente en la isla de Tenerife. Licenciad
 o en Ciencias de la Actividad Física y del Deporte por la ULPGC y trabaja
 ndo de profesor de educación secundaria desde 2006. Aunque siempre amante
  del arte en sus múltiples manifestaciones\, compagina su actividad profe
 sional con la faceta artística de poeta y dibujante. Reflejando en sus ob
 ras una visión personal del mundo y de la vida con lápiz y en verso.
ATTACH;FMTTYPE=image/jpeg:https://www.larevistadelapalma.com/wp-content/up
 loads/2025/07/amor-y-muerte-en-primavera.jpg
CATEGORIES:Cine y Literatura,Literatura
LOCATION:Casa de La Cultura de Los Llanos de Aridane\, : C. Real\, 8\, Los 
 Llanos de Aridane \, 38760\, España
GEO:28.658651;-17.913512
X-APPLE-STRUCTURED-LOCATION;VALUE=URI;X-ADDRESS=: C. Real\, 8\, Los Llanos 
 de Aridane \, 38760\, España;X-APPLE-RADIUS=100;X-TITLE=Casa de La Cultur
 a de Los Llanos de Aridane:geo:28.658651,-17.913512
END:VEVENT
END:VCALENDARBEGIN:VCALENDAR
VERSION:2.0
PRODID:-//wp-events-plugin.com//7.2.3.1//EN
TZID:Europe/London
X-WR-TIMEZONE:Europe/London
BEGIN:VEVENT
UID:3873@larevistadelapalma.com
DTSTART:20250712T180000Z
DTEND:20250712T193000Z
DTSTAMP:20250711T180917Z
URL:https://www.larevistadelapalma.com/events/presentacion-de-amor-y-muert
 e-en-primavera-los-llanos-de-aridane/
SUMMARY:Presentación de "Amor y muerte en primavera"\; Los Llanos de Arida
 ne
DESCRIPTION:"Amor y muerte en primavera"\, una obra de poesía escrita por 
 DeLirio Toledo\, compuesta por una recopilación de poemas escritos a lo l
 argo de más de una década de observación y reflexión sobre las experie
 ncias vitales a través de sentimientos como el amor apasionado y los fuer
 tes lazos familiares en contraposición a la profundidad de la tristeza po
 r la pérdida y la muerte de las personas que amamos.\n\nDeLirio Toledo es
  Manuel Ángel González Toledo\, poeta de Canarias nacido en 1975 en la i
 sla de La Palma y actualmente residente en la isla de Tenerife. Licenciad
 o en Ciencias de la Actividad Física y del Deporte por la ULPGC y trabaja
 ndo de profesor de educación secundaria desde 2006. Aunque siempre amante
  del arte en sus múltiples manifestaciones\, compagina su actividad profe
 sional con la faceta artística de poeta y dibujante. Reflejando en sus ob
 ras una visión personal del mundo y de la vida con lápiz y en verso.
ATTACH;FMTTYPE=image/jpeg:https://www.larevistadelapalma.com/wp-content/up
 loads/2025/07/amor-y-muerte-en-primavera.jpg
CATEGORIES:Cine y Literatura,Literatura
LOCATION:Casa de La Cultura de Los Llanos de Aridane\, : C. Real\, 8\, Los 
 Llanos de Aridane \, 38760\, España
GEO:28.658651;-17.913512
X-APPLE-STRUCTURED-LOCATION;VALUE=URI;X-ADDRESS=: C. Real\, 8\, Los Llanos 
 de Aridane \, 38760\, España;X-APPLE-RADIUS=100;X-TITLE=Casa de La Cultur
 a de Los Llanos de Aridane:geo:28.658651,-17.913512
END:VEVENT
END:VCALENDAR