BEGIN:VCALENDAR
VERSION:2.0
PRODID:-//wp-events-plugin.com//7.2.3.1//EN
TZID:Europe/London
X-WR-TIMEZONE:Europe/London
BEGIN:VEVENT
UID:3429@larevistadelapalma.com
DTSTART:20241129T190000Z
DTEND:20241129T203000Z
DTSTAMP:20241126T214021Z
URL:https://www.larevistadelapalma.com/events/presentacion-de-la-nieve-neg
 ra-de-la-poeta-lucia-rosa-gonzalez/
SUMMARY:Presentación de “La nieve negra”\, de la poeta Lucía Rosa Gon
 zález
DESCRIPTION:En “La nieve negra”\, la poeta Lucía Rosa González recorr
 e con sugerente sensibilidad el periodo previo a la erupción hasta las ac
 tuales cicatrices que el volcán imprime en las gentes. Como los animales\
 , los árboles presienten el rugido de la tierra. El paisaje que escucha d
 escubre en la hierba y en el temblor de sus hojas el fuego que vendrá. Y 
 después de la hecatombe\, la esencia de las cosas suena profunda\, los ob
 jetos despiertos que quedan atrapados en las casas\, las fotos o el motor 
 de labrar\; los símbolos sagrados del templo de Todoque o el camposanto d
 e Las Manchas.\n\nEn estas páginas la memoria y las imágenes oníricas t
 rascienden la huida de la gente ante la lava\, el desgarro literario del d
 esarraigo\, el entorno que susurra\, el paisaje enterrado que se vuelve ir
 real a través de la magia poética de “La nieve negra” para entender 
 la fragilidad del mundo de otro modo. Aunque con prudencia\, porque como d
 ice Lucía Rosa: “La lava que aún chorrea nubla la melodía del aliento
 ”.\n\nLucía Rosa González es poeta\, dramaturga y narradora. Nace en l
 a isla de La Palma y estudia Magisterio y Filología Hispánica en la Univ
 ersidad de La Laguna. Se dedicó a la docencia\, destacando su implicació
 n en numerosos proyectos de animación a la lectura y la puesta en valor d
 el teatro en el currículo educativo.\n\nEl libro\, editado por La Gallofa
  Cartonera\, contará para la presentación con los poetas Ricardo Hernán
 dez Bravo y Coriolano González Montañez\, editores del libro.
ATTACH;FMTTYPE=image/jpeg:https://www.larevistadelapalma.com/wp-content/up
 loads/2024/11/Lucia-Rosa-Gonzalez.jpg
CATEGORIES:Cine y Literatura,Literatura
LOCATION:Casa de La Cultura de Los Llanos de Aridane\, : C. Real\, 8\, Los 
 Llanos de Aridane \, 38760\, España
GEO:28.658651;-17.913512
X-APPLE-STRUCTURED-LOCATION;VALUE=URI;X-ADDRESS=: C. Real\, 8\, Los Llanos 
 de Aridane \, 38760\, España;X-APPLE-RADIUS=100;X-TITLE=Casa de La Cultur
 a de Los Llanos de Aridane:geo:28.658651,-17.913512
END:VEVENT
END:VCALENDARBEGIN:VCALENDAR
VERSION:2.0
PRODID:-//wp-events-plugin.com//7.2.3.1//EN
TZID:Europe/London
X-WR-TIMEZONE:Europe/London
BEGIN:VEVENT
UID:3429@larevistadelapalma.com
DTSTART:20241129T190000Z
DTEND:20241129T203000Z
DTSTAMP:20241126T214021Z
URL:https://www.larevistadelapalma.com/events/presentacion-de-la-nieve-neg
 ra-de-la-poeta-lucia-rosa-gonzalez/
SUMMARY:Presentación de “La nieve negra”\, de la poeta Lucía Rosa Gon
 zález
DESCRIPTION:En “La nieve negra”\, la poeta Lucía Rosa González recorr
 e con sugerente sensibilidad el periodo previo a la erupción hasta las ac
 tuales cicatrices que el volcán imprime en las gentes. Como los animales\
 , los árboles presienten el rugido de la tierra. El paisaje que escucha d
 escubre en la hierba y en el temblor de sus hojas el fuego que vendrá. Y 
 después de la hecatombe\, la esencia de las cosas suena profunda\, los ob
 jetos despiertos que quedan atrapados en las casas\, las fotos o el motor 
 de labrar\; los símbolos sagrados del templo de Todoque o el camposanto d
 e Las Manchas.\n\nEn estas páginas la memoria y las imágenes oníricas t
 rascienden la huida de la gente ante la lava\, el desgarro literario del d
 esarraigo\, el entorno que susurra\, el paisaje enterrado que se vuelve ir
 real a través de la magia poética de “La nieve negra” para entender 
 la fragilidad del mundo de otro modo. Aunque con prudencia\, porque como d
 ice Lucía Rosa: “La lava que aún chorrea nubla la melodía del aliento
 ”.\n\nLucía Rosa González es poeta\, dramaturga y narradora. Nace en l
 a isla de La Palma y estudia Magisterio y Filología Hispánica en la Univ
 ersidad de La Laguna. Se dedicó a la docencia\, destacando su implicació
 n en numerosos proyectos de animación a la lectura y la puesta en valor d
 el teatro en el currículo educativo.\n\nEl libro\, editado por La Gallofa
  Cartonera\, contará para la presentación con los poetas Ricardo Hernán
 dez Bravo y Coriolano González Montañez\, editores del libro.
ATTACH;FMTTYPE=image/jpeg:https://www.larevistadelapalma.com/wp-content/up
 loads/2024/11/Lucia-Rosa-Gonzalez.jpg
CATEGORIES:Cine y Literatura,Literatura
LOCATION:Casa de La Cultura de Los Llanos de Aridane\, : C. Real\, 8\, Los 
 Llanos de Aridane \, 38760\, España
GEO:28.658651;-17.913512
X-APPLE-STRUCTURED-LOCATION;VALUE=URI;X-ADDRESS=: C. Real\, 8\, Los Llanos 
 de Aridane \, 38760\, España;X-APPLE-RADIUS=100;X-TITLE=Casa de La Cultur
 a de Los Llanos de Aridane:geo:28.658651,-17.913512
END:VEVENT
END:VCALENDAR