BEGIN:VCALENDAR
VERSION:2.0
PRODID:-//wp-events-plugin.com//7.2.3.1//EN
TZID:Europe/London
X-WR-TIMEZONE:Europe/London
BEGIN:VEVENT
UID:775@larevistadelapalma.com
DTSTART:20231020T183000Z
DTEND:20231020T200000Z
DTSTAMP:20231018T125856Z
URL:https://www.larevistadelapalma.com/events/presentacion-de-los-no-amado
 s-el-ultimo-libro-de-juan-cobos-wilkins-premio-andalucia-de-la-critica/
SUMMARY:Presentación de "Los no amados"\, el último libro de Juan Cobos W
 ilkins\, Premio Andalucía de la Crítica
DESCRIPTION:La presentación correrá a cargo de la escritora\, poeta y edi
 tora Elsa López\, Premio Canarias de Literatura y por el escritor y poeta
  Guillermo de Jorge\, Director General del Observatorio para la Defensa de
  los Derechos Humanos.
ATTACH;FMTTYPE=image/jpeg:https://www.larevistadelapalma.com/wp-content/up
 loads/2023/10/Los-no-amados-Juan-Cobos-Wilkins.jpg
CATEGORIES:Cine y Literatura,Literatura
LOCATION:Real Sociedad Cosmológica\, C. Van de Walle\, 6\, Santa Cruz de l
 a Palma\, Santa Cruz de Tenerife\, 38700\, España
GEO:28.683437;-17.765238
X-APPLE-STRUCTURED-LOCATION;VALUE=URI;X-ADDRESS=C. Van de Walle\, 6\, Santa
  Cruz de la Palma\, Santa Cruz de Tenerife\, 38700\, España;X-APPLE-RADIU
 S=100;X-TITLE=Real Sociedad Cosmológica:geo:28.683437,-17.765238
END:VEVENT
END:VCALENDARBEGIN:VCALENDAR
VERSION:2.0
PRODID:-//wp-events-plugin.com//7.2.3.1//EN
TZID:Europe/London
X-WR-TIMEZONE:Europe/London
BEGIN:VEVENT
UID:775@larevistadelapalma.com
DTSTART:20231020T183000Z
DTEND:20231020T200000Z
DTSTAMP:20231018T125856Z
URL:https://www.larevistadelapalma.com/events/presentacion-de-los-no-amado
 s-el-ultimo-libro-de-juan-cobos-wilkins-premio-andalucia-de-la-critica/
SUMMARY:Presentación de "Los no amados"\, el último libro de Juan Cobos W
 ilkins\, Premio Andalucía de la Crítica
DESCRIPTION:La presentación correrá a cargo de la escritora\, poeta y edi
 tora Elsa López\, Premio Canarias de Literatura y por el escritor y poeta
  Guillermo de Jorge\, Director General del Observatorio para la Defensa de
  los Derechos Humanos.
ATTACH;FMTTYPE=image/jpeg:https://www.larevistadelapalma.com/wp-content/up
 loads/2023/10/Los-no-amados-Juan-Cobos-Wilkins.jpg
CATEGORIES:Cine y Literatura,Literatura
LOCATION:Real Sociedad Cosmológica\, C. Van de Walle\, 6\, Santa Cruz de l
 a Palma\, Santa Cruz de Tenerife\, 38700\, España
GEO:28.683437;-17.765238
X-APPLE-STRUCTURED-LOCATION;VALUE=URI;X-ADDRESS=C. Van de Walle\, 6\, Santa
  Cruz de la Palma\, Santa Cruz de Tenerife\, 38700\, España;X-APPLE-RADIU
 S=100;X-TITLE=Real Sociedad Cosmológica:geo:28.683437,-17.765238
END:VEVENT
END:VCALENDAR