BEGIN:VCALENDAR
VERSION:2.0
PRODID:-//wp-events-plugin.com//7.2.3.1//EN
TZID:Europe/London
X-WR-TIMEZONE:Europe/London
BEGIN:VEVENT
UID:574@larevistadelapalma.com
DTSTART:20230803T180000Z
DTEND:20230803T193000Z
DTSTAMP:20230801T160429Z
URL:https://www.larevistadelapalma.com/events/presentacion-de-novela-el-es
 cabel-de-terciopelo-rojo-y-charla-historica/
SUMMARY:Presentación de novela "El escabel de terciopelo rojo" y charla hi
 stórica
DESCRIPTION:\nEl jueves 3 de agosto\, a las 19:00 horas\, en el Casino de S
 anta Cruz de La Palma\, tendrá lugar\, dentro de las actividades del Día
  del Corsario\, una charla y presentación de novela. Entrada libre y grat
 uita.\n\n\nSe presentará la novela de Baltasar Medina Peñate El escabel 
 de terciopelo rojo\, una novela ambientada en el ataque corsario a La Palm
 a\, que discurre por los tiempos y lugares de los grandes personajes de nu
 estro Corsario: Leclerc\, Desorés\, Melchora de Socarrás...\n\nY a conti
 nuación\, Manuel Garrido Abolafia nos deleitará con una entretenida char
 la sobre "El nacimiento de una sociedad: Esclavos y artesanías en el sigl
 o XVI palmero"\n\n
ATTACH;FMTTYPE=image/jpeg:https://www.larevistadelapalma.com/wp-content/up
 loads/2023/08/Presentacion-el-escabel-de-terciopelo-rojo-y-charla.jpg
CATEGORIES:Cine y Literatura,Formación,Literatura,Otras propuestas
LOCATION:Casino de Santa Cruz de La Palma\,  C. Anselmo Pérez de Brito\, 1
 5\, Santa Cruz De La Palma\, Santa Cruz de Tenerife\, 38700\, España
GEO:28.684234;-17.7638
X-APPLE-STRUCTURED-LOCATION;VALUE=URI;X-ADDRESS= C. Anselmo Pérez de Brito
 \, 15\, Santa Cruz De La Palma\, Santa Cruz de Tenerife\, 38700\, España;
 X-APPLE-RADIUS=100;X-TITLE=Casino de Santa Cruz de La Palma:geo:28.684234,
 -17.7638
END:VEVENT
END:VCALENDARBEGIN:VCALENDAR
VERSION:2.0
PRODID:-//wp-events-plugin.com//7.2.3.1//EN
TZID:Europe/London
X-WR-TIMEZONE:Europe/London
BEGIN:VEVENT
UID:574@larevistadelapalma.com
DTSTART:20230803T180000Z
DTEND:20230803T193000Z
DTSTAMP:20230801T160429Z
URL:https://www.larevistadelapalma.com/events/presentacion-de-novela-el-es
 cabel-de-terciopelo-rojo-y-charla-historica/
SUMMARY:Presentación de novela "El escabel de terciopelo rojo" y charla hi
 stórica
DESCRIPTION:\nEl jueves 3 de agosto\, a las 19:00 horas\, en el Casino de S
 anta Cruz de La Palma\, tendrá lugar\, dentro de las actividades del Día
  del Corsario\, una charla y presentación de novela. Entrada libre y grat
 uita.\n\n\nSe presentará la novela de Baltasar Medina Peñate El escabel 
 de terciopelo rojo\, una novela ambientada en el ataque corsario a La Palm
 a\, que discurre por los tiempos y lugares de los grandes personajes de nu
 estro Corsario: Leclerc\, Desorés\, Melchora de Socarrás...\n\nY a conti
 nuación\, Manuel Garrido Abolafia nos deleitará con una entretenida char
 la sobre "El nacimiento de una sociedad: Esclavos y artesanías en el sigl
 o XVI palmero"\n\n
ATTACH;FMTTYPE=image/jpeg:https://www.larevistadelapalma.com/wp-content/up
 loads/2023/08/Presentacion-el-escabel-de-terciopelo-rojo-y-charla.jpg
CATEGORIES:Cine y Literatura,Formación,Literatura,Otras propuestas
LOCATION:Casino de Santa Cruz de La Palma\,  C. Anselmo Pérez de Brito\, 1
 5\, Santa Cruz De La Palma\, Santa Cruz de Tenerife\, 38700\, España
GEO:28.684234;-17.7638
X-APPLE-STRUCTURED-LOCATION;VALUE=URI;X-ADDRESS= C. Anselmo Pérez de Brito
 \, 15\, Santa Cruz De La Palma\, Santa Cruz de Tenerife\, 38700\, España;
 X-APPLE-RADIUS=100;X-TITLE=Casino de Santa Cruz de La Palma:geo:28.684234,
 -17.7638
END:VEVENT
END:VCALENDAR