BEGIN:VCALENDAR
VERSION:2.0
PRODID:-//wp-events-plugin.com//7.2.3.1//EN
TZID:Europe/London
X-WR-TIMEZONE:Europe/London
BEGIN:VEVENT
UID:3060@larevistadelapalma.com
DTSTART:20240622T180000Z
DTEND:20240622T193000Z
DTSTAMP:20240612T210313Z
URL:https://www.larevistadelapalma.com/events/presentacion-del-disco-a-mar
 es-de-sergio-alzola/
SUMMARY:Presentación del disco "A mares" de Sergio Alzola
DESCRIPTION:El cantautor grancanario Sergio Alzola presenta en la Casa del 
 Conde de Argual su último disco "A mares".\n\n" A mares" es el tercer ál
 bum de estudio del cantautor compuesto por siete temas donde se encuentra 
 una versión musical del poema 'Un día habrá una isla' de Pedro García 
 Cabrera. Aunque no se trata de un disco melancólico. Son claras las influ
 encias latinas de Sergio\, que incluye en este trabajo Latin Funk\, salsa\
 , bachata\, pop... sonidos de otros lugares de los que se empapa en sus vi
 ajes.\n\n"Será mejor que la culpa no te atrape.\nSerá mejor que hagamos 
 un tratado de cuidado por la vida. \nAhora\, será mejor que te sumerjas e
 n mi lago\, al otro lado de la pena\, que ya pasé la cuarentena..."\n\nE
 ntradas 10€. Comprar &gt\;&gt\;
ATTACH;FMTTYPE=image/jpeg:https://www.larevistadelapalma.com/wp-content/up
 loads/2024/06/Sergio-ALzola.jpg
CATEGORIES:Conciertos,Música
LOCATION:Casa del Conde\, Los Llanos de Aridane\, C/San Antonio\, 35 - Llan
 o de Argual\, Los Llanos de Aridane\, 38760\, España
GEO:28.655333;-17.926641
X-APPLE-STRUCTURED-LOCATION;VALUE=URI;X-ADDRESS=C/San Antonio\, 35 - Llano 
 de Argual\, Los Llanos de Aridane\, 38760\, España;X-APPLE-RADIUS=100;X-T
 ITLE=Casa del Conde\, Los Llanos de Aridane:geo:28.655333,-17.926641
END:VEVENT
END:VCALENDARBEGIN:VCALENDAR
VERSION:2.0
PRODID:-//wp-events-plugin.com//7.2.3.1//EN
TZID:Europe/London
X-WR-TIMEZONE:Europe/London
BEGIN:VEVENT
UID:3060@larevistadelapalma.com
DTSTART:20240622T180000Z
DTEND:20240622T193000Z
DTSTAMP:20240612T210313Z
URL:https://www.larevistadelapalma.com/events/presentacion-del-disco-a-mar
 es-de-sergio-alzola/
SUMMARY:Presentación del disco "A mares" de Sergio Alzola
DESCRIPTION:El cantautor grancanario Sergio Alzola presenta en la Casa del 
 Conde de Argual su último disco "A mares".\n\n" A mares" es el tercer ál
 bum de estudio del cantautor compuesto por siete temas donde se encuentra 
 una versión musical del poema 'Un día habrá una isla' de Pedro García 
 Cabrera. Aunque no se trata de un disco melancólico. Son claras las influ
 encias latinas de Sergio\, que incluye en este trabajo Latin Funk\, salsa\
 , bachata\, pop... sonidos de otros lugares de los que se empapa en sus vi
 ajes.\n\n"Será mejor que la culpa no te atrape.\nSerá mejor que hagamos 
 un tratado de cuidado por la vida. \nAhora\, será mejor que te sumerjas e
 n mi lago\, al otro lado de la pena\, que ya pasé la cuarentena..."\n\nE
 ntradas 10€. Comprar &gt\;&gt\;
ATTACH;FMTTYPE=image/jpeg:https://www.larevistadelapalma.com/wp-content/up
 loads/2024/06/Sergio-ALzola.jpg
CATEGORIES:Conciertos,Música
LOCATION:Casa del Conde\, Los Llanos de Aridane\, C/San Antonio\, 35 - Llan
 o de Argual\, Los Llanos de Aridane\, 38760\, España
GEO:28.655333;-17.926641
X-APPLE-STRUCTURED-LOCATION;VALUE=URI;X-ADDRESS=C/San Antonio\, 35 - Llano 
 de Argual\, Los Llanos de Aridane\, 38760\, España;X-APPLE-RADIUS=100;X-T
 ITLE=Casa del Conde\, Los Llanos de Aridane:geo:28.655333,-17.926641
END:VEVENT
END:VCALENDAR