BEGIN:VCALENDAR
VERSION:2.0
PRODID:-//wp-events-plugin.com//7.2.3.1//EN
TZID:Europe/London
X-WR-TIMEZONE:Europe/London
BEGIN:VEVENT
UID:4048@larevistadelapalma.com
DTSTART:20251117T100000Z
DTEND:20251117T113000Z
DTSTAMP:20251106T182006Z
URL:https://www.larevistadelapalma.com/events/presentacion-del-estudo-en-e
 l-fuego-de-una-doble-contienda/
SUMMARY:Presentación del estudo "En el fuego de una doble contienda"
DESCRIPTION:El próximo 17 de noviembre a las 11:00h\, en la Casa Salazar e
 n Santa Cruz de La Palma\, tendrá lugar la presentación del estudio sobr
 e las violencias que atraviesan a las mujeres trans en La Palma.\n\nUn est
 udio realizado por el colectivo Violetas LGTBI La Palma\, llevado a cabo p
 or Clara Pérez Reus\, y subvencionado por el Ministerio de Igualdad\, con
  la colaboración institucional del Cabildo de La Palma.\nEste trabajo apo
 rta un análisis riguroso\, situado y necesario\, que abre conversación\,
  evidencia y acción política frente a las violencias específicas que vi
 ven las mujeres trans en la isla.\nEntrada libre hasta completar aforo.
ATTACH;FMTTYPE=image/jpeg:https://www.larevistadelapalma.com/wp-content/up
 loads/2025/11/En-el-fuego-de-una-doble-contienda.jpg
CATEGORIES:Formación,Otras propuestas
LOCATION:Casa principal de Salazar\, Calle Odaly\, 22\, Santa Cruz de La Pa
 lma\, 38700\, España
GEO:28.682275;-17.765795
X-APPLE-STRUCTURED-LOCATION;VALUE=URI;X-ADDRESS=Calle Odaly\, 22\, Santa Cr
 uz de La Palma\, 38700\, España;X-APPLE-RADIUS=100;X-TITLE=Casa principal
  de Salazar:geo:28.682275,-17.765795
END:VEVENT
END:VCALENDARBEGIN:VCALENDAR
VERSION:2.0
PRODID:-//wp-events-plugin.com//7.2.3.1//EN
TZID:Europe/London
X-WR-TIMEZONE:Europe/London
BEGIN:VEVENT
UID:4048@larevistadelapalma.com
DTSTART:20251117T100000Z
DTEND:20251117T113000Z
DTSTAMP:20251106T182006Z
URL:https://www.larevistadelapalma.com/events/presentacion-del-estudo-en-e
 l-fuego-de-una-doble-contienda/
SUMMARY:Presentación del estudo "En el fuego de una doble contienda"
DESCRIPTION:El próximo 17 de noviembre a las 11:00h\, en la Casa Salazar e
 n Santa Cruz de La Palma\, tendrá lugar la presentación del estudio sobr
 e las violencias que atraviesan a las mujeres trans en La Palma.\n\nUn est
 udio realizado por el colectivo Violetas LGTBI La Palma\, llevado a cabo p
 or Clara Pérez Reus\, y subvencionado por el Ministerio de Igualdad\, con
  la colaboración institucional del Cabildo de La Palma.\nEste trabajo apo
 rta un análisis riguroso\, situado y necesario\, que abre conversación\,
  evidencia y acción política frente a las violencias específicas que vi
 ven las mujeres trans en la isla.\nEntrada libre hasta completar aforo.
ATTACH;FMTTYPE=image/jpeg:https://www.larevistadelapalma.com/wp-content/up
 loads/2025/11/En-el-fuego-de-una-doble-contienda.jpg
CATEGORIES:Formación,Otras propuestas
LOCATION:Casa principal de Salazar\, Calle Odaly\, 22\, Santa Cruz de La Pa
 lma\, 38700\, España
GEO:28.682275;-17.765795
X-APPLE-STRUCTURED-LOCATION;VALUE=URI;X-ADDRESS=Calle Odaly\, 22\, Santa Cr
 uz de La Palma\, 38700\, España;X-APPLE-RADIUS=100;X-TITLE=Casa principal
  de Salazar:geo:28.682275,-17.765795
END:VEVENT
END:VCALENDAR