BEGIN:VCALENDAR
VERSION:2.0
PRODID:-//wp-events-plugin.com//7.2.3.1//EN
TZID:Europe/London
X-WR-TIMEZONE:Europe/London
BEGIN:VEVENT
UID:3737@larevistadelapalma.com
DTSTART:20250505T193000Z
DTEND:20250505T210000Z
DTSTAMP:20250502T175239Z
URL:https://www.larevistadelapalma.com/events/presentacion-del-fotolibro-l
 a-mas-hermosa-santa-cruz-de-la-palma-de-emilio-barrionuevo-y-elsa-lopez/
SUMMARY:Presentación del fotolibro "La más hermosa: Santa Cruz de La Palm
 a"\, de Emilio Barrionuevo y Elsa López
DESCRIPTION:Este lunes 5 de mayo tendrá lugar la presentación del libro L
 a más hermosa: Santa Cruz de La Palma\, una obra del reconocido fotógraf
 o Emilio Barrionuevo y la escritora Elsa López\, Premio Canarias de Liter
 atura.\n\nCon la banda sonora realizada especialmente para el libro compue
 sta por Maite Santos\, audiovisules de Van Marty\, maquetado por Xavi Roca
  y editado por el Ayuntamiento de Santa Cruz de La Palma.\n\nUn homenaje v
 isual y literario a la belleza\, historia y esencia de nuestra capital\, c
 ontado a través de imágenes y palabras que emocionan
ATTACH;FMTTYPE=image/jpeg:https://www.larevistadelapalma.com/wp-content/up
 loads/2025/05/La-mas-hermosa-Santa-Cruz-de-La-Palma.jpg
CATEGORIES:Cine y Literatura,Literatura,Otras propuestas,Varios
LOCATION:Teatro Chico\, Calle Díaz Pimienta\, 1\, Santa Cruz De La Palma\,
  Santa Cruz de Tenerife\, 38700\, España
GEO:28.68432;-17.764225
X-APPLE-STRUCTURED-LOCATION;VALUE=URI;X-ADDRESS=Calle Díaz Pimienta\, 1\, 
 Santa Cruz De La Palma\, Santa Cruz de Tenerife\, 38700\, España;X-APPLE-
 RADIUS=100;X-TITLE=Teatro Chico:geo:28.68432,-17.764225
END:VEVENT
END:VCALENDARBEGIN:VCALENDAR
VERSION:2.0
PRODID:-//wp-events-plugin.com//7.2.3.1//EN
TZID:Europe/London
X-WR-TIMEZONE:Europe/London
BEGIN:VEVENT
UID:3737@larevistadelapalma.com
DTSTART:20250505T193000Z
DTEND:20250505T210000Z
DTSTAMP:20250502T175239Z
URL:https://www.larevistadelapalma.com/events/presentacion-del-fotolibro-l
 a-mas-hermosa-santa-cruz-de-la-palma-de-emilio-barrionuevo-y-elsa-lopez/
SUMMARY:Presentación del fotolibro "La más hermosa: Santa Cruz de La Palm
 a"\, de Emilio Barrionuevo y Elsa López
DESCRIPTION:Este lunes 5 de mayo tendrá lugar la presentación del libro L
 a más hermosa: Santa Cruz de La Palma\, una obra del reconocido fotógraf
 o Emilio Barrionuevo y la escritora Elsa López\, Premio Canarias de Liter
 atura.\n\nCon la banda sonora realizada especialmente para el libro compue
 sta por Maite Santos\, audiovisules de Van Marty\, maquetado por Xavi Roca
  y editado por el Ayuntamiento de Santa Cruz de La Palma.\n\nUn homenaje v
 isual y literario a la belleza\, historia y esencia de nuestra capital\, c
 ontado a través de imágenes y palabras que emocionan
ATTACH;FMTTYPE=image/jpeg:https://www.larevistadelapalma.com/wp-content/up
 loads/2025/05/La-mas-hermosa-Santa-Cruz-de-La-Palma.jpg
CATEGORIES:Cine y Literatura,Literatura,Otras propuestas,Varios
LOCATION:Teatro Chico\, Calle Díaz Pimienta\, 1\, Santa Cruz De La Palma\,
  Santa Cruz de Tenerife\, 38700\, España
GEO:28.68432;-17.764225
X-APPLE-STRUCTURED-LOCATION;VALUE=URI;X-ADDRESS=Calle Díaz Pimienta\, 1\, 
 Santa Cruz De La Palma\, Santa Cruz de Tenerife\, 38700\, España;X-APPLE-
 RADIUS=100;X-TITLE=Teatro Chico:geo:28.68432,-17.764225
END:VEVENT
END:VCALENDAR