BEGIN:VCALENDAR
VERSION:2.0
PRODID:-//wp-events-plugin.com//7.2.3.1//EN
TZID:Europe/London
X-WR-TIMEZONE:Europe/London
BEGIN:VEVENT
UID:3800@larevistadelapalma.com
DTSTART:20250628T110000Z
DTEND:20250628T123000Z
DTSTAMP:20250606T120445Z
URL:https://www.larevistadelapalma.com/events/presentacion-del-libro-100-p
 rosas-9-musas-de-joel-perez-noguera/
SUMMARY:Presentación del libro "100 prosas\, 9 musas" de Joel Pérez Nogue
 ra
DESCRIPTION:100 prosas\, 9 musas es el cuarto trabajo literario de Joel y c
 ontiene reflexiones\, ensayos\, relatos y prosa poética. \n\nJoel se in
 ició en la escritura cuando era un adolescente\, aunque por ese entonces\
 , no tenía ninguna técnica\, simplemente escribía de forma experimental
  e intuitiva. Ha publicado cuatro libros en solitario: Contrastes en 2021\
 , Luz de Abora en 2022\, Viaje en el Viento en 2024 y 100 prosas\, 9 musas
  en el 2025.\n\nActualmente es coordinador del Club de Lectura de Villa de
  Mazo\, en el Espacio Literario El Rincón de Alonsín\, junto a la artist
 a Fátima Pérez Méndez.\n"En esta ocasión salgo de mi zona de confort (
 la poesía) y me adentro en los misteriosos laberintos del párrafo.\n\nEs
 te libro contiene como su título indica\, cien textos escritos en prosa.
  Reflexiones\, ensayos\, relatos y prosa poética son las formas que ad
 quiere mi obra\, con un carácter filosófico abordando temáticas unive
 rsales de amplia reflexión que invita al pensamiento crítico y al análi
 sis de estos aspectos.\n\nTambién destaco la faceta terapéutica en la 
 cual\, uso la escritura como herramienta de autoayuda y autoconocimiento
  y dejo al lector una serie de consejos\, que también me sirven a mí\, 
 pues aunque puedo caer en el error como cualquier otro ser humano\, la vir
 tud de mi camino está en la resiliencia y la determinación\, valores que
  subrayo y a los que doy mucha importancia en mis textos.\n\nOtra novedad 
 en mi obra son los relatos\, en los que cuento una historia\, sin dejar 
 de lado mi estilo poético\, pero incluyendo la narración y descripción 
 en mis escritos.\n\nNo me olvido de todos los aspectos del arte que caract
 erizan mi forma de ser\, por ejemplo\, la estética del lenguaje.\n\n100 
 prosas\, 9 musas es una colección de todos mis textos hasta la fecha y t
 ienen en común\, que todos tienen un mensaje o varios mensajes que consi
 dero de vital importancia y que pueden servir al lector en su camino hacia
  la luz\, a ayudarles a ser su mejor versión y no caer en el grave er
 ror de no ser ellos mismos."
ATTACH;FMTTYPE=image/jpeg:https://www.larevistadelapalma.com/wp-content/up
 loads/2025/06/100-prosas-9-musas-Joel-Perez-Noguera.jpg
CATEGORIES:Cine y Literatura,Literatura
LOCATION:Museo Casa Roja\, C. Maximiliano Pérez Díaz\, 23\, Villa de Mazo
 \, 38730\, España
GEO:28.607435;-17.77894
X-APPLE-STRUCTURED-LOCATION;VALUE=URI;X-ADDRESS=C. Maximiliano Pérez Díaz
 \, 23\, Villa de Mazo\, 38730\, España;X-APPLE-RADIUS=100;X-TITLE=Museo C
 asa Roja:geo:28.607435,-17.77894
END:VEVENT
END:VCALENDARBEGIN:VCALENDAR
VERSION:2.0
PRODID:-//wp-events-plugin.com//7.2.3.1//EN
TZID:Europe/London
X-WR-TIMEZONE:Europe/London
BEGIN:VEVENT
UID:3800@larevistadelapalma.com
DTSTART:20250628T110000Z
DTEND:20250628T123000Z
DTSTAMP:20250606T120445Z
URL:https://www.larevistadelapalma.com/events/presentacion-del-libro-100-p
 rosas-9-musas-de-joel-perez-noguera/
SUMMARY:Presentación del libro "100 prosas\, 9 musas" de Joel Pérez Nogue
 ra
DESCRIPTION:100 prosas\, 9 musas es el cuarto trabajo literario de Joel y c
 ontiene reflexiones\, ensayos\, relatos y prosa poética. \n\nJoel se in
 ició en la escritura cuando era un adolescente\, aunque por ese entonces\
 , no tenía ninguna técnica\, simplemente escribía de forma experimental
  e intuitiva. Ha publicado cuatro libros en solitario: Contrastes en 2021\
 , Luz de Abora en 2022\, Viaje en el Viento en 2024 y 100 prosas\, 9 musas
  en el 2025.\n\nActualmente es coordinador del Club de Lectura de Villa de
  Mazo\, en el Espacio Literario El Rincón de Alonsín\, junto a la artist
 a Fátima Pérez Méndez.\n"En esta ocasión salgo de mi zona de confort (
 la poesía) y me adentro en los misteriosos laberintos del párrafo.\n\nEs
 te libro contiene como su título indica\, cien textos escritos en prosa.
  Reflexiones\, ensayos\, relatos y prosa poética son las formas que ad
 quiere mi obra\, con un carácter filosófico abordando temáticas unive
 rsales de amplia reflexión que invita al pensamiento crítico y al análi
 sis de estos aspectos.\n\nTambién destaco la faceta terapéutica en la 
 cual\, uso la escritura como herramienta de autoayuda y autoconocimiento
  y dejo al lector una serie de consejos\, que también me sirven a mí\, 
 pues aunque puedo caer en el error como cualquier otro ser humano\, la vir
 tud de mi camino está en la resiliencia y la determinación\, valores que
  subrayo y a los que doy mucha importancia en mis textos.\n\nOtra novedad 
 en mi obra son los relatos\, en los que cuento una historia\, sin dejar 
 de lado mi estilo poético\, pero incluyendo la narración y descripción 
 en mis escritos.\n\nNo me olvido de todos los aspectos del arte que caract
 erizan mi forma de ser\, por ejemplo\, la estética del lenguaje.\n\n100 
 prosas\, 9 musas es una colección de todos mis textos hasta la fecha y t
 ienen en común\, que todos tienen un mensaje o varios mensajes que consi
 dero de vital importancia y que pueden servir al lector en su camino hacia
  la luz\, a ayudarles a ser su mejor versión y no caer en el grave er
 ror de no ser ellos mismos."
ATTACH;FMTTYPE=image/jpeg:https://www.larevistadelapalma.com/wp-content/up
 loads/2025/06/100-prosas-9-musas-Joel-Perez-Noguera.jpg
CATEGORIES:Cine y Literatura,Literatura
LOCATION:Museo Casa Roja\, C. Maximiliano Pérez Díaz\, 23\, Villa de Mazo
 \, 38730\, España
GEO:28.607435;-17.77894
X-APPLE-STRUCTURED-LOCATION;VALUE=URI;X-ADDRESS=C. Maximiliano Pérez Díaz
 \, 23\, Villa de Mazo\, 38730\, España;X-APPLE-RADIUS=100;X-TITLE=Museo C
 asa Roja:geo:28.607435,-17.77894
END:VEVENT
END:VCALENDAR