BEGIN:VCALENDAR
VERSION:2.0
PRODID:-//wp-events-plugin.com//7.2.3.1//EN
TZID:Europe/London
X-WR-TIMEZONE:Europe/London
BEGIN:VEVENT
UID:3805@larevistadelapalma.com
DTSTART:20250611T190000Z
DTEND:20250611T203000Z
DTSTAMP:20250610T011334Z
URL:https://www.larevistadelapalma.com/events/presentacion-del-libro-de-jo
 se-antonio-martin-corujo-los-latidos-del-deseo/
SUMMARY:Presentación del libro de José Antonio Martín Corujo "Los latido
 s del deseo"
DESCRIPTION:Presenta el acto Javier Afonso Plata.\n\nPresentación del libr
 o de José Antonio Martín Corujo  "Los latidos del deseo"\, en el que se 
 dan cita deseos incontenibles\, puros\, frustrados\, instintivos\, sensual
 es. Deseos de llorar\, de saber\, de regalar\, de disfrutar\, de emborrach
 arnos de vida\, todos ellos para hablarnos sin tapujos de nosotros mismos.
 \n\nJosé Antonio Martín Corujo es un artesano de las palabras. Construye
  con ellas paisajes isleños habitados por personajes cercanos cuyas decis
 iones nos interpelan\, nos afectan. Somos zarandeados por las tramas de es
 tos relatos junto a sus protagonistas\, asistiendo al devenir de unas vida
 s que podrían ser las nuestras. Sin darnos cuenta acabamos involucrados e
 n ellas\, sintiendo cómo palpitan los latidos del deseo.\nBelén Lorenzo.
 \n
ATTACH;FMTTYPE=image/jpeg:https://www.larevistadelapalma.com/wp-content/up
 loads/2025/06/los-latidos-del-deseo.jpg
CATEGORIES:Cine y Literatura,Literatura
LOCATION:Real Sociedad Cosmológica\, C. Van de Walle\, 6\, Santa Cruz de l
 a Palma\, Santa Cruz de Tenerife\, 38700\, España
GEO:28.683437;-17.765238
X-APPLE-STRUCTURED-LOCATION;VALUE=URI;X-ADDRESS=C. Van de Walle\, 6\, Santa
  Cruz de la Palma\, Santa Cruz de Tenerife\, 38700\, España;X-APPLE-RADIU
 S=100;X-TITLE=Real Sociedad Cosmológica:geo:28.683437,-17.765238
END:VEVENT
END:VCALENDARBEGIN:VCALENDAR
VERSION:2.0
PRODID:-//wp-events-plugin.com//7.2.3.1//EN
TZID:Europe/London
X-WR-TIMEZONE:Europe/London
BEGIN:VEVENT
UID:3805@larevistadelapalma.com
DTSTART:20250611T190000Z
DTEND:20250611T203000Z
DTSTAMP:20250610T011334Z
URL:https://www.larevistadelapalma.com/events/presentacion-del-libro-de-jo
 se-antonio-martin-corujo-los-latidos-del-deseo/
SUMMARY:Presentación del libro de José Antonio Martín Corujo "Los latido
 s del deseo"
DESCRIPTION:Presenta el acto Javier Afonso Plata.\n\nPresentación del libr
 o de José Antonio Martín Corujo  "Los latidos del deseo"\, en el que se 
 dan cita deseos incontenibles\, puros\, frustrados\, instintivos\, sensual
 es. Deseos de llorar\, de saber\, de regalar\, de disfrutar\, de emborrach
 arnos de vida\, todos ellos para hablarnos sin tapujos de nosotros mismos.
 \n\nJosé Antonio Martín Corujo es un artesano de las palabras. Construye
  con ellas paisajes isleños habitados por personajes cercanos cuyas decis
 iones nos interpelan\, nos afectan. Somos zarandeados por las tramas de es
 tos relatos junto a sus protagonistas\, asistiendo al devenir de unas vida
 s que podrían ser las nuestras. Sin darnos cuenta acabamos involucrados e
 n ellas\, sintiendo cómo palpitan los latidos del deseo.\nBelén Lorenzo.
 \n
ATTACH;FMTTYPE=image/jpeg:https://www.larevistadelapalma.com/wp-content/up
 loads/2025/06/los-latidos-del-deseo.jpg
CATEGORIES:Cine y Literatura,Literatura
LOCATION:Real Sociedad Cosmológica\, C. Van de Walle\, 6\, Santa Cruz de l
 a Palma\, Santa Cruz de Tenerife\, 38700\, España
GEO:28.683437;-17.765238
X-APPLE-STRUCTURED-LOCATION;VALUE=URI;X-ADDRESS=C. Van de Walle\, 6\, Santa
  Cruz de la Palma\, Santa Cruz de Tenerife\, 38700\, España;X-APPLE-RADIU
 S=100;X-TITLE=Real Sociedad Cosmológica:geo:28.683437,-17.765238
END:VEVENT
END:VCALENDAR