BEGIN:VCALENDAR
VERSION:2.0
PRODID:-//wp-events-plugin.com//7.2.3.1//EN
TZID:Europe/London
X-WR-TIMEZONE:Europe/London
BEGIN:VEVENT
UID:13@larevistadelapalma.com
DTSTART:20230623T190000Z
DTEND:20230623T200000Z
DTSTAMP:20230621T180057Z
URL:https://www.larevistadelapalma.com/events/presentacion-del-libro-el-vi
 aje-de-una-sonrisa-de-la-palmera-cristina-pino/
SUMMARY:Presentación del libro El viaje de una sonrisa\, de la palmera Cri
 stina Pino
DESCRIPTION:\nPuesta de largo del libro 𝐸𝑙 𝑣𝑖𝑎𝑗𝑒 𝑑
 𝑒 𝑢𝑛𝑎 𝑠𝑜𝑛𝑟𝑖𝑠𝑎\, de Cristina Pino\, un re
 corrido emocional que trata sobre cómo vivir con una discapacidad física
  y los retos a los que se deben enfrentar las personas con capacidades dif
 erentes.\n\n\nEl viaje de una sonrisa en una pequeña aportación para las
  personas que se superan día a día\, para las que quieren mejorar\, para
  las que tratan de comunicarse de otra manera\, para las que necesitan lib
 erar el peso de sus mochilas y poder avanzar y para todas aquellos que qui
 eran vivir desde el equilibrio que aporta la tranquilidad y la calma\, par
 a poder ganar todas las batallas que creemos perdidas.\n\nLa crítica lite
 raria ha dicho de El viaje de una sonrisa que es “todo un ejemplo vital
  que merece la pena conocer y difundir”.\n\n\nCristina Pino (Santa Cruz 
 de La Palma\, 1987). Periodista especializada en marketing y publicidad\, 
 hace cinco años le dio a su vida un giro profesional de ciento ochenta gr
 ados para trabajar como orientadora laboral\, docente y coach. En la actua
 lidad es técnica responsable de proyectos de formación y empleo dirigido
 s a personas desempleadas de diferentes colectivos\, como personas con dis
 capacidad o en riesgo de exclusión social. Entrena a las personas usuaria
 s para que ganen confianza y seguridad con el fin de que crean en sí mism
 as y tengan las habilidades necesarias para volver al mercado laboral. Gra
 cias a esta dedicación descubrió que su verdadera pasión era ayudar y m
 otivar a los demás ante sus propios desafíos.\n\n\n\nLa presentación co
 rrerá a cargo de la periodista Eugenia Paiz\, y tendrá lugar en el saló
 n noble de la Real Cosmológica.\n
ATTACH;FMTTYPE=image/jpeg:https://www.larevistadelapalma.com/wp-content/up
 loads/2023/06/El-viaje-de-una-sonrisa-Cristina-Pino.jpg
CATEGORIES:Literatura
LOCATION:Real Sociedad Cosmológica\, C. Van de Walle\, 6\, Santa Cruz de l
 a Palma\, Santa Cruz de Tenerife\, 38700\, España
GEO:28.683437;-17.765238
X-APPLE-STRUCTURED-LOCATION;VALUE=URI;X-ADDRESS=C. Van de Walle\, 6\, Santa
  Cruz de la Palma\, Santa Cruz de Tenerife\, 38700\, España;X-APPLE-RADIU
 S=100;X-TITLE=Real Sociedad Cosmológica:geo:28.683437,-17.765238
END:VEVENT
END:VCALENDARBEGIN:VCALENDAR
VERSION:2.0
PRODID:-//wp-events-plugin.com//7.2.3.1//EN
TZID:Europe/London
X-WR-TIMEZONE:Europe/London
BEGIN:VEVENT
UID:13@larevistadelapalma.com
DTSTART:20230623T190000Z
DTEND:20230623T200000Z
DTSTAMP:20230621T180057Z
URL:https://www.larevistadelapalma.com/events/presentacion-del-libro-el-vi
 aje-de-una-sonrisa-de-la-palmera-cristina-pino/
SUMMARY:Presentación del libro El viaje de una sonrisa\, de la palmera Cri
 stina Pino
DESCRIPTION:\nPuesta de largo del libro 𝐸𝑙 𝑣𝑖𝑎𝑗𝑒 𝑑
 𝑒 𝑢𝑛𝑎 𝑠𝑜𝑛𝑟𝑖𝑠𝑎\, de Cristina Pino\, un re
 corrido emocional que trata sobre cómo vivir con una discapacidad física
  y los retos a los que se deben enfrentar las personas con capacidades dif
 erentes.\n\n\nEl viaje de una sonrisa en una pequeña aportación para las
  personas que se superan día a día\, para las que quieren mejorar\, para
  las que tratan de comunicarse de otra manera\, para las que necesitan lib
 erar el peso de sus mochilas y poder avanzar y para todas aquellos que qui
 eran vivir desde el equilibrio que aporta la tranquilidad y la calma\, par
 a poder ganar todas las batallas que creemos perdidas.\n\nLa crítica lite
 raria ha dicho de El viaje de una sonrisa que es “todo un ejemplo vital
  que merece la pena conocer y difundir”.\n\n\nCristina Pino (Santa Cruz 
 de La Palma\, 1987). Periodista especializada en marketing y publicidad\, 
 hace cinco años le dio a su vida un giro profesional de ciento ochenta gr
 ados para trabajar como orientadora laboral\, docente y coach. En la actua
 lidad es técnica responsable de proyectos de formación y empleo dirigido
 s a personas desempleadas de diferentes colectivos\, como personas con dis
 capacidad o en riesgo de exclusión social. Entrena a las personas usuaria
 s para que ganen confianza y seguridad con el fin de que crean en sí mism
 as y tengan las habilidades necesarias para volver al mercado laboral. Gra
 cias a esta dedicación descubrió que su verdadera pasión era ayudar y m
 otivar a los demás ante sus propios desafíos.\n\n\n\nLa presentación co
 rrerá a cargo de la periodista Eugenia Paiz\, y tendrá lugar en el saló
 n noble de la Real Cosmológica.\n
ATTACH;FMTTYPE=image/jpeg:https://www.larevistadelapalma.com/wp-content/up
 loads/2023/06/El-viaje-de-una-sonrisa-Cristina-Pino.jpg
CATEGORIES:Literatura
LOCATION:Real Sociedad Cosmológica\, C. Van de Walle\, 6\, Santa Cruz de l
 a Palma\, Santa Cruz de Tenerife\, 38700\, España
GEO:28.683437;-17.765238
X-APPLE-STRUCTURED-LOCATION;VALUE=URI;X-ADDRESS=C. Van de Walle\, 6\, Santa
  Cruz de la Palma\, Santa Cruz de Tenerife\, 38700\, España;X-APPLE-RADIU
 S=100;X-TITLE=Real Sociedad Cosmológica:geo:28.683437,-17.765238
END:VEVENT
END:VCALENDAR