BEGIN:VCALENDAR
VERSION:2.0
PRODID:-//wp-events-plugin.com//7.2.3.1//EN
TZID:Europe/London
X-WR-TIMEZONE:Europe/London
BEGIN:VEVENT
UID:4074@larevistadelapalma.com
DTSTART:20251211T180000Z
DTEND:20251211T193000Z
DTSTAMP:20251127T140444Z
URL:https://www.larevistadelapalma.com/events/presentacion-del-libro-estan
 -aqui-de-j-j-benitez/
SUMMARY:Presentación del libro "Están aquí" de J.J. Benitez
DESCRIPTION:Un libro en el que el navarro vuelve para denunciar mentiras y 
 ocultamientos de las cúpulas militares de todo el mundo sobre el fenómen
 o ovni.
ATTACH;FMTTYPE=image/jpeg:https://www.larevistadelapalma.com/wp-content/up
 loads/2025/11/Estan-aqui-jjj-benitez.jpg
CATEGORIES:Cine y Literatura,Literatura
LOCATION:Real Sociedad Cosmológica\, C. Van de Walle\, 6\, Santa Cruz de l
 a Palma\, Santa Cruz de Tenerife\, 38700\, España
GEO:28.683437;-17.765238
X-APPLE-STRUCTURED-LOCATION;VALUE=URI;X-ADDRESS=C. Van de Walle\, 6\, Santa
  Cruz de la Palma\, Santa Cruz de Tenerife\, 38700\, España;X-APPLE-RADIU
 S=100;X-TITLE=Real Sociedad Cosmológica:geo:28.683437,-17.765238
END:VEVENT
END:VCALENDARBEGIN:VCALENDAR
VERSION:2.0
PRODID:-//wp-events-plugin.com//7.2.3.1//EN
TZID:Europe/London
X-WR-TIMEZONE:Europe/London
BEGIN:VEVENT
UID:4074@larevistadelapalma.com
DTSTART:20251211T180000Z
DTEND:20251211T193000Z
DTSTAMP:20251127T140444Z
URL:https://www.larevistadelapalma.com/events/presentacion-del-libro-estan
 -aqui-de-j-j-benitez/
SUMMARY:Presentación del libro "Están aquí" de J.J. Benitez
DESCRIPTION:Un libro en el que el navarro vuelve para denunciar mentiras y 
 ocultamientos de las cúpulas militares de todo el mundo sobre el fenómen
 o ovni.
ATTACH;FMTTYPE=image/jpeg:https://www.larevistadelapalma.com/wp-content/up
 loads/2025/11/Estan-aqui-jjj-benitez.jpg
CATEGORIES:Cine y Literatura,Literatura
LOCATION:Real Sociedad Cosmológica\, C. Van de Walle\, 6\, Santa Cruz de l
 a Palma\, Santa Cruz de Tenerife\, 38700\, España
GEO:28.683437;-17.765238
X-APPLE-STRUCTURED-LOCATION;VALUE=URI;X-ADDRESS=C. Van de Walle\, 6\, Santa
  Cruz de la Palma\, Santa Cruz de Tenerife\, 38700\, España;X-APPLE-RADIU
 S=100;X-TITLE=Real Sociedad Cosmológica:geo:28.683437,-17.765238
END:VEVENT
END:VCALENDAR