BEGIN:VCALENDAR
VERSION:2.0
PRODID:-//wp-events-plugin.com//7.2.3.1//EN
TZID:Europe/London
X-WR-TIMEZONE:Europe/London
BEGIN:VEVENT
UID:4643@larevistadelapalma.com
DTSTART:20260423T190000Z
DTEND:20260423T203000Z
DTSTAMP:20260422T211106Z
URL:https://www.larevistadelapalma.com/events/presentacion-del-libro-tropi
 clasicos/
SUMMARY:Presentación del libro "Tropiclásicos" (manual básico para bárm
 anes)
DESCRIPTION:\nLibro de cócteles y manual básico para bármanes de Francis
 co Bayardi.\n\n\n Presentación de una esta publicación\, con marcado ca
 rácter divulgativo para cualquier persona interesada en este apasionante 
 mundo\, sobre la elaboración de cócteles clásicos\, versionados en algu
 nos casos\, tropicalizados\, por el barman palmero Fran Bayarri (Francisco
  Bayarri Martín).\n\n\nEntrada libre hasta completar aforo en Gastro-Bar 
 Mundana (Avda. Enrique Mederos\, 12).\n\n
ATTACH;FMTTYPE=image/jpeg:https://www.larevistadelapalma.com/wp-content/up
 loads/2026/04/4-23-TROPICLASICOS.jpg
CATEGORIES:Gastro,Otras propuestas,Varios
LOCATION:Municipio de Los Llanos de Aridane\, Los Llanos de Aridane\, Los L
 lanos de Aridane\, 38760\, España
GEO:28.660236;-17.913187
X-APPLE-STRUCTURED-LOCATION;VALUE=URI;X-ADDRESS=Los Llanos de Aridane\, Los
  Llanos de Aridane\, 38760\, España;X-APPLE-RADIUS=100;X-TITLE=Municipio 
 de Los Llanos de Aridane:geo:28.660236,-17.913187
END:VEVENT
END:VCALENDARBEGIN:VCALENDAR
VERSION:2.0
PRODID:-//wp-events-plugin.com//7.2.3.1//EN
TZID:Europe/London
X-WR-TIMEZONE:Europe/London
BEGIN:VEVENT
UID:4643@larevistadelapalma.com
DTSTART:20260423T190000Z
DTEND:20260423T203000Z
DTSTAMP:20260422T211106Z
URL:https://www.larevistadelapalma.com/events/presentacion-del-libro-tropi
 clasicos/
SUMMARY:Presentación del libro "Tropiclásicos" (manual básico para bárm
 anes)
DESCRIPTION:\nLibro de cócteles y manual básico para bármanes de Francis
 co Bayardi.\n\n\n Presentación de una esta publicación\, con marcado ca
 rácter divulgativo para cualquier persona interesada en este apasionante 
 mundo\, sobre la elaboración de cócteles clásicos\, versionados en algu
 nos casos\, tropicalizados\, por el barman palmero Fran Bayarri (Francisco
  Bayarri Martín).\n\n\nEntrada libre hasta completar aforo en Gastro-Bar 
 Mundana (Avda. Enrique Mederos\, 12).\n\n
ATTACH;FMTTYPE=image/jpeg:https://www.larevistadelapalma.com/wp-content/up
 loads/2026/04/4-23-TROPICLASICOS.jpg
CATEGORIES:Gastro,Otras propuestas,Varios
LOCATION:Municipio de Los Llanos de Aridane\, Los Llanos de Aridane\, Los L
 lanos de Aridane\, 38760\, España
GEO:28.660236;-17.913187
X-APPLE-STRUCTURED-LOCATION;VALUE=URI;X-ADDRESS=Los Llanos de Aridane\, Los
  Llanos de Aridane\, 38760\, España;X-APPLE-RADIUS=100;X-TITLE=Municipio 
 de Los Llanos de Aridane:geo:28.660236,-17.913187
END:VEVENT
END:VCALENDAR