BEGIN:VCALENDAR
VERSION:2.0
PRODID:-//wp-events-plugin.com//7.2.3.1//EN
TZID:Europe/London
X-WR-TIMEZONE:Europe/London
BEGIN:VEVENT
UID:793@larevistadelapalma.com
DTSTART:20231027T173000Z
DTEND:20231027T183000Z
DTSTAMP:20231025T194834Z
URL:https://www.larevistadelapalma.com/events/presentacion-del-poemario-a-
 veces-sueno-con-la-caldera-de-sara-perez-martin/
SUMMARY:Presentación del poemario "A veces sueño con la Caldera"\, de Sar
 a Pérez Martín
DESCRIPTION:Una obra elaborada por Sara Pérez Martín\, bióloga de campo 
 y experta en biodiversidad terrestre de Canarias\, durante su periodo de t
 rabajo (2021-2023) en el Parque Nacional de la Caldera de Taburiente
ATTACH;FMTTYPE=image/jpeg:https://www.larevistadelapalma.com/wp-content/up
 loads/2023/10/A-veces-sueno-con-la-caldera.jpg
CATEGORIES:Cine y Literatura,Literatura
LOCATION:Casa de la Cultura Braulio Martín Hernández de El Paso\, Av. Isl
 as Canarias\, 9\,\, El Paso\, 38750\, España
GEO:28.652923;-17.880463
X-APPLE-STRUCTURED-LOCATION;VALUE=URI;X-ADDRESS=Av. Islas Canarias\, 9\,\, 
 El Paso\, 38750\, España;X-APPLE-RADIUS=100;X-TITLE=Casa de la Cultura Br
 aulio Martín Hernández de El Paso:geo:28.652923,-17.880463
END:VEVENT
END:VCALENDARBEGIN:VCALENDAR
VERSION:2.0
PRODID:-//wp-events-plugin.com//7.2.3.1//EN
TZID:Europe/London
X-WR-TIMEZONE:Europe/London
BEGIN:VEVENT
UID:793@larevistadelapalma.com
DTSTART:20231027T173000Z
DTEND:20231027T183000Z
DTSTAMP:20231025T194834Z
URL:https://www.larevistadelapalma.com/events/presentacion-del-poemario-a-
 veces-sueno-con-la-caldera-de-sara-perez-martin/
SUMMARY:Presentación del poemario "A veces sueño con la Caldera"\, de Sar
 a Pérez Martín
DESCRIPTION:Una obra elaborada por Sara Pérez Martín\, bióloga de campo 
 y experta en biodiversidad terrestre de Canarias\, durante su periodo de t
 rabajo (2021-2023) en el Parque Nacional de la Caldera de Taburiente
ATTACH;FMTTYPE=image/jpeg:https://www.larevistadelapalma.com/wp-content/up
 loads/2023/10/A-veces-sueno-con-la-caldera.jpg
CATEGORIES:Cine y Literatura,Literatura
LOCATION:Casa de la Cultura Braulio Martín Hernández de El Paso\, Av. Isl
 as Canarias\, 9\,\, El Paso\, 38750\, España
GEO:28.652923;-17.880463
X-APPLE-STRUCTURED-LOCATION;VALUE=URI;X-ADDRESS=Av. Islas Canarias\, 9\,\, 
 El Paso\, 38750\, España;X-APPLE-RADIUS=100;X-TITLE=Casa de la Cultura Br
 aulio Martín Hernández de El Paso:geo:28.652923,-17.880463
END:VEVENT
END:VCALENDAR