BEGIN:VCALENDAR
VERSION:2.0
PRODID:-//wp-events-plugin.com//7.2.3.1//EN
TZID:Europe/London
X-WR-TIMEZONE:Europe/London
BEGIN:VEVENT
UID:3471@larevistadelapalma.com
DTSTART:20241211T183000Z
DTEND:20241211T200000Z
DTSTAMP:20241205T162716Z
URL:https://www.larevistadelapalma.com/events/presentacion-del-poemario-do
 s-miradas-de-elsa-lopez-con-fotografias-de-cristobal-dorta/
SUMMARY:Presentación del poemario "Dos miradas" de Elsa López (con fotogr
 afías de Cristóbal Dorta)
DESCRIPTION: El libro une las imágenes del fotógrafo tinerfeño\, Crist
 óbal Dorta\, y los textos de la escritora Elsa López.\nSerá en el Saló
 n Noble de la Real Sociedad Cosmológica de Santa Cruz de la Palma el día
  11 de diciembre a las 19:30 horas. Roberto Toledo Palliser presentará a 
 Elsa López acompañada de Cristóbal Dorta en un conversatorio/recital so
 bre esta sinergia entre dos potencias creativas\, donde Elsa acepta la inv
 itación de dar voz poética a las imágenes creadas por Cristóbal\, enso
 ñaciones de la Palma en fotografía y versos.\n\nDe la obra fotográfica 
 de Cristóbal Dorta\, la propia Elsa ha escrito:\n\n“No son fotos que in
 tentan enseñarnos algo nuevo. Es solo la mirada de un hombre en la soleda
 d de su cámara lo que nos muestra una realidad que a veces no vemos porqu
 e pasamos por delante de ella sin querer mirarla. Y es la mirada transform
 adora de un hombre la que nos pone delante de las cosas y nos obliga a con
 templarlas. Es su mirada lo que las hace fascinantes y hermosas en sí mis
 mas. Es su mirada lo que cuenta. No es necesario que contemos una historia
  sobre ellas. No hace falta contarla para saber y entender cómo el mundo 
 y sus maravillosas expresiones se pasean por delante de nuestros ojos. Cri
 stóbal Dorta es como un filtro que nos obliga a mirar lo que tenemos dela
 nte y no vemos”.
ATTACH;FMTTYPE=image/jpeg:https://www.larevistadelapalma.com/wp-content/up
 loads/2024/12/Elsa-Lopez.jpg
CATEGORIES:Cine y Literatura,Literatura
LOCATION:Real Sociedad Cosmológica\, C. Van de Walle\, 6\, Santa Cruz de l
 a Palma\, Santa Cruz de Tenerife\, 38700\, España
GEO:28.683437;-17.765238
X-APPLE-STRUCTURED-LOCATION;VALUE=URI;X-ADDRESS=C. Van de Walle\, 6\, Santa
  Cruz de la Palma\, Santa Cruz de Tenerife\, 38700\, España;X-APPLE-RADIU
 S=100;X-TITLE=Real Sociedad Cosmológica:geo:28.683437,-17.765238
END:VEVENT
END:VCALENDARBEGIN:VCALENDAR
VERSION:2.0
PRODID:-//wp-events-plugin.com//7.2.3.1//EN
TZID:Europe/London
X-WR-TIMEZONE:Europe/London
BEGIN:VEVENT
UID:3471@larevistadelapalma.com
DTSTART:20241211T183000Z
DTEND:20241211T200000Z
DTSTAMP:20241205T162716Z
URL:https://www.larevistadelapalma.com/events/presentacion-del-poemario-do
 s-miradas-de-elsa-lopez-con-fotografias-de-cristobal-dorta/
SUMMARY:Presentación del poemario "Dos miradas" de Elsa López (con fotogr
 afías de Cristóbal Dorta)
DESCRIPTION: El libro une las imágenes del fotógrafo tinerfeño\, Crist
 óbal Dorta\, y los textos de la escritora Elsa López.\nSerá en el Saló
 n Noble de la Real Sociedad Cosmológica de Santa Cruz de la Palma el día
  11 de diciembre a las 19:30 horas. Roberto Toledo Palliser presentará a 
 Elsa López acompañada de Cristóbal Dorta en un conversatorio/recital so
 bre esta sinergia entre dos potencias creativas\, donde Elsa acepta la inv
 itación de dar voz poética a las imágenes creadas por Cristóbal\, enso
 ñaciones de la Palma en fotografía y versos.\n\nDe la obra fotográfica 
 de Cristóbal Dorta\, la propia Elsa ha escrito:\n\n“No son fotos que in
 tentan enseñarnos algo nuevo. Es solo la mirada de un hombre en la soleda
 d de su cámara lo que nos muestra una realidad que a veces no vemos porqu
 e pasamos por delante de ella sin querer mirarla. Y es la mirada transform
 adora de un hombre la que nos pone delante de las cosas y nos obliga a con
 templarlas. Es su mirada lo que las hace fascinantes y hermosas en sí mis
 mas. Es su mirada lo que cuenta. No es necesario que contemos una historia
  sobre ellas. No hace falta contarla para saber y entender cómo el mundo 
 y sus maravillosas expresiones se pasean por delante de nuestros ojos. Cri
 stóbal Dorta es como un filtro que nos obliga a mirar lo que tenemos dela
 nte y no vemos”.
ATTACH;FMTTYPE=image/jpeg:https://www.larevistadelapalma.com/wp-content/up
 loads/2024/12/Elsa-Lopez.jpg
CATEGORIES:Cine y Literatura,Literatura
LOCATION:Real Sociedad Cosmológica\, C. Van de Walle\, 6\, Santa Cruz de l
 a Palma\, Santa Cruz de Tenerife\, 38700\, España
GEO:28.683437;-17.765238
X-APPLE-STRUCTURED-LOCATION;VALUE=URI;X-ADDRESS=C. Van de Walle\, 6\, Santa
  Cruz de la Palma\, Santa Cruz de Tenerife\, 38700\, España;X-APPLE-RADIU
 S=100;X-TITLE=Real Sociedad Cosmológica:geo:28.683437,-17.765238
END:VEVENT
END:VCALENDAR