BEGIN:VCALENDAR
VERSION:2.0
PRODID:-//wp-events-plugin.com//7.2.3.1//EN
TZID:Europe/London
X-WR-TIMEZONE:Europe/London
BEGIN:VEVENT
UID:3287@larevistadelapalma.com
DTSTART:20240927T183000Z
DTEND:20240927T200000Z
DTSTAMP:20240925T222343Z
URL:https://www.larevistadelapalma.com/events/presentacion-del-poemario-no
 madas-de-mauro-sanfiel/
SUMMARY:Presentación del poemario "Nómadas" de Mauro Sanfiel
DESCRIPTION:\nEl próximo viernes 27 de septiembre\, en el Salón Noble de 
 la Real Sociedad Cosmológica\, a las 19:30 tendrá lugar la presentación
  de "Nómadas"\, último libro de Mauro Sanfiel González. 45 historias de
  narrativa poética reflexiva fruto de andar por la vida y del encuentro p
 ersonal.\nPresenta el acto Belén Lorenzo\n\n\nEste poemario es fruto de l
 as emociones captadas en un instante de encuentro personal\, de una tarde 
 en un café\, de una reunión en vacaciones\, una conversación fortuita d
 e pura amistad\, o un acercamiento sorpresa\; dónde aflora la inspiració
 n y las emociones. Ellas han inspirado el instinto creativo del autor y de
  un poema que va a nacer\, o de la narrativa poética. Se convierte así e
 n una obra reflexiva y poética\, dónde va discurriendo el tiempo y el au
 tor crece emocional y anímicamente para incorporar en su haber la sabidur
 ía de cada paso que da en esos encuentros. En pocos versos\, quiere trans
 mitir un mensaje\, como un acta ante notario de ese instante\, para reflej
 ar la emoción de lo vivido\, lo que ocurrió en ese momento\, con buena f
 e y generosidad\, para expresar el amor\, una base moral\, o un reto super
 ado. Es la poesía que cura las almas y las hace amigas\, y las fortalece 
 para toda la vida.\n\nNómadas esta producido en el mismo orden que nacier
 on los poemas\, en ese mismo orden cronológico con que se crearon\; de es
 e modo se puede percibir también la evolución emocional del autor.
ATTACH;FMTTYPE=image/jpeg:https://www.larevistadelapalma.com/wp-content/up
 loads/2024/09/nomadas.jpg
CATEGORIES:Cine y Literatura,Literatura
LOCATION:Real Sociedad Cosmológica\, C. Van de Walle\, 6\, Santa Cruz de l
 a Palma\, Santa Cruz de Tenerife\, 38700\, España
GEO:28.683437;-17.765238
X-APPLE-STRUCTURED-LOCATION;VALUE=URI;X-ADDRESS=C. Van de Walle\, 6\, Santa
  Cruz de la Palma\, Santa Cruz de Tenerife\, 38700\, España;X-APPLE-RADIU
 S=100;X-TITLE=Real Sociedad Cosmológica:geo:28.683437,-17.765238
END:VEVENT
END:VCALENDARBEGIN:VCALENDAR
VERSION:2.0
PRODID:-//wp-events-plugin.com//7.2.3.1//EN
TZID:Europe/London
X-WR-TIMEZONE:Europe/London
BEGIN:VEVENT
UID:3287@larevistadelapalma.com
DTSTART:20240927T183000Z
DTEND:20240927T200000Z
DTSTAMP:20240925T222343Z
URL:https://www.larevistadelapalma.com/events/presentacion-del-poemario-no
 madas-de-mauro-sanfiel/
SUMMARY:Presentación del poemario "Nómadas" de Mauro Sanfiel
DESCRIPTION:\nEl próximo viernes 27 de septiembre\, en el Salón Noble de 
 la Real Sociedad Cosmológica\, a las 19:30 tendrá lugar la presentación
  de "Nómadas"\, último libro de Mauro Sanfiel González. 45 historias de
  narrativa poética reflexiva fruto de andar por la vida y del encuentro p
 ersonal.\nPresenta el acto Belén Lorenzo\n\n\nEste poemario es fruto de l
 as emociones captadas en un instante de encuentro personal\, de una tarde 
 en un café\, de una reunión en vacaciones\, una conversación fortuita d
 e pura amistad\, o un acercamiento sorpresa\; dónde aflora la inspiració
 n y las emociones. Ellas han inspirado el instinto creativo del autor y de
  un poema que va a nacer\, o de la narrativa poética. Se convierte así e
 n una obra reflexiva y poética\, dónde va discurriendo el tiempo y el au
 tor crece emocional y anímicamente para incorporar en su haber la sabidur
 ía de cada paso que da en esos encuentros. En pocos versos\, quiere trans
 mitir un mensaje\, como un acta ante notario de ese instante\, para reflej
 ar la emoción de lo vivido\, lo que ocurrió en ese momento\, con buena f
 e y generosidad\, para expresar el amor\, una base moral\, o un reto super
 ado. Es la poesía que cura las almas y las hace amigas\, y las fortalece 
 para toda la vida.\n\nNómadas esta producido en el mismo orden que nacier
 on los poemas\, en ese mismo orden cronológico con que se crearon\; de es
 e modo se puede percibir también la evolución emocional del autor.
ATTACH;FMTTYPE=image/jpeg:https://www.larevistadelapalma.com/wp-content/up
 loads/2024/09/nomadas.jpg
CATEGORIES:Cine y Literatura,Literatura
LOCATION:Real Sociedad Cosmológica\, C. Van de Walle\, 6\, Santa Cruz de l
 a Palma\, Santa Cruz de Tenerife\, 38700\, España
GEO:28.683437;-17.765238
X-APPLE-STRUCTURED-LOCATION;VALUE=URI;X-ADDRESS=C. Van de Walle\, 6\, Santa
  Cruz de la Palma\, Santa Cruz de Tenerife\, 38700\, España;X-APPLE-RADIU
 S=100;X-TITLE=Real Sociedad Cosmológica:geo:28.683437,-17.765238
END:VEVENT
END:VCALENDAR