BEGIN:VCALENDAR
VERSION:2.0
PRODID:-//wp-events-plugin.com//7.2.3.1//EN
TZID:Europe/London
X-WR-TIMEZONE:Europe/London
BEGIN:VEVENT
UID:3639@larevistadelapalma.com
DTSTART:20250312T183000Z
DTEND:20250312T194500Z
DTSTAMP:20250307T214338Z
URL:https://www.larevistadelapalma.com/events/presentacion-del-trabajo-de-
 restauracion-de-la-fuente-de-la-plaza-de-espana/
SUMMARY:Presentación del trabajo de restauración de la fuente de la Plaza
  de España
DESCRIPTION:Presentación del trabajo de restauración y conservación de l
 a fuente mural del entorno renacentista de la Plaza de España\, un elemen
 to patrimonial de gran valor que ha sido recientemente recuperado. El equi
 po técnico de In Situ Conservación y Restauración compartirá el proces
 o llevado a cabo para devolver a esta pieza histórica su esplendor origin
 al.\n\nSalón Noble de la Real Sociedad Cosmológica
ATTACH;FMTTYPE=image/jpeg:https://www.larevistadelapalma.com/wp-content/up
 loads/2025/03/Restauracion-fuente-Plaza-Espana-Santa-Cruz.jpg
CATEGORIES:Otras propuestas,Varios
LOCATION:Real Sociedad Cosmológica\, C. Van de Walle\, 6\, Santa Cruz de l
 a Palma\, Santa Cruz de Tenerife\, 38700\, España
GEO:28.683437;-17.765238
X-APPLE-STRUCTURED-LOCATION;VALUE=URI;X-ADDRESS=C. Van de Walle\, 6\, Santa
  Cruz de la Palma\, Santa Cruz de Tenerife\, 38700\, España;X-APPLE-RADIU
 S=100;X-TITLE=Real Sociedad Cosmológica:geo:28.683437,-17.765238
END:VEVENT
END:VCALENDARBEGIN:VCALENDAR
VERSION:2.0
PRODID:-//wp-events-plugin.com//7.2.3.1//EN
TZID:Europe/London
X-WR-TIMEZONE:Europe/London
BEGIN:VEVENT
UID:3639@larevistadelapalma.com
DTSTART:20250312T183000Z
DTEND:20250312T194500Z
DTSTAMP:20250307T214338Z
URL:https://www.larevistadelapalma.com/events/presentacion-del-trabajo-de-
 restauracion-de-la-fuente-de-la-plaza-de-espana/
SUMMARY:Presentación del trabajo de restauración de la fuente de la Plaza
  de España
DESCRIPTION:Presentación del trabajo de restauración y conservación de l
 a fuente mural del entorno renacentista de la Plaza de España\, un elemen
 to patrimonial de gran valor que ha sido recientemente recuperado. El equi
 po técnico de In Situ Conservación y Restauración compartirá el proces
 o llevado a cabo para devolver a esta pieza histórica su esplendor origin
 al.\n\nSalón Noble de la Real Sociedad Cosmológica
ATTACH;FMTTYPE=image/jpeg:https://www.larevistadelapalma.com/wp-content/up
 loads/2025/03/Restauracion-fuente-Plaza-Espana-Santa-Cruz.jpg
CATEGORIES:Otras propuestas,Varios
LOCATION:Real Sociedad Cosmológica\, C. Van de Walle\, 6\, Santa Cruz de l
 a Palma\, Santa Cruz de Tenerife\, 38700\, España
GEO:28.683437;-17.765238
X-APPLE-STRUCTURED-LOCATION;VALUE=URI;X-ADDRESS=C. Van de Walle\, 6\, Santa
  Cruz de la Palma\, Santa Cruz de Tenerife\, 38700\, España;X-APPLE-RADIU
 S=100;X-TITLE=Real Sociedad Cosmológica:geo:28.683437,-17.765238
END:VEVENT
END:VCALENDAR