BEGIN:VCALENDAR
VERSION:2.0
PRODID:-//wp-events-plugin.com//7.2.3.1//EN
TZID:Europe/London
X-WR-TIMEZONE:Europe/London
BEGIN:VEVENT
UID:3507@larevistadelapalma.com
DTSTART:20241219T180000Z
DTEND:20241219T193000Z
DTSTAMP:20241216T163418Z
URL:https://www.larevistadelapalma.com/events/presentacion-en-la-palma-de-
 la-bendicion-de-los-mortales-de-marisol-rozo/
SUMMARY:Presentación en La Palma de "La bendición de los mortales"\, de M
 arisol Rozo
DESCRIPTION:Dice en el prólogo de La bendición de los mortales el poeta\,
  ensayista y novelista colombiano William Ospina: “Todo en la poesía de
  Marisol Rozo\, a la vez íntima y de todos\, tiene el arrastre\, el gozo 
 de estos versos que serán cantados”.\n\nHay en los versos de Rozo el co
 nfortable acomodo del regazo\, la mirada curiosa del niño que aprende\, l
 a magia de lo inesperado\, la extrañeza de lo inabarcable. Hay\, en fin\,
  reflexiva y delicada poesía como de amanuense que se lee con el mismo go
 zo con el que se descorcha una fría botella de vino blanco en una caluros
 a noche de verano.\n\nMarisol\, actriz\, dramaturga\, coreógrafa\, direct
 ora y docente. Con su compañía Dragones en el Andamio ha llevado al esce
 nario más de 30 obras. A los 22 años fue publicada en la revista literar
 ia Número (Colombia). Publicó para la editorial de teatro La Avispa (Mad
 rid) Monólogos cortos (1999)\, en el año 2013 publica Mis primeras cuatr
 o estaciones ilustrado por Miguel Carini\, y también hace parte de la ant
 ología 23 narradores colombianos en Europa (2019). Su más reciente libro
  de relatos breves En la noche de los días\, con ilustraciones de Luís F
 ernández está publicado en Kindle Amazon. Actualmente\, continúa sus es
 tudios de Lengua y Literatura Españolas en la UNED.
ATTACH;FMTTYPE=image/jpeg:https://www.larevistadelapalma.com/wp-content/up
 loads/2024/12/Marisol-Rozo-la-bendicion-de-los-mortales.jpg
CATEGORIES:Cine y Literatura,Literatura
LOCATION:Casa principal de Salazar\, Calle Odaly\, 22\, Santa Cruz de La Pa
 lma\, 38700\, España
GEO:28.682275;-17.765795
X-APPLE-STRUCTURED-LOCATION;VALUE=URI;X-ADDRESS=Calle Odaly\, 22\, Santa Cr
 uz de La Palma\, 38700\, España;X-APPLE-RADIUS=100;X-TITLE=Casa principal
  de Salazar:geo:28.682275,-17.765795
END:VEVENT
END:VCALENDARBEGIN:VCALENDAR
VERSION:2.0
PRODID:-//wp-events-plugin.com//7.2.3.1//EN
TZID:Europe/London
X-WR-TIMEZONE:Europe/London
BEGIN:VEVENT
UID:3507@larevistadelapalma.com
DTSTART:20241219T180000Z
DTEND:20241219T193000Z
DTSTAMP:20241216T163418Z
URL:https://www.larevistadelapalma.com/events/presentacion-en-la-palma-de-
 la-bendicion-de-los-mortales-de-marisol-rozo/
SUMMARY:Presentación en La Palma de "La bendición de los mortales"\, de M
 arisol Rozo
DESCRIPTION:Dice en el prólogo de La bendición de los mortales el poeta\,
  ensayista y novelista colombiano William Ospina: “Todo en la poesía de
  Marisol Rozo\, a la vez íntima y de todos\, tiene el arrastre\, el gozo 
 de estos versos que serán cantados”.\n\nHay en los versos de Rozo el co
 nfortable acomodo del regazo\, la mirada curiosa del niño que aprende\, l
 a magia de lo inesperado\, la extrañeza de lo inabarcable. Hay\, en fin\,
  reflexiva y delicada poesía como de amanuense que se lee con el mismo go
 zo con el que se descorcha una fría botella de vino blanco en una caluros
 a noche de verano.\n\nMarisol\, actriz\, dramaturga\, coreógrafa\, direct
 ora y docente. Con su compañía Dragones en el Andamio ha llevado al esce
 nario más de 30 obras. A los 22 años fue publicada en la revista literar
 ia Número (Colombia). Publicó para la editorial de teatro La Avispa (Mad
 rid) Monólogos cortos (1999)\, en el año 2013 publica Mis primeras cuatr
 o estaciones ilustrado por Miguel Carini\, y también hace parte de la ant
 ología 23 narradores colombianos en Europa (2019). Su más reciente libro
  de relatos breves En la noche de los días\, con ilustraciones de Luís F
 ernández está publicado en Kindle Amazon. Actualmente\, continúa sus es
 tudios de Lengua y Literatura Españolas en la UNED.
ATTACH;FMTTYPE=image/jpeg:https://www.larevistadelapalma.com/wp-content/up
 loads/2024/12/Marisol-Rozo-la-bendicion-de-los-mortales.jpg
CATEGORIES:Cine y Literatura,Literatura
LOCATION:Casa principal de Salazar\, Calle Odaly\, 22\, Santa Cruz de La Pa
 lma\, 38700\, España
GEO:28.682275;-17.765795
X-APPLE-STRUCTURED-LOCATION;VALUE=URI;X-ADDRESS=Calle Odaly\, 22\, Santa Cr
 uz de La Palma\, 38700\, España;X-APPLE-RADIUS=100;X-TITLE=Casa principal
  de Salazar:geo:28.682275,-17.765795
END:VEVENT
END:VCALENDAR